{"text_format":"1","workbook":"xlsx","n_sheets":7,"sheets":["APS60M 入力発表","10mS60MW 入力発表","10mS60MWFINAL","10mS60MW 団体","10m3x20MW 入力発表","10mDPS40MW 入力発表","10mP60MW 入力発表"],"not_rendered":{"charts":0,"images":0,"macros":1,"external_links":0,"defined_names":6,"comments":0,"pivot_tables":0},"unopened":[],"bounds":{"document_bytes":16777216,"sheet_cells":100000,"rows_first":2000,"rows_last":500,"rows_between":2000,"halvings":0,"cell_chars":16384,"cell_head_chars":4096},"cells_cut":0,"cells_raw":0,"read":"whole","date_system":"1900"}

{"sheet":"APS60M 入力発表","index":0,"n_rows":298,"n_cols":16,"rows_kept":298,"cut":false,"hidden":false,"merged":[]}
["順位","射群","射座","名　前","学校名","S１","S２","S３","S４","S５","S６","合 計","X","備考"]
[1,"ア",2,"菅原 康之","京都大学",90,89,87,89,92,88,535,10]
[2,"ア",1,"伊場 勇気","立命館大学",95,83,82,79,82,83,504,3]
[null,null,null,null,null,null,null,null,null,null,null,{"$f":"IF($D4=\"\",\"\",SUM(F4,G4,H4,I4,J4,K4))","v":""},{"$f":"IF($D4=\"\",\"\",SUM(#REF!,#REF!,#REF!,#REF!,#REF!,#REF!))","v":""},null,null,{"$f":"IF(D4=\"\",\"\",F4*1+G4*10^2+H4*10^4+I4*10^6+J4*10^8+K4*10^10+M4*10^12+L4*10^14)","v":""}]
[null,null,null,null,null,null,null,null,null,null,null,"",{"$f":"IF($D5=\"\",\"\",SUM(#REF!,#REF!,#REF!,#REF!,#REF!,#REF!))","v":""},null,null,""]
[null,null,null,null,null,null,null,null,null,null,null,"",{"$f":"IF($D6=\"\",\"\",SUM(#REF!,#REF!,#REF!,#REF!,#REF!,#REF!))","v":""},null,null,""]
[null,null,null,null,null,null,null,null,null,null,null,"",{"$f":"IF($D7=\"\",\"\",SUM(#REF!,#REF!,#REF!,#REF!,#REF!,#REF!))","v":""},null,null,""]
[null,null,null,null,null,null,null,null,null,null,null,"",{"$f":"IF($D8=\"\",\"\",SUM(#REF!,#REF!,#REF!,#REF!,#REF!,#REF!))","v":""},null,null,""]
[null,null,null,null,null,null,null,null,null,null,null,"",{"$f":"IF($D9=\"\",\"\",SUM(#REF!,#REF!,#REF!,#REF!,#REF!,#REF!))","v":""},null,null,""]
[null,null,null,null,null,null,null,null,null,null,null,"",{"$f":"IF($D10=\"\",\"\",SUM(#REF!,#REF!,#REF!,#REF!,#REF!,#REF!))","v":""},null,null,""]
[null,null,null,null,null,null,null,null,null,null,null,"",{"$f":"IF($D11=\"\",\"\",SUM(#REF!,#REF!,#REF!,#REF!,#REF!,#REF!))","v":""},null,null,""]
[null,null,null,null,null,null,null,null,null,null,null,"",{"$f":"IF($D12=\"\",\"\",SUM(#REF!,#REF!,#REF!,#REF!,#REF!,#REF!))","v":""},null,null,""]
[null,null,null,null,null,null,null,null,null,null,null,"",{"$f":"IF($D13=\"\",\"\",SUM(#REF!,#REF!,#REF!,#REF!,#REF!,#REF!))","v":""},null,null,""]
[null,null,null,null,null,null,null,null,null,null,null,"",{"$f":"IF($D14=\"\",\"\",SUM(#REF!,#REF!,#REF!,#REF!,#REF!,#REF!))","v":""},null,null,""]
[null,null,null,null,null,null,null,null,null,null,null,"",{"$f":"IF($D15=\"\",\"\",SUM(#REF!,#REF!,#REF!,#REF!,#REF!,#REF!))","v":""},null,null,""]
[null,null,null,null,null,null,null,null,null,null,null,"",{"$f":"IF($D16=\"\",\"\",SUM(#REF!,#REF!,#REF!,#REF!,#REF!,#REF!))","v":""},null,null,""]
[null,null,null,null,null,null,null,null,null,null,null,"",{"$f":"IF($D17=\"\",\"\",SUM(#REF!,#REF!,#REF!,#REF!,#REF!,#REF!))","v":""},null,null,""]
[null,null,null,null,null,null,null,null,null,null,null,"",{"$f":"IF($D18=\"\",\"\",SUM(#REF!,#REF!,#REF!,#REF!,#REF!,#REF!))","v":""},null,null,""]
[null,null,null,null,null,null,null,null,null,null,null,"",{"$f":"IF($D19=\"\",\"\",SUM(#REF!,#REF!,#REF!,#REF!,#REF!,#REF!))","v":""},null,null,""]
[null,null,null,null,null,null,null,null,null,null,null,"",{"$f":"IF($D20=\"\",\"\",SUM(#REF!,#REF!,#REF!,#REF!,#REF!,#REF!))","v":""},null,null,""]
[null,null,null,null,null,null,null,null,null,null,null,"",{"$f":"IF($D21=\"\",\"\",SUM(#REF!,#REF!,#REF!,#REF!,#REF!,#REF!))","v":""},null,null,""]
[null,null,null,null,null,null,null,null,null,null,null,"",{"$f":"IF($D22=\"\",\"\",SUM(#REF!,#REF!,#REF!,#REF!,#REF!,#REF!))","v":""},null,null,""]
[null,null,null,null,null,null,null,null,null,null,null,"",{"$f":"IF($D23=\"\",\"\",SUM(#REF!,#REF!,#REF!,#REF!,#REF!,#REF!))","v":""},null,null,""]
[null,null,null,null,null,null,null,null,null,null,null,"",{"$f":"IF($D24=\"\",\"\",SUM(#REF!,#REF!,#REF!,#REF!,#REF!,#REF!))","v":""},null,null,""]
[null,null,null,null,null,null,null,null,null,null,null,"",{"$f":"IF($D25=\"\",\"\",SUM(#REF!,#REF!,#REF!,#REF!,#REF!,#REF!))","v":""},null,null,""]
[null,null,null,null,null,null,null,null,null,null,null,"",{"$f":"IF($D26=\"\",\"\",SUM(#REF!,#REF!,#REF!,#REF!,#REF!,#REF!))","v":""},null,null,""]
[null,null,null,null,null,null,null,null,null,null,null,"",{"$f":"IF($D27=\"\",\"\",SUM(#REF!,#REF!,#REF!,#REF!,#REF!,#REF!))","v":""},null,null,""]
[null,null,null,null,null,null,null,null,null,null,null,"",{"$f":"IF($D28=\"\",\"\",SUM(#REF!,#REF!,#REF!,#REF!,#REF!,#REF!))","v":""},null,null,""]
[null,null,null,null,null,null,null,null,null,null,null,"",{"$f":"IF($D29=\"\",\"\",SUM(#REF!,#REF!,#REF!,#REF!,#REF!,#REF!))","v":""},null,null,""]
[null,null,null,null,null,null,null,null,null,null,null,"",{"$f":"IF($D30=\"\",\"\",SUM(#REF!,#REF!,#REF!,#REF!,#REF!,#REF!))","v":""},null,null,""]
[null,null,null,null,null,null,null,null,null,null,null,"",{"$f":"IF($D31=\"\",\"\",SUM(#REF!,#REF!,#REF!,#REF!,#REF!,#REF!))","v":""},null,null,""]
[null,null,null,null,null,null,null,null,null,null,null,"",{"$f":"IF($D32=\"\",\"\",SUM(#REF!,#REF!,#REF!,#REF!,#REF!,#REF!))","v":""},null,null,""]
[null,null,null,null,null,null,null,null,null,null,null,"",{"$f":"IF($D33=\"\",\"\",SUM(#REF!,#REF!,#REF!,#REF!,#REF!,#REF!))","v":""},null,null,""]
[null,null,null,null,null,null,null,null,null,null,null,"",{"$f":"IF($D34=\"\",\"\",SUM(#REF!,#REF!,#REF!,#REF!,#REF!,#REF!))","v":""},null,null,""]
[null,null,null,null,null,null,null,null,null,null,null,"",{"$f":"IF($D35=\"\",\"\",SUM(#REF!,#REF!,#REF!,#REF!,#REF!,#REF!))","v":""},null,null,""]
[null,null,null,null,null,null,null,null,null,null,null,"",{"$f":"IF($D36=\"\",\"\",SUM(#REF!,#REF!,#REF!,#REF!,#REF!,#REF!))","v":""},null,null,""]
[null,null,null,null,null,null,null,null,null,null,null,"",{"$f":"IF($D37=\"\",\"\",SUM(#REF!,#REF!,#REF!,#REF!,#REF!,#REF!))","v":""},null,null,""]
[null,null,null,null,null,null,null,null,null,null,null,"",{"$f":"IF($D38=\"\",\"\",SUM(#REF!,#REF!,#REF!,#REF!,#REF!,#REF!))","v":""},null,null,""]
[null,null,null,null,null,null,null,null,null,null,null,"",{"$f":"IF($D39=\"\",\"\",SUM(#REF!,#REF!,#REF!,#REF!,#REF!,#REF!))","v":""},null,null,""]
[null,null,null,null,null,null,null,null,null,null,null,"",{"$f":"IF($D40=\"\",\"\",SUM(#REF!,#REF!,#REF!,#REF!,#REF!,#REF!))","v":""},null,null,""]
[null,null,null,null,null,null,null,null,null,null,null,"",{"$f":"IF($D41=\"\",\"\",SUM(#REF!,#REF!,#REF!,#REF!,#REF!,#REF!))","v":""},null,null,""]
[null,null,null,null,null,null,null,null,null,null,null,"",{"$f":"IF($D42=\"\",\"\",SUM(#REF!,#REF!,#REF!,#REF!,#REF!,#REF!))","v":""},null,null,""]
[null,null,null,null,null,null,null,null,null,null,null,"",{"$f":"IF($D43=\"\",\"\",SUM(#REF!,#REF!,#REF!,#REF!,#REF!,#REF!))","v":""},null,null,""]
[null,null,null,null,null,null,null,null,null,null,null,"",{"$f":"IF($D44=\"\",\"\",SUM(#REF!,#REF!,#REF!,#REF!,#REF!,#REF!))","v":""},null,null,""]
[null,null,null,null,null,null,null,null,null,null,null,"",{"$f":"IF($D45=\"\",\"\",SUM(#REF!,#REF!,#REF!,#REF!,#REF!,#REF!))","v":""},null,null,""]
[null,null,null,null,null,null,null,null,null,null,null,"",{"$f":"IF($D46=\"\",\"\",SUM(#REF!,#REF!,#REF!,#REF!,#REF!,#REF!))","v":""},null,null,""]
[null,null,null,null,null,null,null,null,null,null,null,"",{"$f":"IF($D47=\"\",\"\",SUM(#REF!,#REF!,#REF!,#REF!,#REF!,#REF!))","v":""},null,null,""]
[null,null,null,null,null,null,null,null,null,null,null,"",{"$f":"IF($D48=\"\",\"\",SUM(#REF!,#REF!,#REF!,#REF!,#REF!,#REF!))","v":""},null,null,""]
[null,null,null,null,null,null,null,null,null,null,null,"",{"$f":"IF($D49=\"\",\"\",SUM(#REF!,#REF!,#REF!,#REF!,#REF!,#REF!))","v":""},null,null,""]
[null,null,null,null,null,null,null,null,null,null,null,"",{"$f":"IF($D50=\"\",\"\",SUM(#REF!,#REF!,#REF!,#REF!,#REF!,#REF!))","v":""},null,null,""]
[null,null,null,null,null,null,null,null,null,null,null,"",{"$f":"IF($D51=\"\",\"\",SUM(#REF!,#REF!,#REF!,#REF!,#REF!,#REF!))","v":""},null,null,""]
[null,null,null,null,null,null,null,null,null,null,null,"",{"$f":"IF($D52=\"\",\"\",SUM(#REF!,#REF!,#REF!,#REF!,#REF!,#REF!))","v":""},null,null,""]
[null,null,null,null,null,null,null,null,null,null,null,"",{"$f":"IF($D53=\"\",\"\",SUM(#REF!,#REF!,#REF!,#REF!,#REF!,#REF!))","v":""},null,null,""]
[null,null,null,null,null,null,null,null,null,null,null,"",{"$f":"IF($D54=\"\",\"\",SUM(#REF!,#REF!,#REF!,#REF!,#REF!,#REF!))","v":""},null,null,""]
[null,null,null,null,null,null,null,null,null,null,null,"",{"$f":"IF($D55=\"\",\"\",SUM(#REF!,#REF!,#REF!,#REF!,#REF!,#REF!))","v":""},null,null,""]
[null,null,null,null,null,null,null,null,null,null,null,"",{"$f":"IF($D56=\"\",\"\",SUM(#REF!,#REF!,#REF!,#REF!,#REF!,#REF!))","v":""},null,null,""]
[null,null,null,null,null,null,null,null,null,null,null,"",{"$f":"IF($D57=\"\",\"\",SUM(#REF!,#REF!,#REF!,#REF!,#REF!,#REF!))","v":""},null,null,""]
[null,null,null,null,null,null,null,null,null,null,null,"",{"$f":"IF($D58=\"\",\"\",SUM(#REF!,#REF!,#REF!,#REF!,#REF!,#REF!))","v":""},null,null,""]
[null,null,null,null,null,null,null,null,null,null,null,"",{"$f":"IF($D59=\"\",\"\",SUM(#REF!,#REF!,#REF!,#REF!,#REF!,#REF!))","v":""},null,null,""]
[null,null,null,null,null,null,null,null,null,null,null,"",{"$f":"IF($D60=\"\",\"\",SUM(#REF!,#REF!,#REF!,#REF!,#REF!,#REF!))","v":""},null,null,""]
[null,null,null,null,null,null,null,null,null,null,null,"",{"$f":"IF($D61=\"\",\"\",SUM(#REF!,#REF!,#REF!,#REF!,#REF!,#REF!))","v":""},null,null,""]
[null,null,null,null,null,null,null,null,null,null,null,"",{"$f":"IF($D62=\"\",\"\",SUM(#REF!,#REF!,#REF!,#REF!,#REF!,#REF!))","v":""},null,null,""]
[null,null,null,null,null,null,null,null,null,null,null,"",{"$f":"IF($D63=\"\",\"\",SUM(#REF!,#REF!,#REF!,#REF!,#REF!,#REF!))","v":""},null,null,""]
[null,null,null,null,null,null,null,null,null,null,null,"",{"$f":"IF($D64=\"\",\"\",SUM(#REF!,#REF!,#REF!,#REF!,#REF!,#REF!))","v":""},null,null,""]
[null,null,null,null,null,null,null,null,null,null,null,"",{"$f":"IF($D65=\"\",\"\",SUM(#REF!,#REF!,#REF!,#REF!,#REF!,#REF!))","v":""},null,null,""]
[null,null,null,null,null,null,null,null,null,null,null,"",{"$f":"IF($D66=\"\",\"\",SUM(#REF!,#REF!,#REF!,#REF!,#REF!,#REF!))","v":""},null,null,""]
[null,null,null,null,null,null,null,null,null,null,null,"",{"$f":"IF($D67=\"\",\"\",SUM(#REF!,#REF!,#REF!,#REF!,#REF!,#REF!))","v":""},null,null,""]
[null,null,null,null,null,null,null,null,null,null,null,{"$f":"IF($D68=\"\",\"\",SUM(F68,G68,H68,I68,J68,K68))","v":""},{"$f":"IF($D68=\"\",\"\",SUM(#REF!,#REF!,#REF!,#REF!,#REF!,#REF!))","v":""},null,null,{"$f":"IF(D68=\"\",\"\",F68*1+G68*10^2+H68*10^4+I68*10^6+J68*10^8+K68*10^10+M68*10^12+L68*10^14)","v":""}]
[null,null,null,null,null,null,null,null,null,null,null,"",{"$f":"IF($D69=\"\",\"\",SUM(#REF!,#REF!,#REF!,#REF!,#REF!,#REF!))","v":""},null,null,""]
[null,null,null,null,null,null,null,null,null,null,null,"",{"$f":"IF($D70=\"\",\"\",SUM(#REF!,#REF!,#REF!,#REF!,#REF!,#REF!))","v":""},null,null,""]
[null,null,null,null,null,null,null,null,null,null,null,"",{"$f":"IF($D71=\"\",\"\",SUM(#REF!,#REF!,#REF!,#REF!,#REF!,#REF!))","v":""},null,null,""]
[null,null,null,null,null,null,null,null,null,null,null,"",{"$f":"IF($D72=\"\",\"\",SUM(#REF!,#REF!,#REF!,#REF!,#REF!,#REF!))","v":""},null,null,""]
[null,null,null,null,null,null,null,null,null,null,null,"",{"$f":"IF($D73=\"\",\"\",SUM(#REF!,#REF!,#REF!,#REF!,#REF!,#REF!))","v":""},null,null,""]
[null,null,null,null,null,null,null,null,null,null,null,"",{"$f":"IF($D74=\"\",\"\",SUM(#REF!,#REF!,#REF!,#REF!,#REF!,#REF!))","v":""},null,null,""]
[null,null,null,null,null,null,null,null,null,null,null,"",{"$f":"IF($D75=\"\",\"\",SUM(#REF!,#REF!,#REF!,#REF!,#REF!,#REF!))","v":""},null,null,""]
[null,null,null,null,null,null,null,null,null,null,null,"",{"$f":"IF($D76=\"\",\"\",SUM(#REF!,#REF!,#REF!,#REF!,#REF!,#REF!))","v":""},null,null,""]
[null,null,null,null,null,null,null,null,null,null,null,"",{"$f":"IF($D77=\"\",\"\",SUM(#REF!,#REF!,#REF!,#REF!,#REF!,#REF!))","v":""},null,null,""]
[null,null,null,null,null,null,null,null,null,null,null,"",{"$f":"IF($D78=\"\",\"\",SUM(#REF!,#REF!,#REF!,#REF!,#REF!,#REF!))","v":""},null,null,""]
[null,null,null,null,null,null,null,null,null,null,null,"",{"$f":"IF($D79=\"\",\"\",SUM(#REF!,#REF!,#REF!,#REF!,#REF!,#REF!))","v":""},null,null,""]
[null,null,null,null,null,null,null,null,null,null,null,"",{"$f":"IF($D80=\"\",\"\",SUM(#REF!,#REF!,#REF!,#REF!,#REF!,#REF!))","v":""},null,null,""]
[null,null,null,null,null,null,null,null,null,null,null,"",{"$f":"IF($D81=\"\",\"\",SUM(#REF!,#REF!,#REF!,#REF!,#REF!,#REF!))","v":""},null,null,""]
[null,null,null,null,null,null,null,null,null,null,null,"",{"$f":"IF($D82=\"\",\"\",SUM(#REF!,#REF!,#REF!,#REF!,#REF!,#REF!))","v":""},null,null,""]
[null,null,null,null,null,null,null,null,null,null,null,"",{"$f":"IF($D83=\"\",\"\",SUM(#REF!,#REF!,#REF!,#REF!,#REF!,#REF!))","v":""},null,null,""]
[null,null,null,null,null,null,null,null,null,null,null,"",{"$f":"IF($D84=\"\",\"\",SUM(#REF!,#REF!,#REF!,#REF!,#REF!,#REF!))","v":""},null,null,""]
[null,null,null,null,null,null,null,null,null,null,null,"",{"$f":"IF($D85=\"\",\"\",SUM(#REF!,#REF!,#REF!,#REF!,#REF!,#REF!))","v":""},null,null,""]
[null,null,null,null,null,null,null,null,null,null,null,"",{"$f":"IF($D86=\"\",\"\",SUM(#REF!,#REF!,#REF!,#REF!,#REF!,#REF!))","v":""},null,null,""]
[null,null,null,null,null,null,null,null,null,null,null,"",{"$f":"IF($D87=\"\",\"\",SUM(#REF!,#REF!,#REF!,#REF!,#REF!,#REF!))","v":""},null,null,""]
[null,null,null,null,null,null,null,null,null,null,null,"",{"$f":"IF($D88=\"\",\"\",SUM(#REF!,#REF!,#REF!,#REF!,#REF!,#REF!))","v":""},null,null,""]
[null,null,null,null,null,null,null,null,null,null,null,"",{"$f":"IF($D89=\"\",\"\",SUM(#REF!,#REF!,#REF!,#REF!,#REF!,#REF!))","v":""},null,null,""]
[null,null,null,null,null,null,null,null,null,null,null,"",{"$f":"IF($D90=\"\",\"\",SUM(#REF!,#REF!,#REF!,#REF!,#REF!,#REF!))","v":""},null,null,""]
[null,null,null,null,null,null,null,null,null,null,null,"",{"$f":"IF($D91=\"\",\"\",SUM(#REF!,#REF!,#REF!,#REF!,#REF!,#REF!))","v":""},null,null,""]
[null,null,null,null,null,null,null,null,null,null,null,"",{"$f":"IF($D92=\"\",\"\",SUM(#REF!,#REF!,#REF!,#REF!,#REF!,#REF!))","v":""},null,null,""]
[null,null,null,null,null,null,null,null,null,null,null,"",{"$f":"IF($D93=\"\",\"\",SUM(#REF!,#REF!,#REF!,#REF!,#REF!,#REF!))","v":""},null,null,""]
[null,null,null,null,null,null,null,null,null,null,null,"",{"$f":"IF($D94=\"\",\"\",SUM(#REF!,#REF!,#REF!,#REF!,#REF!,#REF!))","v":""},null,null,""]
[null,null,null,null,null,null,null,null,null,null,null,"",{"$f":"IF($D95=\"\",\"\",SUM(#REF!,#REF!,#REF!,#REF!,#REF!,#REF!))","v":""},null,null,""]
[null,null,null,null,null,null,null,null,null,null,null,"",{"$f":"IF($D96=\"\",\"\",SUM(#REF!,#REF!,#REF!,#REF!,#REF!,#REF!))","v":""},null,null,""]
[null,null,null,null,null,null,null,null,null,null,null,"",{"$f":"IF($D97=\"\",\"\",SUM(#REF!,#REF!,#REF!,#REF!,#REF!,#REF!))","v":""},null,null,""]
[null,null,null,null,null,null,null,null,null,null,null,"",{"$f":"IF($D98=\"\",\"\",SUM(#REF!,#REF!,#REF!,#REF!,#REF!,#REF!))","v":""},null,null,""]
[null,null,null,null,null,null,null,null,null,null,null,"",{"$f":"IF($D99=\"\",\"\",SUM(#REF!,#REF!,#REF!,#REF!,#REF!,#REF!))","v":""},null,null,""]
[null,null,null,null,null,null,null,null,null,null,null,"",{"$f":"IF($D100=\"\",\"\",SUM(#REF!,#REF!,#REF!,#REF!,#REF!,#REF!))","v":""},null,null,""]
[null,null,null,null,null,null,null,null,null,null,null,"",{"$f":"IF($D101=\"\",\"\",SUM(#REF!,#REF!,#REF!,#REF!,#REF!,#REF!))","v":""},null,null,""]
[null,null,null,null,null,null,null,null,null,null,null,"",{"$f":"IF($D102=\"\",\"\",SUM(#REF!,#REF!,#REF!,#REF!,#REF!,#REF!))","v":""},null,null,""]
[null,null,null,null,null,null,null,null,null,null,null,"",{"$f":"IF($D103=\"\",\"\",SUM(#REF!,#REF!,#REF!,#REF!,#REF!,#REF!))","v":""},null,null,""]
[null,null,null,null,null,null,null,null,null,null,null,"",{"$f":"IF($D104=\"\",\"\",SUM(#REF!,#REF!,#REF!,#REF!,#REF!,#REF!))","v":""},null,null,""]
[null,null,null,null,null,null,null,null,null,null,null,"",{"$f":"IF($D105=\"\",\"\",SUM(#REF!,#REF!,#REF!,#REF!,#REF!,#REF!))","v":""},null,null,""]
[null,null,null,null,null,null,null,null,null,null,null,"",{"$f":"IF($D106=\"\",\"\",SUM(#REF!,#REF!,#REF!,#REF!,#REF!,#REF!))","v":""},null,null,""]
[null,null,null,null,null,null,null,null,null,null,null,"",{"$f":"IF($D107=\"\",\"\",SUM(#REF!,#REF!,#REF!,#REF!,#REF!,#REF!))","v":""},null,null,""]
[null,null,null,null,null,null,null,null,null,null,null,"",{"$f":"IF($D108=\"\",\"\",SUM(#REF!,#REF!,#REF!,#REF!,#REF!,#REF!))","v":""},null,null,""]
[null,null,null,null,null,null,null,null,null,null,null,"",{"$f":"IF($D109=\"\",\"\",SUM(#REF!,#REF!,#REF!,#REF!,#REF!,#REF!))","v":""},null,null,""]
[null,null,null,null,null,null,null,null,null,null,null,"",{"$f":"IF($D110=\"\",\"\",SUM(#REF!,#REF!,#REF!,#REF!,#REF!,#REF!))","v":""},null,null,""]
[null,null,null,null,null,null,null,null,null,null,null,"",{"$f":"IF($D111=\"\",\"\",SUM(#REF!,#REF!,#REF!,#REF!,#REF!,#REF!))","v":""},null,null,""]
[null,null,null,null,null,null,null,null,null,null,null,"",{"$f":"IF($D112=\"\",\"\",SUM(#REF!,#REF!,#REF!,#REF!,#REF!,#REF!))","v":""},null,null,""]
[null,null,null,null,null,null,null,null,null,null,null,"",{"$f":"IF($D113=\"\",\"\",SUM(#REF!,#REF!,#REF!,#REF!,#REF!,#REF!))","v":""},null,null,""]
[null,null,null,null,null,null,null,null,null,null,null,"",{"$f":"IF($D114=\"\",\"\",SUM(#REF!,#REF!,#REF!,#REF!,#REF!,#REF!))","v":""},null,null,""]
[null,null,null,null,null,null,null,null,null,null,null,"",{"$f":"IF($D115=\"\",\"\",SUM(#REF!,#REF!,#REF!,#REF!,#REF!,#REF!))","v":""},null,null,""]
[null,null,null,null,null,null,null,null,null,null,null,"",{"$f":"IF($D116=\"\",\"\",SUM(#REF!,#REF!,#REF!,#REF!,#REF!,#REF!))","v":""},null,null,""]
[null,null,null,null,null,null,null,null,null,null,null,"",{"$f":"IF($D117=\"\",\"\",SUM(#REF!,#REF!,#REF!,#REF!,#REF!,#REF!))","v":""},null,null,""]
[null,null,null,null,null,null,null,null,null,null,null,"",{"$f":"IF($D118=\"\",\"\",SUM(#REF!,#REF!,#REF!,#REF!,#REF!,#REF!))","v":""},null,null,""]
[null,null,null,null,null,null,null,null,null,null,null,"",{"$f":"IF($D119=\"\",\"\",SUM(#REF!,#REF!,#REF!,#REF!,#REF!,#REF!))","v":""},null,null,""]
[null,null,null,null,null,null,null,null,null,null,null,"",{"$f":"IF($D120=\"\",\"\",SUM(#REF!,#REF!,#REF!,#REF!,#REF!,#REF!))","v":""},null,null,""]
[null,null,null,null,null,null,null,null,null,null,null,"",{"$f":"IF($D121=\"\",\"\",SUM(#REF!,#REF!,#REF!,#REF!,#REF!,#REF!))","v":""},null,null,""]
[null,null,null,null,null,null,null,null,null,null,null,"",{"$f":"IF($D122=\"\",\"\",SUM(#REF!,#REF!,#REF!,#REF!,#REF!,#REF!))","v":""},null,null,""]
[null,null,null,null,null,null,null,null,null,null,null,"",{"$f":"IF($D123=\"\",\"\",SUM(#REF!,#REF!,#REF!,#REF!,#REF!,#REF!))","v":""},null,null,""]
[null,null,null,null,null,null,null,null,null,null,null,"",{"$f":"IF($D124=\"\",\"\",SUM(#REF!,#REF!,#REF!,#REF!,#REF!,#REF!))","v":""},null,null,""]
[null,null,null,null,null,null,null,null,null,null,null,"",{"$f":"IF($D125=\"\",\"\",SUM(#REF!,#REF!,#REF!,#REF!,#REF!,#REF!))","v":""},null,null,""]
[null,null,null,null,null,null,null,null,null,null,null,"",{"$f":"IF($D126=\"\",\"\",SUM(#REF!,#REF!,#REF!,#REF!,#REF!,#REF!))","v":""},null,null,""]
[null,null,null,null,null,null,null,null,null,null,null,"",{"$f":"IF($D127=\"\",\"\",SUM(#REF!,#REF!,#REF!,#REF!,#REF!,#REF!))","v":""},null,null,""]
[null,null,null,null,null,null,null,null,null,null,null,"",{"$f":"IF($D128=\"\",\"\",SUM(#REF!,#REF!,#REF!,#REF!,#REF!,#REF!))","v":""},null,null,""]
[null,null,null,null,null,null,null,null,null,null,null,"",{"$f":"IF($D129=\"\",\"\",SUM(#REF!,#REF!,#REF!,#REF!,#REF!,#REF!))","v":""},null,null,""]
[null,null,null,null,null,null,null,null,null,null,null,"",{"$f":"IF($D130=\"\",\"\",SUM(#REF!,#REF!,#REF!,#REF!,#REF!,#REF!))","v":""},null,null,""]
[null,null,null,null,null,null,null,null,null,null,null,"",{"$f":"IF($D131=\"\",\"\",SUM(#REF!,#REF!,#REF!,#REF!,#REF!,#REF!))","v":""},null,null,""]
[null,null,null,null,null,null,null,null,null,null,null,{"$f":"IF($D132=\"\",\"\",SUM(F132,G132,H132,I132,J132,K132))","v":""},{"$f":"IF($D132=\"\",\"\",SUM(#REF!,#REF!,#REF!,#REF!,#REF!,#REF!))","v":""},null,null,{"$f":"IF(D132=\"\",\"\",F132*1+G132*10^2+H132*10^4+I132*10^6+J132*10^8+K132*10^10+M132*10^12+L132*10^14)","v":""}]
[null,null,null,null,null,null,null,null,null,null,null,"",{"$f":"IF($D133=\"\",\"\",SUM(#REF!,#REF!,#REF!,#REF!,#REF!,#REF!))","v":""},null,null,""]
[null,null,null,null,null,null,null,null,null,null,null,"",{"$f":"IF($D134=\"\",\"\",SUM(#REF!,#REF!,#REF!,#REF!,#REF!,#REF!))","v":""},null,null,""]
[null,null,null,null,null,null,null,null,null,null,null,"",{"$f":"IF($D135=\"\",\"\",SUM(#REF!,#REF!,#REF!,#REF!,#REF!,#REF!))","v":""},null,null,""]
[null,null,null,null,null,null,null,null,null,null,null,"",{"$f":"IF($D136=\"\",\"\",SUM(#REF!,#REF!,#REF!,#REF!,#REF!,#REF!))","v":""},null,null,""]
[null,null,null,null,null,null,null,null,null,null,null,"",{"$f":"IF($D137=\"\",\"\",SUM(#REF!,#REF!,#REF!,#REF!,#REF!,#REF!))","v":""},null,null,""]
[null,null,null,null,null,null,null,null,null,null,null,"",{"$f":"IF($D138=\"\",\"\",SUM(#REF!,#REF!,#REF!,#REF!,#REF!,#REF!))","v":""},null,null,""]
[null,null,null,null,null,null,null,null,null,null,null,"",{"$f":"IF($D139=\"\",\"\",SUM(#REF!,#REF!,#REF!,#REF!,#REF!,#REF!))","v":""},null,null,""]
[null,null,null,null,null,null,null,null,null,null,null,"",{"$f":"IF($D140=\"\",\"\",SUM(#REF!,#REF!,#REF!,#REF!,#REF!,#REF!))","v":""},null,null,""]
[null,null,null,null,null,null,null,null,null,null,null,"",{"$f":"IF($D141=\"\",\"\",SUM(#REF!,#REF!,#REF!,#REF!,#REF!,#REF!))","v":""},null,null,""]
[null,null,null,null,null,null,null,null,null,null,null,"",{"$f":"IF($D142=\"\",\"\",SUM(#REF!,#REF!,#REF!,#REF!,#REF!,#REF!))","v":""},null,null,""]
[null,null,null,null,null,null,null,null,null,null,null,"",{"$f":"IF($D143=\"\",\"\",SUM(#REF!,#REF!,#REF!,#REF!,#REF!,#REF!))","v":""},null,null,""]
[null,null,null,null,null,null,null,null,null,null,null,"",{"$f":"IF($D144=\"\",\"\",SUM(#REF!,#REF!,#REF!,#REF!,#REF!,#REF!))","v":""},null,null,""]
[null,null,null,null,null,null,null,null,null,null,null,"",{"$f":"IF($D145=\"\",\"\",SUM(#REF!,#REF!,#REF!,#REF!,#REF!,#REF!))","v":""},null,null,""]
[null,null,null,null,null,null,null,null,null,null,null,"",{"$f":"IF($D146=\"\",\"\",SUM(#REF!,#REF!,#REF!,#REF!,#REF!,#REF!))","v":""},null,null,""]
[null,null,null,null,null,null,null,null,null,null,null,"",{"$f":"IF($D147=\"\",\"\",SUM(#REF!,#REF!,#REF!,#REF!,#REF!,#REF!))","v":""},null,null,""]
[null,null,null,null,null,null,null,null,null,null,null,"",{"$f":"IF($D148=\"\",\"\",SUM(#REF!,#REF!,#REF!,#REF!,#REF!,#REF!))","v":""},null,null,""]
[null,null,null,null,null,null,null,null,null,null,null,"",{"$f":"IF($D149=\"\",\"\",SUM(#REF!,#REF!,#REF!,#REF!,#REF!,#REF!))","v":""},null,null,""]
[null,null,null,null,null,null,null,null,null,null,null,"",{"$f":"IF($D150=\"\",\"\",SUM(#REF!,#REF!,#REF!,#REF!,#REF!,#REF!))","v":""},null,null,""]
[null,null,null,null,null,null,null,null,null,null,null,"",{"$f":"IF($D151=\"\",\"\",SUM(#REF!,#REF!,#REF!,#REF!,#REF!,#REF!))","v":""},null,null,""]
[null,null,null,null,null,null,null,null,null,null,null,"",{"$f":"IF($D152=\"\",\"\",SUM(#REF!,#REF!,#REF!,#REF!,#REF!,#REF!))","v":""},null,null,""]
[null,null,null,null,null,null,null,null,null,null,null,"",{"$f":"IF($D153=\"\",\"\",SUM(#REF!,#REF!,#REF!,#REF!,#REF!,#REF!))","v":""},null,null,""]
[null,null,null,null,null,null,null,null,null,null,null,"",{"$f":"IF($D154=\"\",\"\",SUM(#REF!,#REF!,#REF!,#REF!,#REF!,#REF!))","v":""},null,null,""]
[null,null,null,null,null,null,null,null,null,null,null,"",{"$f":"IF($D155=\"\",\"\",SUM(#REF!,#REF!,#REF!,#REF!,#REF!,#REF!))","v":""},null,null,""]
[null,null,null,null,null,null,null,null,null,null,null,"",{"$f":"IF($D156=\"\",\"\",SUM(#REF!,#REF!,#REF!,#REF!,#REF!,#REF!))","v":""},null,null,""]
[null,null,null,null,null,null,null,null,null,null,null,"",{"$f":"IF($D157=\"\",\"\",SUM(#REF!,#REF!,#REF!,#REF!,#REF!,#REF!))","v":""},null,null,""]
[null,null,null,null,null,null,null,null,null,null,null,"",{"$f":"IF($D158=\"\",\"\",SUM(#REF!,#REF!,#REF!,#REF!,#REF!,#REF!))","v":""},null,null,""]
[null,null,null,null,null,null,null,null,null,null,null,"",{"$f":"IF($D159=\"\",\"\",SUM(#REF!,#REF!,#REF!,#REF!,#REF!,#REF!))","v":""},null,null,""]
[null,null,null,null,null,null,null,null,null,null,null,"",{"$f":"IF($D160=\"\",\"\",SUM(#REF!,#REF!,#REF!,#REF!,#REF!,#REF!))","v":""},null,null,""]
[null,null,null,null,null,null,null,null,null,null,null,"",{"$f":"IF($D161=\"\",\"\",SUM(#REF!,#REF!,#REF!,#REF!,#REF!,#REF!))","v":""},null,null,""]
[null,null,null,null,null,null,null,null,null,null,null,"",{"$f":"IF($D162=\"\",\"\",SUM(#REF!,#REF!,#REF!,#REF!,#REF!,#REF!))","v":""},null,null,""]
[null,null,null,null,null,null,null,null,null,null,null,"",{"$f":"IF($D163=\"\",\"\",SUM(#REF!,#REF!,#REF!,#REF!,#REF!,#REF!))","v":""},null,null,""]
[null,null,null,null,null,null,null,null,null,null,null,"",{"$f":"IF($D164=\"\",\"\",SUM(#REF!,#REF!,#REF!,#REF!,#REF!,#REF!))","v":""},null,null,""]
[null,null,null,null,null,null,null,null,null,null,null,"",{"$f":"IF($D165=\"\",\"\",SUM(#REF!,#REF!,#REF!,#REF!,#REF!,#REF!))","v":""},null,null,""]
[null,null,null,null,null,null,null,null,null,null,null,"",{"$f":"IF($D166=\"\",\"\",SUM(#REF!,#REF!,#REF!,#REF!,#REF!,#REF!))","v":""},null,null,""]
[null,null,null,null,null,null,null,null,null,null,null,"",{"$f":"IF($D167=\"\",\"\",SUM(#REF!,#REF!,#REF!,#REF!,#REF!,#REF!))","v":""},null,null,""]
[null,null,null,null,null,null,null,null,null,null,null,"",{"$f":"IF($D168=\"\",\"\",SUM(#REF!,#REF!,#REF!,#REF!,#REF!,#REF!))","v":""},null,null,""]
[null,null,null,null,null,null,null,null,null,null,null,"",{"$f":"IF($D169=\"\",\"\",SUM(#REF!,#REF!,#REF!,#REF!,#REF!,#REF!))","v":""},null,null,""]
[null,null,null,null,null,null,null,null,null,null,null,"",{"$f":"IF($D170=\"\",\"\",SUM(#REF!,#REF!,#REF!,#REF!,#REF!,#REF!))","v":""},null,null,""]
[null,null,null,null,null,null,null,null,null,null,null,"",{"$f":"IF($D171=\"\",\"\",SUM(#REF!,#REF!,#REF!,#REF!,#REF!,#REF!))","v":""},null,null,""]
[null,null,null,null,null,null,null,null,null,null,null,"",{"$f":"IF($D172=\"\",\"\",SUM(#REF!,#REF!,#REF!,#REF!,#REF!,#REF!))","v":""},null,null,""]
[null,null,null,null,null,null,null,null,null,null,null,"",{"$f":"IF($D173=\"\",\"\",SUM(#REF!,#REF!,#REF!,#REF!,#REF!,#REF!))","v":""},null,null,""]
[null,null,null,null,null,null,null,null,null,null,null,"",{"$f":"IF($D174=\"\",\"\",SUM(#REF!,#REF!,#REF!,#REF!,#REF!,#REF!))","v":""},null,null,""]
[null,null,null,null,null,null,null,null,null,null,null,"",{"$f":"IF($D175=\"\",\"\",SUM(#REF!,#REF!,#REF!,#REF!,#REF!,#REF!))","v":""},null,null,""]
[null,null,null,null,null,null,null,null,null,null,null,"",{"$f":"IF($D176=\"\",\"\",SUM(#REF!,#REF!,#REF!,#REF!,#REF!,#REF!))","v":""},null,null,""]
[null,null,null,null,null,null,null,null,null,null,null,"",{"$f":"IF($D177=\"\",\"\",SUM(#REF!,#REF!,#REF!,#REF!,#REF!,#REF!))","v":""},null,null,""]
[null,null,null,null,null,null,null,null,null,null,null,"",{"$f":"IF($D178=\"\",\"\",SUM(#REF!,#REF!,#REF!,#REF!,#REF!,#REF!))","v":""},null,null,""]
[null,null,null,null,null,null,null,null,null,null,null,"",{"$f":"IF($D179=\"\",\"\",SUM(#REF!,#REF!,#REF!,#REF!,#REF!,#REF!))","v":""},null,null,""]
[null,null,null,null,null,null,null,null,null,null,null,"",{"$f":"IF($D180=\"\",\"\",SUM(#REF!,#REF!,#REF!,#REF!,#REF!,#REF!))","v":""},null,null,""]
[null,null,null,null,null,null,null,null,null,null,null,"",{"$f":"IF($D181=\"\",\"\",SUM(#REF!,#REF!,#REF!,#REF!,#REF!,#REF!))","v":""},null,null,""]
[null,null,null,null,null,null,null,null,null,null,null,"",{"$f":"IF($D182=\"\",\"\",SUM(#REF!,#REF!,#REF!,#REF!,#REF!,#REF!))","v":""},null,null,""]
[null,null,null,null,null,null,null,null,null,null,null,"",{"$f":"IF($D183=\"\",\"\",SUM(#REF!,#REF!,#REF!,#REF!,#REF!,#REF!))","v":""},null,null,""]
[null,null,null,null,null,null,null,null,null,null,null,"",{"$f":"IF($D184=\"\",\"\",SUM(#REF!,#REF!,#REF!,#REF!,#REF!,#REF!))","v":""},null,null,""]
[null,null,null,null,null,null,null,null,null,null,null,"",{"$f":"IF($D185=\"\",\"\",SUM(#REF!,#REF!,#REF!,#REF!,#REF!,#REF!))","v":""},null,null,""]
[null,null,null,null,null,null,null,null,null,null,null,"",{"$f":"IF($D186=\"\",\"\",SUM(#REF!,#REF!,#REF!,#REF!,#REF!,#REF!))","v":""},null,null,""]
[null,null,null,null,null,null,null,null,null,null,null,"",{"$f":"IF($D187=\"\",\"\",SUM(#REF!,#REF!,#REF!,#REF!,#REF!,#REF!))","v":""},null,null,""]
[null,null,null,null,null,null,null,null,null,null,null,"",{"$f":"IF($D188=\"\",\"\",SUM(#REF!,#REF!,#REF!,#REF!,#REF!,#REF!))","v":""},null,null,""]
[null,null,null,null,null,null,null,null,null,null,null,"",{"$f":"IF($D189=\"\",\"\",SUM(#REF!,#REF!,#REF!,#REF!,#REF!,#REF!))","v":""},null,null,""]
[null,null,null,null,null,null,null,null,null,null,null,"",{"$f":"IF($D190=\"\",\"\",SUM(#REF!,#REF!,#REF!,#REF!,#REF!,#REF!))","v":""},null,null,""]
[null,null,null,null,null,null,null,null,null,null,null,"",{"$f":"IF($D191=\"\",\"\",SUM(#REF!,#REF!,#REF!,#REF!,#REF!,#REF!))","v":""},null,null,""]
[null,null,null,null,null,null,null,null,null,null,null,"",{"$f":"IF($D192=\"\",\"\",SUM(#REF!,#REF!,#REF!,#REF!,#REF!,#REF!))","v":""},null,null,""]
[null,null,null,null,null,null,null,null,null,null,null,"",{"$f":"IF($D193=\"\",\"\",SUM(#REF!,#REF!,#REF!,#REF!,#REF!,#REF!))","v":""},null,null,""]
[null,null,null,null,null,null,null,null,null,null,null,"",{"$f":"IF($D194=\"\",\"\",SUM(#REF!,#REF!,#REF!,#REF!,#REF!,#REF!))","v":""},null,null,""]
[null,null,null,null,null,null,null,null,null,null,null,"",{"$f":"IF($D195=\"\",\"\",SUM(#REF!,#REF!,#REF!,#REF!,#REF!,#REF!))","v":""},null,null,""]
[null,null,null,null,null,null,null,null,null,null,null,{"$f":"IF($D196=\"\",\"\",SUM(F196,G196,H196,I196,J196,K196))","v":""},{"$f":"IF($D196=\"\",\"\",SUM(#REF!,#REF!,#REF!,#REF!,#REF!,#REF!))","v":""},null,null,{"$f":"IF(D196=\"\",\"\",F196*1+G196*10^2+H196*10^4+I196*10^6+J196*10^8+K196*10^10+M196*10^12+L196*10^14)","v":""}]
[null,null,null,null,null,null,null,null,null,null,null,"",{"$f":"IF($D197=\"\",\"\",SUM(#REF!,#REF!,#REF!,#REF!,#REF!,#REF!))","v":""},null,null,""]
[null,null,null,null,null,null,null,null,null,null,null,"",{"$f":"IF($D198=\"\",\"\",SUM(#REF!,#REF!,#REF!,#REF!,#REF!,#REF!))","v":""},null,null,""]
[null,null,null,null,null,null,null,null,null,null,null,"",{"$f":"IF($D199=\"\",\"\",SUM(#REF!,#REF!,#REF!,#REF!,#REF!,#REF!))","v":""},null,null,""]
[null,null,null,null,null,null,null,null,null,null,null,"",{"$f":"IF($D200=\"\",\"\",SUM(#REF!,#REF!,#REF!,#REF!,#REF!,#REF!))","v":""},null,null,""]
[null,null,null,null,null,null,null,null,null,null,null,"",{"$f":"IF($D201=\"\",\"\",SUM(#REF!,#REF!,#REF!,#REF!,#REF!,#REF!))","v":""},null,null,""]
[null,null,null,null,null,null,null,null,null,null,null,"",{"$f":"IF($D202=\"\",\"\",SUM(#REF!,#REF!,#REF!,#REF!,#REF!,#REF!))","v":""},null,null,""]
[null,null,null,null,null,null,null,null,null,null,null,"",{"$f":"IF($D203=\"\",\"\",SUM(#REF!,#REF!,#REF!,#REF!,#REF!,#REF!))","v":""},null,null,""]
[null,null,null,null,null,null,null,null,null,null,null,"",{"$f":"IF($D204=\"\",\"\",SUM(#REF!,#REF!,#REF!,#REF!,#REF!,#REF!))","v":""},null,null,""]
[null,null,null,null,null,null,null,null,null,null,null,"",{"$f":"IF($D205=\"\",\"\",SUM(#REF!,#REF!,#REF!,#REF!,#REF!,#REF!))","v":""},null,null,""]
[null,null,null,null,null,null,null,null,null,null,null,"",{"$f":"IF($D206=\"\",\"\",SUM(#REF!,#REF!,#REF!,#REF!,#REF!,#REF!))","v":""},null,null,""]
[null,null,null,null,null,null,null,null,null,null,null,"",{"$f":"IF($D207=\"\",\"\",SUM(#REF!,#REF!,#REF!,#REF!,#REF!,#REF!))","v":""},null,null,""]
[null,null,null,null,null,null,null,null,null,null,null,"",{"$f":"IF($D208=\"\",\"\",SUM(#REF!,#REF!,#REF!,#REF!,#REF!,#REF!))","v":""},null,null,""]
[null,null,null,null,null,null,null,null,null,null,null,"",{"$f":"IF($D209=\"\",\"\",SUM(#REF!,#REF!,#REF!,#REF!,#REF!,#REF!))","v":""},null,null,""]
[null,null,null,null,null,null,null,null,null,null,null,"",{"$f":"IF($D210=\"\",\"\",SUM(#REF!,#REF!,#REF!,#REF!,#REF!,#REF!))","v":""},null,null,""]
[null,null,null,null,null,null,null,null,null,null,null,"",{"$f":"IF($D211=\"\",\"\",SUM(#REF!,#REF!,#REF!,#REF!,#REF!,#REF!))","v":""},null,null,""]
[null,null,null,null,null,null,null,null,null,null,null,"",{"$f":"IF($D212=\"\",\"\",SUM(#REF!,#REF!,#REF!,#REF!,#REF!,#REF!))","v":""},null,null,""]
[null,null,null,null,null,null,null,null,null,null,null,"",{"$f":"IF($D213=\"\",\"\",SUM(#REF!,#REF!,#REF!,#REF!,#REF!,#REF!))","v":""},null,null,""]
[null,null,null,null,null,null,null,null,null,null,null,"",{"$f":"IF($D214=\"\",\"\",SUM(#REF!,#REF!,#REF!,#REF!,#REF!,#REF!))","v":""},null,null,""]
[null,null,null,null,null,null,null,null,null,null,null,"",{"$f":"IF($D215=\"\",\"\",SUM(#REF!,#REF!,#REF!,#REF!,#REF!,#REF!))","v":""},null,null,""]
[null,null,null,null,null,null,null,null,null,null,null,"",{"$f":"IF($D216=\"\",\"\",SUM(#REF!,#REF!,#REF!,#REF!,#REF!,#REF!))","v":""},null,null,""]
[null,null,null,null,null,null,null,null,null,null,null,"",{"$f":"IF($D217=\"\",\"\",SUM(#REF!,#REF!,#REF!,#REF!,#REF!,#REF!))","v":""},null,null,""]
[null,null,null,null,null,null,null,null,null,null,null,"",{"$f":"IF($D218=\"\",\"\",SUM(#REF!,#REF!,#REF!,#REF!,#REF!,#REF!))","v":""},null,null,""]
[null,null,null,null,null,null,null,null,null,null,null,"",{"$f":"IF($D219=\"\",\"\",SUM(#REF!,#REF!,#REF!,#REF!,#REF!,#REF!))","v":""},null,null,""]
[null,null,null,null,null,null,null,null,null,null,null,"",{"$f":"IF($D220=\"\",\"\",SUM(#REF!,#REF!,#REF!,#REF!,#REF!,#REF!))","v":""},null,null,""]
[null,null,null,null,null,null,null,null,null,null,null,"",{"$f":"IF($D221=\"\",\"\",SUM(#REF!,#REF!,#REF!,#REF!,#REF!,#REF!))","v":""},null,null,""]
[null,null,null,null,null,null,null,null,null,null,null,"",{"$f":"IF($D222=\"\",\"\",SUM(#REF!,#REF!,#REF!,#REF!,#REF!,#REF!))","v":""},null,null,""]
[null,null,null,null,null,null,null,null,null,null,null,"",{"$f":"IF($D223=\"\",\"\",SUM(#REF!,#REF!,#REF!,#REF!,#REF!,#REF!))","v":""},null,null,""]
[null,null,null,null,null,null,null,null,null,null,null,"",{"$f":"IF($D224=\"\",\"\",SUM(#REF!,#REF!,#REF!,#REF!,#REF!,#REF!))","v":""},null,null,""]
[null,null,null,null,null,null,null,null,null,null,null,"",{"$f":"IF($D225=\"\",\"\",SUM(#REF!,#REF!,#REF!,#REF!,#REF!,#REF!))","v":""},null,null,""]
[null,null,null,null,null,null,null,null,null,null,null,"",{"$f":"IF($D226=\"\",\"\",SUM(#REF!,#REF!,#REF!,#REF!,#REF!,#REF!))","v":""},null,null,""]
[null,null,null,null,null,null,null,null,null,null,null,"",{"$f":"IF($D227=\"\",\"\",SUM(#REF!,#REF!,#REF!,#REF!,#REF!,#REF!))","v":""},null,null,""]
[null,null,null,null,null,null,null,null,null,null,null,"",{"$f":"IF($D228=\"\",\"\",SUM(#REF!,#REF!,#REF!,#REF!,#REF!,#REF!))","v":""},null,null,""]
[null,null,null,null,null,null,null,null,null,null,null,"",{"$f":"IF($D229=\"\",\"\",SUM(#REF!,#REF!,#REF!,#REF!,#REF!,#REF!))","v":""},null,null,""]
[null,null,null,null,null,null,null,null,null,null,null,"",{"$f":"IF($D230=\"\",\"\",SUM(#REF!,#REF!,#REF!,#REF!,#REF!,#REF!))","v":""},null,null,""]
[null,null,null,null,null,null,null,null,null,null,null,"",{"$f":"IF($D231=\"\",\"\",SUM(#REF!,#REF!,#REF!,#REF!,#REF!,#REF!))","v":""},null,null,""]
[null,null,null,null,null,null,null,null,null,null,null,"",{"$f":"IF($D232=\"\",\"\",SUM(#REF!,#REF!,#REF!,#REF!,#REF!,#REF!))","v":""},null,null,""]
[null,null,null,null,null,null,null,null,null,null,null,"",{"$f":"IF($D233=\"\",\"\",SUM(#REF!,#REF!,#REF!,#REF!,#REF!,#REF!))","v":""},null,null,""]
[null,null,null,null,null,null,null,null,null,null,null,"",{"$f":"IF($D234=\"\",\"\",SUM(#REF!,#REF!,#REF!,#REF!,#REF!,#REF!))","v":""},null,null,""]
[null,null,null,null,null,null,null,null,null,null,null,"",{"$f":"IF($D235=\"\",\"\",SUM(#REF!,#REF!,#REF!,#REF!,#REF!,#REF!))","v":""},null,null,""]
[null,null,null,null,null,null,null,null,null,null,null,"",{"$f":"IF($D236=\"\",\"\",SUM(#REF!,#REF!,#REF!,#REF!,#REF!,#REF!))","v":""},null,null,""]
[null,null,null,null,null,null,null,null,null,null,null,"",{"$f":"IF($D237=\"\",\"\",SUM(#REF!,#REF!,#REF!,#REF!,#REF!,#REF!))","v":""},null,null,""]
[null,null,null,null,null,null,null,null,null,null,null,"",{"$f":"IF($D238=\"\",\"\",SUM(#REF!,#REF!,#REF!,#REF!,#REF!,#REF!))","v":""},null,null,""]
[null,null,null,null,null,null,null,null,null,null,null,"",{"$f":"IF($D239=\"\",\"\",SUM(#REF!,#REF!,#REF!,#REF!,#REF!,#REF!))","v":""},null,null,""]
[null,null,null,null,null,null,null,null,null,null,null,"",{"$f":"IF($D240=\"\",\"\",SUM(#REF!,#REF!,#REF!,#REF!,#REF!,#REF!))","v":""},null,null,""]
[null,null,null,null,null,null,null,null,null,null,null,"",{"$f":"IF($D241=\"\",\"\",SUM(#REF!,#REF!,#REF!,#REF!,#REF!,#REF!))","v":""},null,null,""]
[null,null,null,null,null,null,null,null,null,null,null,"",{"$f":"IF($D242=\"\",\"\",SUM(#REF!,#REF!,#REF!,#REF!,#REF!,#REF!))","v":""},null,null,""]
[null,null,null,null,null,null,null,null,null,null,null,"",{"$f":"IF($D243=\"\",\"\",SUM(#REF!,#REF!,#REF!,#REF!,#REF!,#REF!))","v":""},null,null,""]
[null,null,null,null,null,null,null,null,null,null,null,"",{"$f":"IF($D244=\"\",\"\",SUM(#REF!,#REF!,#REF!,#REF!,#REF!,#REF!))","v":""},null,null,""]
[null,null,null,null,null,null,null,null,null,null,null,"",{"$f":"IF($D245=\"\",\"\",SUM(#REF!,#REF!,#REF!,#REF!,#REF!,#REF!))","v":""},null,null,""]
[null,null,null,null,null,null,null,null,null,null,null,"",{"$f":"IF($D246=\"\",\"\",SUM(#REF!,#REF!,#REF!,#REF!,#REF!,#REF!))","v":""},null,null,""]
[null,null,null,null,null,null,null,null,null,null,null,"",{"$f":"IF($D247=\"\",\"\",SUM(#REF!,#REF!,#REF!,#REF!,#REF!,#REF!))","v":""},null,null,""]
[null,null,null,null,null,null,null,null,null,null,null,"",{"$f":"IF($D248=\"\",\"\",SUM(#REF!,#REF!,#REF!,#REF!,#REF!,#REF!))","v":""},null,null,""]
[null,null,null,null,null,null,null,null,null,null,null,"",{"$f":"IF($D249=\"\",\"\",SUM(#REF!,#REF!,#REF!,#REF!,#REF!,#REF!))","v":""},null,null,""]
[null,null,null,null,null,null,null,null,null,null,null,"",{"$f":"IF($D250=\"\",\"\",SUM(#REF!,#REF!,#REF!,#REF!,#REF!,#REF!))","v":""},null,null,""]
[null,null,null,null,null,null,null,null,null,null,null,"",{"$f":"IF($D251=\"\",\"\",SUM(#REF!,#REF!,#REF!,#REF!,#REF!,#REF!))","v":""},null,null,""]
[null,null,null,null,null,null,null,null,null,null,null,"",{"$f":"IF($D252=\"\",\"\",SUM(#REF!,#REF!,#REF!,#REF!,#REF!,#REF!))","v":""},null,null,""]
[null,null,null,null,null,null,null,null,null,null,null,"",{"$f":"IF($D253=\"\",\"\",SUM(#REF!,#REF!,#REF!,#REF!,#REF!,#REF!))","v":""},null,null,""]
[null,null,null,null,null,null,null,null,null,null,null,"",{"$f":"IF($D254=\"\",\"\",SUM(#REF!,#REF!,#REF!,#REF!,#REF!,#REF!))","v":""},null,null,""]
[null,null,null,null,null,null,null,null,null,null,null,"",{"$f":"IF($D255=\"\",\"\",SUM(#REF!,#REF!,#REF!,#REF!,#REF!,#REF!))","v":""},null,null,""]
[null,null,null,null,null,null,null,null,null,null,null,"",{"$f":"IF($D256=\"\",\"\",SUM(#REF!,#REF!,#REF!,#REF!,#REF!,#REF!))","v":""},null,null,""]
[null,null,null,null,null,null,null,null,null,null,null,"",{"$f":"IF($D257=\"\",\"\",SUM(#REF!,#REF!,#REF!,#REF!,#REF!,#REF!))","v":""},null,null,""]
[null,null,null,null,null,null,null,null,null,null,null,"",{"$f":"IF($D258=\"\",\"\",SUM(#REF!,#REF!,#REF!,#REF!,#REF!,#REF!))","v":""},null,null,""]
[null,null,null,null,null,null,null,null,null,null,null,"",{"$f":"IF($D259=\"\",\"\",SUM(#REF!,#REF!,#REF!,#REF!,#REF!,#REF!))","v":""},null,null,""]
[null,null,null,null,null,null,null,null,null,null,null,{"$f":"IF($D260=\"\",\"\",SUM(F260,G260,H260,I260,J260,K260))","v":""},{"$f":"IF($D260=\"\",\"\",SUM(#REF!,#REF!,#REF!,#REF!,#REF!,#REF!))","v":""},null,null,{"$f":"IF(D260=\"\",\"\",F260*1+G260*10^2+H260*10^4+I260*10^6+J260*10^8+K260*10^10+M260*10^12+L260*10^14)","v":""}]
[null,null,null,null,null,null,null,null,null,null,null,"",{"$f":"IF($D261=\"\",\"\",SUM(#REF!,#REF!,#REF!,#REF!,#REF!,#REF!))","v":""},null,null,""]
[null,null,null,null,null,null,null,null,null,null,null,"",{"$f":"IF($D262=\"\",\"\",SUM(#REF!,#REF!,#REF!,#REF!,#REF!,#REF!))","v":""},null,null,""]
[null,null,null,null,null,null,null,null,null,null,null,"",{"$f":"IF($D263=\"\",\"\",SUM(#REF!,#REF!,#REF!,#REF!,#REF!,#REF!))","v":""},null,null,""]
[null,null,null,null,null,null,null,null,null,null,null,"",{"$f":"IF($D264=\"\",\"\",SUM(#REF!,#REF!,#REF!,#REF!,#REF!,#REF!))","v":""},null,null,""]
[null,null,null,null,null,null,null,null,null,null,null,"",{"$f":"IF($D265=\"\",\"\",SUM(#REF!,#REF!,#REF!,#REF!,#REF!,#REF!))","v":""},null,null,""]
[null,null,null,null,null,null,null,null,null,null,null,"",{"$f":"IF($D266=\"\",\"\",SUM(#REF!,#REF!,#REF!,#REF!,#REF!,#REF!))","v":""},null,null,""]
[null,null,null,null,null,null,null,null,null,null,null,"",{"$f":"IF($D267=\"\",\"\",SUM(#REF!,#REF!,#REF!,#REF!,#REF!,#REF!))","v":""},null,null,""]
[null,null,null,null,null,null,null,null,null,null,null,"",{"$f":"IF($D268=\"\",\"\",SUM(#REF!,#REF!,#REF!,#REF!,#REF!,#REF!))","v":""},null,null,""]
[null,null,null,null,null,null,null,null,null,null,null,"",{"$f":"IF($D269=\"\",\"\",SUM(#REF!,#REF!,#REF!,#REF!,#REF!,#REF!))","v":""},null,null,""]
[null,null,null,null,null,null,null,null,null,null,null,"",{"$f":"IF($D270=\"\",\"\",SUM(#REF!,#REF!,#REF!,#REF!,#REF!,#REF!))","v":""},null,null,""]
[null,null,null,null,null,null,null,null,null,null,null,"",{"$f":"IF($D271=\"\",\"\",SUM(#REF!,#REF!,#REF!,#REF!,#REF!,#REF!))","v":""},null,null,""]
[null,null,null,null,null,null,null,null,null,null,null,"",{"$f":"IF($D272=\"\",\"\",SUM(#REF!,#REF!,#REF!,#REF!,#REF!,#REF!))","v":""},null,null,""]
[null,null,null,null,null,null,null,null,null,null,null,"",{"$f":"IF($D273=\"\",\"\",SUM(#REF!,#REF!,#REF!,#REF!,#REF!,#REF!))","v":""},null,null,""]
[null,null,null,null,null,null,null,null,null,null,null,"",{"$f":"IF($D274=\"\",\"\",SUM(#REF!,#REF!,#REF!,#REF!,#REF!,#REF!))","v":""},null,null,""]
[null,null,null,null,null,null,null,null,null,null,null,"",{"$f":"IF($D275=\"\",\"\",SUM(#REF!,#REF!,#REF!,#REF!,#REF!,#REF!))","v":""},null,null,""]
[null,null,null,null,null,null,null,null,null,null,null,"",{"$f":"IF($D276=\"\",\"\",SUM(#REF!,#REF!,#REF!,#REF!,#REF!,#REF!))","v":""},null,null,""]
[null,null,null,null,null,null,null,null,null,null,null,"",{"$f":"IF($D277=\"\",\"\",SUM(#REF!,#REF!,#REF!,#REF!,#REF!,#REF!))","v":""},null,null,""]
[null,null,null,null,null,null,null,null,null,null,null,"",{"$f":"IF($D278=\"\",\"\",SUM(#REF!,#REF!,#REF!,#REF!,#REF!,#REF!))","v":""},null,null,""]
[null,null,null,null,null,null,null,null,null,null,null,"",{"$f":"IF($D279=\"\",\"\",SUM(#REF!,#REF!,#REF!,#REF!,#REF!,#REF!))","v":""},null,null,""]
[null,null,null,null,null,null,null,null,null,null,null,"",{"$f":"IF($D280=\"\",\"\",SUM(#REF!,#REF!,#REF!,#REF!,#REF!,#REF!))","v":""},null,null,""]
[null,null,null,null,null,null,null,null,null,null,null,"",{"$f":"IF($D281=\"\",\"\",SUM(#REF!,#REF!,#REF!,#REF!,#REF!,#REF!))","v":""},null,null,""]
[null,null,null,null,null,null,null,null,null,null,null,"",{"$f":"IF($D282=\"\",\"\",SUM(#REF!,#REF!,#REF!,#REF!,#REF!,#REF!))","v":""},null,null,""]
[null,null,null,null,null,null,null,null,null,null,null,"",{"$f":"IF($D283=\"\",\"\",SUM(#REF!,#REF!,#REF!,#REF!,#REF!,#REF!))","v":""},null,null,""]
[null,null,null,null,null,null,null,null,null,null,null,"",{"$f":"IF($D284=\"\",\"\",SUM(#REF!,#REF!,#REF!,#REF!,#REF!,#REF!))","v":""},null,null,""]
[null,null,null,null,null,null,null,null,null,null,null,"",{"$f":"IF($D285=\"\",\"\",SUM(#REF!,#REF!,#REF!,#REF!,#REF!,#REF!))","v":""},null,null,""]
[null,null,null,null,null,null,null,null,null,null,null,"",{"$f":"IF($D286=\"\",\"\",SUM(#REF!,#REF!,#REF!,#REF!,#REF!,#REF!))","v":""},null,null,""]
[null,null,null,null,null,null,null,null,null,null,null,"",{"$f":"IF($D287=\"\",\"\",SUM(#REF!,#REF!,#REF!,#REF!,#REF!,#REF!))","v":""},null,null,""]
[null,null,null,null,null,null,null,null,null,null,null,"",{"$f":"IF($D288=\"\",\"\",SUM(#REF!,#REF!,#REF!,#REF!,#REF!,#REF!))","v":""},null,null,""]
[null,null,null,null,null,null,null,null,null,null,null,"",{"$f":"IF($D289=\"\",\"\",SUM(#REF!,#REF!,#REF!,#REF!,#REF!,#REF!))","v":""},null,null,""]
[null,null,null,null,null,null,null,null,null,null,null,"",{"$f":"IF($D290=\"\",\"\",SUM(#REF!,#REF!,#REF!,#REF!,#REF!,#REF!))","v":""},null,null,""]
[null,null,null,null,null,null,null,null,null,null,null,"",{"$f":"IF($D291=\"\",\"\",SUM(#REF!,#REF!,#REF!,#REF!,#REF!,#REF!))","v":""},null,null,""]
[null,null,null,null,null,null,null,null,null,null,null,"",{"$f":"IF($D292=\"\",\"\",SUM(#REF!,#REF!,#REF!,#REF!,#REF!,#REF!))","v":""},null,null,""]
[null,null,null,null,null,null,null,null,null,null,null,"",{"$f":"IF($D293=\"\",\"\",SUM(#REF!,#REF!,#REF!,#REF!,#REF!,#REF!))","v":""},null,null,""]
[null,null,null,null,null,null,null,null,null,null,null,"",{"$f":"IF($D294=\"\",\"\",SUM(#REF!,#REF!,#REF!,#REF!,#REF!,#REF!))","v":""},null,null,""]
[null,null,null,null,null,null,null,null,null,null,null,"",{"$f":"IF($D295=\"\",\"\",SUM(#REF!,#REF!,#REF!,#REF!,#REF!,#REF!))","v":""},null,null,""]
[null,null,null,null,null,null,null,null,null,null,null,"",{"$f":"IF($D296=\"\",\"\",SUM(#REF!,#REF!,#REF!,#REF!,#REF!,#REF!))","v":""},null,null,""]
[null,null,null,null,null,null,null,null,null,null,null,"",{"$f":"IF($D297=\"\",\"\",SUM(#REF!,#REF!,#REF!,#REF!,#REF!,#REF!))","v":""},null,null,""]
[null,null,null,null,null,null,null,null,null,null,null,"",{"$f":"IF($D298=\"\",\"\",SUM(#REF!,#REF!,#REF!,#REF!,#REF!,#REF!))","v":""},null,null,""]

{"sheet":"10mS60MW 入力発表","index":1,"n_rows":265,"n_cols":14,"rows_kept":265,"cut":false,"hidden":false,"merged":[]}
["順位","射群","射座","名　前","学校名","S１","S２","S３","S４","S５","S６","合 計","X","備考"]
["F",2,11,"松巾 亜由","立命館大学",97,97,98,97,99,100,588,43]
["F",1,12,"岡本 和樹","関西大学",98,95,96,97,96,99,581,30]
["F",1,20,"堅田 みちる","関西大学",96,95,97,98,96,99,581,29]
["F",2,20,"鈴木 梨紗子","関西大学",97,95,97,96,95,96,576,24]
["F",1,19,"神保 茜","立命館大学",92,98,98,94,98,95,575,30]
["F",2,16,"高原 康輝 ","京都産業大学",96,94,98,95,93,96,572,19]
["F",2,12,"津田 智永","関西大学",93,97,96,93,97,94,570,28]
["F",1,27,"折原 和希","関西大学",94,94,95,95,95,96,569,26]
[9,1,11,"奥村 哲弘","立命館大学",93,96,95,93,95,94,566,24]
[10,1,8,"粒﨑　玲","関西大学",90,90,96,96,96,96,564,23]
[11,1,16,"田上 諒","京都産業大学",89,96,94,92,92,95,558,18]
[12,1,6,"長尾 侑馬","近畿大学",94,88,93,92,93,93,553,19]
[13,2,8,"武田 佳樹","関西大学",92,89,89,89,94,97,550,17]
[14,2,23,"藤井 瑛子","京都大学",94,91,93,87,92,91,548,19]
[15,1,21,"家高 郁子","同志社大学",93,92,90,90,94,89,548,15]
[16,1,14,"待場 直宏","関西学院大学",89,87,94,92,97,88,547,8]
[17,1,22,"織野 友嘉","関西学院大学",89,92,92,87,92,94,546,12]
[18,2,15,"千代田 真一","京都大学",93,93,85,93,91,88,543,15]
[19,2,27,"岡本 享祐","関西大学",91,89,91,90,96,86,543,13]
[20,2,4,"宮田 佳奈子","京都大学",90,89,88,91,93,91,542,12]
[21,1,5,"西行 優子","京都大学",88,87,91,90,88,92,536,11]
[22,1,23,"植田 悟史","京都大学",89,85,90,85,89,96,534,13]
[23,2,30,"向井 琢磨","関西大学",89,91,89,88,87,90,534,10]
[24,2,13,"川本 隼也","同志社大学",88,79,92,86,95,87,527,6]
[25,1,17,"前田 慧","近畿大学",87,83,91,88,86,90,525,9]
[26,1,15,"蛭田 裕之","京都大学",84,85,85,89,91,87,521,8]
[27,2,6,"鈴木 健元","大阪大学",76,88,96,84,88,87,519,8]
[28,1,13,"山口 滉太朗","同志社大学",95,90,94,93,87,55,514,19]
[29,2,2,"北田 諒平","京都大学",76,92,86,86,83,89,512,8]
[30,2,14,"木村 祐貴","関西学院大学",84,80,78,78,87,90,497,5]
[31,1,4,"藤井 雄大","同志社大学",80,80,81,84,86,84,495,6]
[32,2,21,"竹下 力","同志社大学",72,84,72,84,88,82,482,4]
[33,2,28,"清水 祥","京都大学",85,72,79,74,83,81,474,4]
[34,1,32,"濱本 穂高","京都大学",70,67,76,79,69,74,435,2]
[35,1,24,"桝谷 大貴","京都産業大学",0,0,0,0,0,0,0,0,"D.N.S"]
[35,2,19,"萩原 久樹","立命館大学",0,0,0,0,0,0,0,0]
[null,null,null,null,null,null,null,null,null,null,null,{"$f":"IF($D38=\"\",\"\",SUM(F38,G38,H38,I38,J38,K38))","v":""},{"$f":"IF($D38=\"\",\"\",SUM(#REF!,#REF!,#REF!,#REF!,#REF!,#REF!))","v":""}]
[null,null,null,null,null,null,null,null,null,null,null,"",{"$f":"IF($D39=\"\",\"\",SUM(#REF!,#REF!,#REF!,#REF!,#REF!,#REF!))","v":""}]
[null,null,null,null,null,null,null,null,null,null,null,"",{"$f":"IF($D40=\"\",\"\",SUM(#REF!,#REF!,#REF!,#REF!,#REF!,#REF!))","v":""}]
[null,null,null,null,null,null,null,null,null,null,null,"",{"$f":"IF($D41=\"\",\"\",SUM(#REF!,#REF!,#REF!,#REF!,#REF!,#REF!))","v":""}]
[null,null,null,null,null,null,null,null,null,null,null,"",{"$f":"IF($D42=\"\",\"\",SUM(#REF!,#REF!,#REF!,#REF!,#REF!,#REF!))","v":""}]
[null,null,null,null,null,null,null,null,null,null,null,"",{"$f":"IF($D43=\"\",\"\",SUM(#REF!,#REF!,#REF!,#REF!,#REF!,#REF!))","v":""}]
[null,null,null,null,null,null,null,null,null,null,null,"",{"$f":"IF($D44=\"\",\"\",SUM(#REF!,#REF!,#REF!,#REF!,#REF!,#REF!))","v":""}]
[null,null,null,null,null,null,null,null,null,null,null,"",{"$f":"IF($D45=\"\",\"\",SUM(#REF!,#REF!,#REF!,#REF!,#REF!,#REF!))","v":""}]
[null,null,null,null,null,null,null,null,null,null,null,"",{"$f":"IF($D46=\"\",\"\",SUM(#REF!,#REF!,#REF!,#REF!,#REF!,#REF!))","v":""}]
[null,null,null,null,null,null,null,null,null,null,null,"",{"$f":"IF($D47=\"\",\"\",SUM(#REF!,#REF!,#REF!,#REF!,#REF!,#REF!))","v":""}]
[null,null,null,null,null,null,null,null,null,null,null,"",{"$f":"IF($D48=\"\",\"\",SUM(#REF!,#REF!,#REF!,#REF!,#REF!,#REF!))","v":""}]
[null,null,null,null,null,null,null,null,null,null,null,"",{"$f":"IF($D49=\"\",\"\",SUM(#REF!,#REF!,#REF!,#REF!,#REF!,#REF!))","v":""}]
[null,null,null,null,null,null,null,null,null,null,null,"",{"$f":"IF($D50=\"\",\"\",SUM(#REF!,#REF!,#REF!,#REF!,#REF!,#REF!))","v":""}]
[null,null,null,null,null,null,null,null,null,null,null,"",{"$f":"IF($D51=\"\",\"\",SUM(#REF!,#REF!,#REF!,#REF!,#REF!,#REF!))","v":""}]
[null,null,null,null,null,null,null,null,null,null,null,"",{"$f":"IF($D52=\"\",\"\",SUM(#REF!,#REF!,#REF!,#REF!,#REF!,#REF!))","v":""}]
[null,null,null,null,null,null,null,null,null,null,null,"",{"$f":"IF($D53=\"\",\"\",SUM(#REF!,#REF!,#REF!,#REF!,#REF!,#REF!))","v":""}]
[null,null,null,null,null,null,null,null,null,null,null,"",{"$f":"IF($D54=\"\",\"\",SUM(#REF!,#REF!,#REF!,#REF!,#REF!,#REF!))","v":""}]
[null,null,null,null,null,null,null,null,null,null,null,"",{"$f":"IF($D55=\"\",\"\",SUM(#REF!,#REF!,#REF!,#REF!,#REF!,#REF!))","v":""}]
[null,null,null,null,null,null,null,null,null,null,null,"",{"$f":"IF($D56=\"\",\"\",SUM(#REF!,#REF!,#REF!,#REF!,#REF!,#REF!))","v":""}]
[null,null,null,null,null,null,null,null,null,null,null,"",{"$f":"IF($D57=\"\",\"\",SUM(#REF!,#REF!,#REF!,#REF!,#REF!,#REF!))","v":""}]
[null,null,null,null,null,null,null,null,null,null,null,"",{"$f":"IF($D58=\"\",\"\",SUM(#REF!,#REF!,#REF!,#REF!,#REF!,#REF!))","v":""}]
[null,null,null,null,null,null,null,null,null,null,null,"",{"$f":"IF($D59=\"\",\"\",SUM(#REF!,#REF!,#REF!,#REF!,#REF!,#REF!))","v":""}]
[null,null,null,null,null,null,null,null,null,null,null,"",{"$f":"IF($D60=\"\",\"\",SUM(#REF!,#REF!,#REF!,#REF!,#REF!,#REF!))","v":""}]
[null,null,null,null,null,null,null,null,null,null,null,"",{"$f":"IF($D61=\"\",\"\",SUM(#REF!,#REF!,#REF!,#REF!,#REF!,#REF!))","v":""}]
[null,null,null,null,null,null,null,null,null,null,null,"",{"$f":"IF($D62=\"\",\"\",SUM(#REF!,#REF!,#REF!,#REF!,#REF!,#REF!))","v":""}]
[null,null,null,null,null,null,null,null,null,null,null,"",{"$f":"IF($D63=\"\",\"\",SUM(#REF!,#REF!,#REF!,#REF!,#REF!,#REF!))","v":""}]
[null,null,null,null,null,null,null,null,null,null,null,"",{"$f":"IF($D64=\"\",\"\",SUM(#REF!,#REF!,#REF!,#REF!,#REF!,#REF!))","v":""}]
[null,null,null,null,null,null,null,null,null,null,null,"",{"$f":"IF($D65=\"\",\"\",SUM(#REF!,#REF!,#REF!,#REF!,#REF!,#REF!))","v":""}]
[null,null,null,null,null,null,null,null,null,null,null,"",{"$f":"IF($D66=\"\",\"\",SUM(#REF!,#REF!,#REF!,#REF!,#REF!,#REF!))","v":""}]
[null,null,null,null,null,null,null,null,null,null,null,"",{"$f":"IF($D67=\"\",\"\",SUM(#REF!,#REF!,#REF!,#REF!,#REF!,#REF!))","v":""}]
[null,null,null,null,null,null,null,null,null,null,null,"",{"$f":"IF($D68=\"\",\"\",SUM(#REF!,#REF!,#REF!,#REF!,#REF!,#REF!))","v":""}]
[null,null,null,null,null,null,null,null,null,null,null,"",{"$f":"IF($D69=\"\",\"\",SUM(#REF!,#REF!,#REF!,#REF!,#REF!,#REF!))","v":""}]
[null,null,null,null,null,null,null,null,null,null,null,"",{"$f":"IF($D70=\"\",\"\",SUM(#REF!,#REF!,#REF!,#REF!,#REF!,#REF!))","v":""}]
[null,null,null,null,null,null,null,null,null,null,null,"",{"$f":"IF($D71=\"\",\"\",SUM(#REF!,#REF!,#REF!,#REF!,#REF!,#REF!))","v":""}]
[null,null,null,null,null,null,null,null,null,null,null,"",{"$f":"IF($D72=\"\",\"\",SUM(#REF!,#REF!,#REF!,#REF!,#REF!,#REF!))","v":""}]
[null,null,null,null,null,null,null,null,null,null,null,"",{"$f":"IF($D73=\"\",\"\",SUM(#REF!,#REF!,#REF!,#REF!,#REF!,#REF!))","v":""}]
[null,null,null,null,null,null,null,null,null,null,null,"",{"$f":"IF($D74=\"\",\"\",SUM(#REF!,#REF!,#REF!,#REF!,#REF!,#REF!))","v":""}]
[null,null,null,null,null,null,null,null,null,null,null,"",{"$f":"IF($D75=\"\",\"\",SUM(#REF!,#REF!,#REF!,#REF!,#REF!,#REF!))","v":""}]
[null,null,null,null,null,null,null,null,null,null,null,"",{"$f":"IF($D76=\"\",\"\",SUM(#REF!,#REF!,#REF!,#REF!,#REF!,#REF!))","v":""}]
[null,null,null,null,null,null,null,null,null,null,null,"",{"$f":"IF($D77=\"\",\"\",SUM(#REF!,#REF!,#REF!,#REF!,#REF!,#REF!))","v":""}]
[null,null,null,null,null,null,null,null,null,null,null,"",{"$f":"IF($D78=\"\",\"\",SUM(#REF!,#REF!,#REF!,#REF!,#REF!,#REF!))","v":""}]
[null,null,null,null,null,null,null,null,null,null,null,"",{"$f":"IF($D79=\"\",\"\",SUM(#REF!,#REF!,#REF!,#REF!,#REF!,#REF!))","v":""}]
[null,null,null,null,null,null,null,null,null,null,null,"",{"$f":"IF($D80=\"\",\"\",SUM(#REF!,#REF!,#REF!,#REF!,#REF!,#REF!))","v":""}]
[null,null,null,null,null,null,null,null,null,null,null,"",{"$f":"IF($D81=\"\",\"\",SUM(#REF!,#REF!,#REF!,#REF!,#REF!,#REF!))","v":""}]
[null,null,null,null,null,null,null,null,null,null,null,"",{"$f":"IF($D82=\"\",\"\",SUM(#REF!,#REF!,#REF!,#REF!,#REF!,#REF!))","v":""}]
[null,null,null,null,null,null,null,null,null,null,null,"",{"$f":"IF($D83=\"\",\"\",SUM(#REF!,#REF!,#REF!,#REF!,#REF!,#REF!))","v":""}]
[null,null,null,null,null,null,null,null,null,null,null,"",{"$f":"IF($D84=\"\",\"\",SUM(#REF!,#REF!,#REF!,#REF!,#REF!,#REF!))","v":""}]
[null,null,null,null,null,null,null,null,null,null,null,"",{"$f":"IF($D85=\"\",\"\",SUM(#REF!,#REF!,#REF!,#REF!,#REF!,#REF!))","v":""}]
[null,null,null,null,null,null,null,null,null,null,null,"",{"$f":"IF($D86=\"\",\"\",SUM(#REF!,#REF!,#REF!,#REF!,#REF!,#REF!))","v":""}]
[null,null,null,null,null,null,null,null,null,null,null,"",{"$f":"IF($D87=\"\",\"\",SUM(#REF!,#REF!,#REF!,#REF!,#REF!,#REF!))","v":""}]
[null,null,null,null,null,null,null,null,null,null,null,"",{"$f":"IF($D88=\"\",\"\",SUM(#REF!,#REF!,#REF!,#REF!,#REF!,#REF!))","v":""}]
[null,null,null,null,null,null,null,null,null,null,null,"",{"$f":"IF($D89=\"\",\"\",SUM(#REF!,#REF!,#REF!,#REF!,#REF!,#REF!))","v":""}]
[null,null,null,null,null,null,null,null,null,null,null,"",{"$f":"IF($D90=\"\",\"\",SUM(#REF!,#REF!,#REF!,#REF!,#REF!,#REF!))","v":""}]
[null,null,null,null,null,null,null,null,null,null,null,"",{"$f":"IF($D91=\"\",\"\",SUM(#REF!,#REF!,#REF!,#REF!,#REF!,#REF!))","v":""}]
[null,null,null,null,null,null,null,null,null,null,null,"",{"$f":"IF($D92=\"\",\"\",SUM(#REF!,#REF!,#REF!,#REF!,#REF!,#REF!))","v":""}]
[null,null,null,null,null,null,null,null,null,null,null,"",{"$f":"IF($D93=\"\",\"\",SUM(#REF!,#REF!,#REF!,#REF!,#REF!,#REF!))","v":""}]
[null,null,null,null,null,null,null,null,null,null,null,"",{"$f":"IF($D94=\"\",\"\",SUM(#REF!,#REF!,#REF!,#REF!,#REF!,#REF!))","v":""}]
[null,null,null,null,null,null,null,null,null,null,null,"",{"$f":"IF($D95=\"\",\"\",SUM(#REF!,#REF!,#REF!,#REF!,#REF!,#REF!))","v":""}]
[null,null,null,null,null,null,null,null,null,null,null,"",{"$f":"IF($D96=\"\",\"\",SUM(#REF!,#REF!,#REF!,#REF!,#REF!,#REF!))","v":""}]
[null,null,null,null,null,null,null,null,null,null,null,"",{"$f":"IF($D97=\"\",\"\",SUM(#REF!,#REF!,#REF!,#REF!,#REF!,#REF!))","v":""}]
[null,null,null,null,null,null,null,null,null,null,null,"",{"$f":"IF($D98=\"\",\"\",SUM(#REF!,#REF!,#REF!,#REF!,#REF!,#REF!))","v":""}]
[null,null,null,null,null,null,null,null,null,null,null,"",{"$f":"IF($D99=\"\",\"\",SUM(#REF!,#REF!,#REF!,#REF!,#REF!,#REF!))","v":""}]
[null,null,null,null,null,null,null,null,null,null,null,"",{"$f":"IF($D100=\"\",\"\",SUM(#REF!,#REF!,#REF!,#REF!,#REF!,#REF!))","v":""}]
[null,null,null,null,null,null,null,null,null,null,null,"",{"$f":"IF($D101=\"\",\"\",SUM(#REF!,#REF!,#REF!,#REF!,#REF!,#REF!))","v":""}]
[null,null,null,null,null,null,null,null,null,null,null,{"$f":"IF($D102=\"\",\"\",SUM(F102,G102,H102,I102,J102,K102))","v":""},{"$f":"IF($D102=\"\",\"\",SUM(#REF!,#REF!,#REF!,#REF!,#REF!,#REF!))","v":""}]
[null,null,null,null,null,null,null,null,null,null,null,"",{"$f":"IF($D103=\"\",\"\",SUM(#REF!,#REF!,#REF!,#REF!,#REF!,#REF!))","v":""}]
[null,null,null,null,null,null,null,null,null,null,null,"",{"$f":"IF($D104=\"\",\"\",SUM(#REF!,#REF!,#REF!,#REF!,#REF!,#REF!))","v":""}]
[null,null,null,null,null,null,null,null,null,null,null,"",{"$f":"IF($D105=\"\",\"\",SUM(#REF!,#REF!,#REF!,#REF!,#REF!,#REF!))","v":""}]
[null,null,null,null,null,null,null,null,null,null,null,"",{"$f":"IF($D106=\"\",\"\",SUM(#REF!,#REF!,#REF!,#REF!,#REF!,#REF!))","v":""}]
[null,null,null,null,null,null,null,null,null,null,null,"",{"$f":"IF($D107=\"\",\"\",SUM(#REF!,#REF!,#REF!,#REF!,#REF!,#REF!))","v":""}]
[null,null,null,null,null,null,null,null,null,null,null,"",{"$f":"IF($D108=\"\",\"\",SUM(#REF!,#REF!,#REF!,#REF!,#REF!,#REF!))","v":""}]
[null,null,null,null,null,null,null,null,null,null,null,"",{"$f":"IF($D109=\"\",\"\",SUM(#REF!,#REF!,#REF!,#REF!,#REF!,#REF!))","v":""}]
[null,null,null,null,null,null,null,null,null,null,null,"",{"$f":"IF($D110=\"\",\"\",SUM(#REF!,#REF!,#REF!,#REF!,#REF!,#REF!))","v":""}]
[null,null,null,null,null,null,null,null,null,null,null,"",{"$f":"IF($D111=\"\",\"\",SUM(#REF!,#REF!,#REF!,#REF!,#REF!,#REF!))","v":""}]
[null,null,null,null,null,null,null,null,null,null,null,"",{"$f":"IF($D112=\"\",\"\",SUM(#REF!,#REF!,#REF!,#REF!,#REF!,#REF!))","v":""}]
[null,null,null,null,null,null,null,null,null,null,null,"",{"$f":"IF($D113=\"\",\"\",SUM(#REF!,#REF!,#REF!,#REF!,#REF!,#REF!))","v":""}]
[null,null,null,null,null,null,null,null,null,null,null,"",{"$f":"IF($D114=\"\",\"\",SUM(#REF!,#REF!,#REF!,#REF!,#REF!,#REF!))","v":""}]
[null,null,null,null,null,null,null,null,null,null,null,"",{"$f":"IF($D115=\"\",\"\",SUM(#REF!,#REF!,#REF!,#REF!,#REF!,#REF!))","v":""}]
[null,null,null,null,null,null,null,null,null,null,null,"",{"$f":"IF($D116=\"\",\"\",SUM(#REF!,#REF!,#REF!,#REF!,#REF!,#REF!))","v":""}]
[null,null,null,null,null,null,null,null,null,null,null,"",{"$f":"IF($D117=\"\",\"\",SUM(#REF!,#REF!,#REF!,#REF!,#REF!,#REF!))","v":""}]
[null,null,null,null,null,null,null,null,null,null,null,"",{"$f":"IF($D118=\"\",\"\",SUM(#REF!,#REF!,#REF!,#REF!,#REF!,#REF!))","v":""}]
[null,null,null,null,null,null,null,null,null,null,null,"",{"$f":"IF($D119=\"\",\"\",SUM(#REF!,#REF!,#REF!,#REF!,#REF!,#REF!))","v":""}]
[null,null,null,null,null,null,null,null,null,null,null,"",{"$f":"IF($D120=\"\",\"\",SUM(#REF!,#REF!,#REF!,#REF!,#REF!,#REF!))","v":""}]
[null,null,null,null,null,null,null,null,null,null,null,"",{"$f":"IF($D121=\"\",\"\",SUM(#REF!,#REF!,#REF!,#REF!,#REF!,#REF!))","v":""}]
[null,null,null,null,null,null,null,null,null,null,null,"",{"$f":"IF($D122=\"\",\"\",SUM(#REF!,#REF!,#REF!,#REF!,#REF!,#REF!))","v":""}]
[null,null,null,null,null,null,null,null,null,null,null,"",{"$f":"IF($D123=\"\",\"\",SUM(#REF!,#REF!,#REF!,#REF!,#REF!,#REF!))","v":""}]
[null,null,null,null,null,null,null,null,null,null,null,"",{"$f":"IF($D124=\"\",\"\",SUM(#REF!,#REF!,#REF!,#REF!,#REF!,#REF!))","v":""}]
[null,null,null,null,null,null,null,null,null,null,null,"",{"$f":"IF($D125=\"\",\"\",SUM(#REF!,#REF!,#REF!,#REF!,#REF!,#REF!))","v":""}]
[null,null,null,null,null,null,null,null,null,null,null,"",{"$f":"IF($D126=\"\",\"\",SUM(#REF!,#REF!,#REF!,#REF!,#REF!,#REF!))","v":""}]
[null,null,null,null,null,null,null,null,null,null,null,"",{"$f":"IF($D127=\"\",\"\",SUM(#REF!,#REF!,#REF!,#REF!,#REF!,#REF!))","v":""}]
[null,null,null,null,null,null,null,null,null,null,null,"",{"$f":"IF($D128=\"\",\"\",SUM(#REF!,#REF!,#REF!,#REF!,#REF!,#REF!))","v":""}]
[null,null,null,null,null,null,null,null,null,null,null,"",{"$f":"IF($D129=\"\",\"\",SUM(#REF!,#REF!,#REF!,#REF!,#REF!,#REF!))","v":""}]
[null,null,null,null,null,null,null,null,null,null,null,"",{"$f":"IF($D130=\"\",\"\",SUM(#REF!,#REF!,#REF!,#REF!,#REF!,#REF!))","v":""}]
[null,null,null,null,null,null,null,null,null,null,null,"",{"$f":"IF($D131=\"\",\"\",SUM(#REF!,#REF!,#REF!,#REF!,#REF!,#REF!))","v":""}]
[null,null,null,null,null,null,null,null,null,null,null,"",{"$f":"IF($D132=\"\",\"\",SUM(#REF!,#REF!,#REF!,#REF!,#REF!,#REF!))","v":""}]
[null,null,null,null,null,null,null,null,null,null,null,"",{"$f":"IF($D133=\"\",\"\",SUM(#REF!,#REF!,#REF!,#REF!,#REF!,#REF!))","v":""}]
[null,null,null,null,null,null,null,null,null,null,null,"",{"$f":"IF($D134=\"\",\"\",SUM(#REF!,#REF!,#REF!,#REF!,#REF!,#REF!))","v":""}]
[null,null,null,null,null,null,null,null,null,null,null,"",{"$f":"IF($D135=\"\",\"\",SUM(#REF!,#REF!,#REF!,#REF!,#REF!,#REF!))","v":""}]
[null,null,null,null,null,null,null,null,null,null,null,"",{"$f":"IF($D136=\"\",\"\",SUM(#REF!,#REF!,#REF!,#REF!,#REF!,#REF!))","v":""}]
[null,null,null,null,null,null,null,null,null,null,null,"",{"$f":"IF($D137=\"\",\"\",SUM(#REF!,#REF!,#REF!,#REF!,#REF!,#REF!))","v":""}]
[null,null,null,null,null,null,null,null,null,null,null,"",{"$f":"IF($D138=\"\",\"\",SUM(#REF!,#REF!,#REF!,#REF!,#REF!,#REF!))","v":""}]
[null,null,null,null,null,null,null,null,null,null,null,"",{"$f":"IF($D139=\"\",\"\",SUM(#REF!,#REF!,#REF!,#REF!,#REF!,#REF!))","v":""}]
[null,null,null,null,null,null,null,null,null,null,null,"",{"$f":"IF($D140=\"\",\"\",SUM(#REF!,#REF!,#REF!,#REF!,#REF!,#REF!))","v":""}]
[null,null,null,null,null,null,null,null,null,null,null,"",{"$f":"IF($D141=\"\",\"\",SUM(#REF!,#REF!,#REF!,#REF!,#REF!,#REF!))","v":""}]
[null,null,null,null,null,null,null,null,null,null,null,"",{"$f":"IF($D142=\"\",\"\",SUM(#REF!,#REF!,#REF!,#REF!,#REF!,#REF!))","v":""}]
[null,null,null,null,null,null,null,null,null,null,null,"",{"$f":"IF($D143=\"\",\"\",SUM(#REF!,#REF!,#REF!,#REF!,#REF!,#REF!))","v":""}]
[null,null,null,null,null,null,null,null,null,null,null,"",{"$f":"IF($D144=\"\",\"\",SUM(#REF!,#REF!,#REF!,#REF!,#REF!,#REF!))","v":""}]
[null,null,null,null,null,null,null,null,null,null,null,"",{"$f":"IF($D145=\"\",\"\",SUM(#REF!,#REF!,#REF!,#REF!,#REF!,#REF!))","v":""}]
[null,null,null,null,null,null,null,null,null,null,null,"",{"$f":"IF($D146=\"\",\"\",SUM(#REF!,#REF!,#REF!,#REF!,#REF!,#REF!))","v":""}]
[null,null,null,null,null,null,null,null,null,null,null,"",{"$f":"IF($D147=\"\",\"\",SUM(#REF!,#REF!,#REF!,#REF!,#REF!,#REF!))","v":""}]
[null,null,null,null,null,null,null,null,null,null,null,"",{"$f":"IF($D148=\"\",\"\",SUM(#REF!,#REF!,#REF!,#REF!,#REF!,#REF!))","v":""}]
[null,null,null,null,null,null,null,null,null,null,null,"",{"$f":"IF($D149=\"\",\"\",SUM(#REF!,#REF!,#REF!,#REF!,#REF!,#REF!))","v":""}]
[null,null,null,null,null,null,null,null,null,null,null,"",{"$f":"IF($D150=\"\",\"\",SUM(#REF!,#REF!,#REF!,#REF!,#REF!,#REF!))","v":""}]
[null,null,null,null,null,null,null,null,null,null,null,"",{"$f":"IF($D151=\"\",\"\",SUM(#REF!,#REF!,#REF!,#REF!,#REF!,#REF!))","v":""}]
[null,null,null,null,null,null,null,null,null,null,null,"",{"$f":"IF($D152=\"\",\"\",SUM(#REF!,#REF!,#REF!,#REF!,#REF!,#REF!))","v":""}]
[null,null,null,null,null,null,null,null,null,null,null,"",{"$f":"IF($D153=\"\",\"\",SUM(#REF!,#REF!,#REF!,#REF!,#REF!,#REF!))","v":""}]
[null,null,null,null,null,null,null,null,null,null,null,"",{"$f":"IF($D154=\"\",\"\",SUM(#REF!,#REF!,#REF!,#REF!,#REF!,#REF!))","v":""}]
[null,null,null,null,null,null,null,null,null,null,null,"",{"$f":"IF($D155=\"\",\"\",SUM(#REF!,#REF!,#REF!,#REF!,#REF!,#REF!))","v":""}]
[null,null,null,null,null,null,null,null,null,null,null,"",{"$f":"IF($D156=\"\",\"\",SUM(#REF!,#REF!,#REF!,#REF!,#REF!,#REF!))","v":""}]
[null,null,null,null,null,null,null,null,null,null,null,"",{"$f":"IF($D157=\"\",\"\",SUM(#REF!,#REF!,#REF!,#REF!,#REF!,#REF!))","v":""}]
[null,null,null,null,null,null,null,null,null,null,null,"",{"$f":"IF($D158=\"\",\"\",SUM(#REF!,#REF!,#REF!,#REF!,#REF!,#REF!))","v":""}]
[null,null,null,null,null,null,null,null,null,null,null,"",{"$f":"IF($D159=\"\",\"\",SUM(#REF!,#REF!,#REF!,#REF!,#REF!,#REF!))","v":""}]
[null,null,null,null,null,null,null,null,null,null,null,"",{"$f":"IF($D160=\"\",\"\",SUM(#REF!,#REF!,#REF!,#REF!,#REF!,#REF!))","v":""}]
[null,null,null,null,null,null,null,null,null,null,null,"",{"$f":"IF($D161=\"\",\"\",SUM(#REF!,#REF!,#REF!,#REF!,#REF!,#REF!))","v":""}]
[null,null,null,null,null,null,null,null,null,null,null,"",{"$f":"IF($D162=\"\",\"\",SUM(#REF!,#REF!,#REF!,#REF!,#REF!,#REF!))","v":""}]
[null,null,null,null,null,null,null,null,null,null,null,"",{"$f":"IF($D163=\"\",\"\",SUM(#REF!,#REF!,#REF!,#REF!,#REF!,#REF!))","v":""}]
[null,null,null,null,null,null,null,null,null,null,null,"",{"$f":"IF($D164=\"\",\"\",SUM(#REF!,#REF!,#REF!,#REF!,#REF!,#REF!))","v":""}]
[null,null,null,null,null,null,null,null,null,null,null,"",{"$f":"IF($D165=\"\",\"\",SUM(#REF!,#REF!,#REF!,#REF!,#REF!,#REF!))","v":""}]
[null,null,null,null,null,null,null,null,null,null,null,{"$f":"IF($D166=\"\",\"\",SUM(F166,G166,H166,I166,J166,K166))","v":""},{"$f":"IF($D166=\"\",\"\",SUM(#REF!,#REF!,#REF!,#REF!,#REF!,#REF!))","v":""}]
[null,null,null,null,null,null,null,null,null,null,null,"",{"$f":"IF($D167=\"\",\"\",SUM(#REF!,#REF!,#REF!,#REF!,#REF!,#REF!))","v":""}]
[null,null,null,null,null,null,null,null,null,null,null,"",{"$f":"IF($D168=\"\",\"\",SUM(#REF!,#REF!,#REF!,#REF!,#REF!,#REF!))","v":""}]
[null,null,null,null,null,null,null,null,null,null,null,"",{"$f":"IF($D169=\"\",\"\",SUM(#REF!,#REF!,#REF!,#REF!,#REF!,#REF!))","v":""}]
[null,null,null,null,null,null,null,null,null,null,null,"",{"$f":"IF($D170=\"\",\"\",SUM(#REF!,#REF!,#REF!,#REF!,#REF!,#REF!))","v":""}]
[null,null,null,null,null,null,null,null,null,null,null,"",{"$f":"IF($D171=\"\",\"\",SUM(#REF!,#REF!,#REF!,#REF!,#REF!,#REF!))","v":""}]
[null,null,null,null,null,null,null,null,null,null,null,"",{"$f":"IF($D172=\"\",\"\",SUM(#REF!,#REF!,#REF!,#REF!,#REF!,#REF!))","v":""}]
[null,null,null,null,null,null,null,null,null,null,null,"",{"$f":"IF($D173=\"\",\"\",SUM(#REF!,#REF!,#REF!,#REF!,#REF!,#REF!))","v":""}]
[null,null,null,null,null,null,null,null,null,null,null,"",{"$f":"IF($D174=\"\",\"\",SUM(#REF!,#REF!,#REF!,#REF!,#REF!,#REF!))","v":""}]
[null,null,null,null,null,null,null,null,null,null,null,"",{"$f":"IF($D175=\"\",\"\",SUM(#REF!,#REF!,#REF!,#REF!,#REF!,#REF!))","v":""}]
[null,null,null,null,null,null,null,null,null,null,null,"",{"$f":"IF($D176=\"\",\"\",SUM(#REF!,#REF!,#REF!,#REF!,#REF!,#REF!))","v":""}]
[null,null,null,null,null,null,null,null,null,null,null,"",{"$f":"IF($D177=\"\",\"\",SUM(#REF!,#REF!,#REF!,#REF!,#REF!,#REF!))","v":""}]
[null,null,null,null,null,null,null,null,null,null,null,"",{"$f":"IF($D178=\"\",\"\",SUM(#REF!,#REF!,#REF!,#REF!,#REF!,#REF!))","v":""}]
[null,null,null,null,null,null,null,null,null,null,null,"",{"$f":"IF($D179=\"\",\"\",SUM(#REF!,#REF!,#REF!,#REF!,#REF!,#REF!))","v":""}]
[null,null,null,null,null,null,null,null,null,null,null,"",{"$f":"IF($D180=\"\",\"\",SUM(#REF!,#REF!,#REF!,#REF!,#REF!,#REF!))","v":""}]
[null,null,null,null,null,null,null,null,null,null,null,"",{"$f":"IF($D181=\"\",\"\",SUM(#REF!,#REF!,#REF!,#REF!,#REF!,#REF!))","v":""}]
[null,null,null,null,null,null,null,null,null,null,null,"",{"$f":"IF($D182=\"\",\"\",SUM(#REF!,#REF!,#REF!,#REF!,#REF!,#REF!))","v":""}]
[null,null,null,null,null,null,null,null,null,null,null,"",{"$f":"IF($D183=\"\",\"\",SUM(#REF!,#REF!,#REF!,#REF!,#REF!,#REF!))","v":""}]
[null,null,null,null,null,null,null,null,null,null,null,"",{"$f":"IF($D184=\"\",\"\",SUM(#REF!,#REF!,#REF!,#REF!,#REF!,#REF!))","v":""}]
[null,null,null,null,null,null,null,null,null,null,null,"",{"$f":"IF($D185=\"\",\"\",SUM(#REF!,#REF!,#REF!,#REF!,#REF!,#REF!))","v":""}]
[null,null,null,null,null,null,null,null,null,null,null,"",{"$f":"IF($D186=\"\",\"\",SUM(#REF!,#REF!,#REF!,#REF!,#REF!,#REF!))","v":""}]
[null,null,null,null,null,null,null,null,null,null,null,"",{"$f":"IF($D187=\"\",\"\",SUM(#REF!,#REF!,#REF!,#REF!,#REF!,#REF!))","v":""}]
[null,null,null,null,null,null,null,null,null,null,null,"",{"$f":"IF($D188=\"\",\"\",SUM(#REF!,#REF!,#REF!,#REF!,#REF!,#REF!))","v":""}]
[null,null,null,null,null,null,null,null,null,null,null,"",{"$f":"IF($D189=\"\",\"\",SUM(#REF!,#REF!,#REF!,#REF!,#REF!,#REF!))","v":""}]
[null,null,null,null,null,null,null,null,null,null,null,"",{"$f":"IF($D190=\"\",\"\",SUM(#REF!,#REF!,#REF!,#REF!,#REF!,#REF!))","v":""}]
[null,null,null,null,null,null,null,null,null,null,null,"",{"$f":"IF($D191=\"\",\"\",SUM(#REF!,#REF!,#REF!,#REF!,#REF!,#REF!))","v":""}]
[null,null,null,null,null,null,null,null,null,null,null,"",{"$f":"IF($D192=\"\",\"\",SUM(#REF!,#REF!,#REF!,#REF!,#REF!,#REF!))","v":""}]
[null,null,null,null,null,null,null,null,null,null,null,"",{"$f":"IF($D193=\"\",\"\",SUM(#REF!,#REF!,#REF!,#REF!,#REF!,#REF!))","v":""}]
[null,null,null,null,null,null,null,null,null,null,null,"",{"$f":"IF($D194=\"\",\"\",SUM(#REF!,#REF!,#REF!,#REF!,#REF!,#REF!))","v":""}]
[null,null,null,null,null,null,null,null,null,null,null,"",{"$f":"IF($D195=\"\",\"\",SUM(#REF!,#REF!,#REF!,#REF!,#REF!,#REF!))","v":""}]
[null,null,null,null,null,null,null,null,null,null,null,"",{"$f":"IF($D196=\"\",\"\",SUM(#REF!,#REF!,#REF!,#REF!,#REF!,#REF!))","v":""}]
[null,null,null,null,null,null,null,null,null,null,null,"",{"$f":"IF($D197=\"\",\"\",SUM(#REF!,#REF!,#REF!,#REF!,#REF!,#REF!))","v":""}]
[null,null,null,null,null,null,null,null,null,null,null,"",{"$f":"IF($D198=\"\",\"\",SUM(#REF!,#REF!,#REF!,#REF!,#REF!,#REF!))","v":""}]
[null,null,null,null,null,null,null,null,null,null,null,"",{"$f":"IF($D199=\"\",\"\",SUM(#REF!,#REF!,#REF!,#REF!,#REF!,#REF!))","v":""}]
[null,null,null,null,null,null,null,null,null,null,null,"",{"$f":"IF($D200=\"\",\"\",SUM(#REF!,#REF!,#REF!,#REF!,#REF!,#REF!))","v":""}]
[null,null,null,null,null,null,null,null,null,null,null,"",{"$f":"IF($D201=\"\",\"\",SUM(#REF!,#REF!,#REF!,#REF!,#REF!,#REF!))","v":""}]
[null,null,null,null,null,null,null,null,null,null,null,"",{"$f":"IF($D202=\"\",\"\",SUM(#REF!,#REF!,#REF!,#REF!,#REF!,#REF!))","v":""}]
[null,null,null,null,null,null,null,null,null,null,null,"",{"$f":"IF($D203=\"\",\"\",SUM(#REF!,#REF!,#REF!,#REF!,#REF!,#REF!))","v":""}]
[null,null,null,null,null,null,null,null,null,null,null,"",{"$f":"IF($D204=\"\",\"\",SUM(#REF!,#REF!,#REF!,#REF!,#REF!,#REF!))","v":""}]
[null,null,null,null,null,null,null,null,null,null,null,"",{"$f":"IF($D205=\"\",\"\",SUM(#REF!,#REF!,#REF!,#REF!,#REF!,#REF!))","v":""}]
[null,null,null,null,null,null,null,null,null,null,null,"",{"$f":"IF($D206=\"\",\"\",SUM(#REF!,#REF!,#REF!,#REF!,#REF!,#REF!))","v":""}]
[null,null,null,null,null,null,null,null,null,null,null,"",{"$f":"IF($D207=\"\",\"\",SUM(#REF!,#REF!,#REF!,#REF!,#REF!,#REF!))","v":""}]
[null,null,null,null,null,null,null,null,null,null,null,"",{"$f":"IF($D208=\"\",\"\",SUM(#REF!,#REF!,#REF!,#REF!,#REF!,#REF!))","v":""}]
[null,null,null,null,null,null,null,null,null,null,null,"",{"$f":"IF($D209=\"\",\"\",SUM(#REF!,#REF!,#REF!,#REF!,#REF!,#REF!))","v":""}]
[null,null,null,null,null,null,null,null,null,null,null,"",{"$f":"IF($D210=\"\",\"\",SUM(#REF!,#REF!,#REF!,#REF!,#REF!,#REF!))","v":""}]
[null,null,null,null,null,null,null,null,null,null,null,"",{"$f":"IF($D211=\"\",\"\",SUM(#REF!,#REF!,#REF!,#REF!,#REF!,#REF!))","v":""}]
[null,null,null,null,null,null,null,null,null,null,null,"",{"$f":"IF($D212=\"\",\"\",SUM(#REF!,#REF!,#REF!,#REF!,#REF!,#REF!))","v":""}]
[null,null,null,null,null,null,null,null,null,null,null,"",{"$f":"IF($D213=\"\",\"\",SUM(#REF!,#REF!,#REF!,#REF!,#REF!,#REF!))","v":""}]
[null,null,null,null,null,null,null,null,null,null,null,"",{"$f":"IF($D214=\"\",\"\",SUM(#REF!,#REF!,#REF!,#REF!,#REF!,#REF!))","v":""}]
[null,null,null,null,null,null,null,null,null,null,null,"",{"$f":"IF($D215=\"\",\"\",SUM(#REF!,#REF!,#REF!,#REF!,#REF!,#REF!))","v":""}]
[null,null,null,null,null,null,null,null,null,null,null,"",{"$f":"IF($D216=\"\",\"\",SUM(#REF!,#REF!,#REF!,#REF!,#REF!,#REF!))","v":""}]
[null,null,null,null,null,null,null,null,null,null,null,"",{"$f":"IF($D217=\"\",\"\",SUM(#REF!,#REF!,#REF!,#REF!,#REF!,#REF!))","v":""}]
[null,null,null,null,null,null,null,null,null,null,null,"",{"$f":"IF($D218=\"\",\"\",SUM(#REF!,#REF!,#REF!,#REF!,#REF!,#REF!))","v":""}]
[null,null,null,null,null,null,null,null,null,null,null,"",{"$f":"IF($D219=\"\",\"\",SUM(#REF!,#REF!,#REF!,#REF!,#REF!,#REF!))","v":""}]
[null,null,null,null,null,null,null,null,null,null,null,"",{"$f":"IF($D220=\"\",\"\",SUM(#REF!,#REF!,#REF!,#REF!,#REF!,#REF!))","v":""}]
[null,null,null,null,null,null,null,null,null,null,null,"",{"$f":"IF($D221=\"\",\"\",SUM(#REF!,#REF!,#REF!,#REF!,#REF!,#REF!))","v":""}]
[null,null,null,null,null,null,null,null,null,null,null,"",{"$f":"IF($D222=\"\",\"\",SUM(#REF!,#REF!,#REF!,#REF!,#REF!,#REF!))","v":""}]
[null,null,null,null,null,null,null,null,null,null,null,"",{"$f":"IF($D223=\"\",\"\",SUM(#REF!,#REF!,#REF!,#REF!,#REF!,#REF!))","v":""}]
[null,null,null,null,null,null,null,null,null,null,null,"",{"$f":"IF($D224=\"\",\"\",SUM(#REF!,#REF!,#REF!,#REF!,#REF!,#REF!))","v":""}]
[null,null,null,null,null,null,null,null,null,null,null,"",{"$f":"IF($D225=\"\",\"\",SUM(#REF!,#REF!,#REF!,#REF!,#REF!,#REF!))","v":""}]
[null,null,null,null,null,null,null,null,null,null,null,"",{"$f":"IF($D226=\"\",\"\",SUM(#REF!,#REF!,#REF!,#REF!,#REF!,#REF!))","v":""}]
[null,null,null,null,null,null,null,null,null,null,null,"",{"$f":"IF($D227=\"\",\"\",SUM(#REF!,#REF!,#REF!,#REF!,#REF!,#REF!))","v":""}]
[null,null,null,null,null,null,null,null,null,null,null,"",{"$f":"IF($D228=\"\",\"\",SUM(#REF!,#REF!,#REF!,#REF!,#REF!,#REF!))","v":""}]
[null,null,null,null,null,null,null,null,null,null,null,"",{"$f":"IF($D229=\"\",\"\",SUM(#REF!,#REF!,#REF!,#REF!,#REF!,#REF!))","v":""}]
[null,null,null,null,null,null,null,null,null,null,null,{"$f":"IF($D230=\"\",\"\",SUM(F230,G230,H230,I230,J230,K230))","v":""},{"$f":"IF($D230=\"\",\"\",SUM(#REF!,#REF!,#REF!,#REF!,#REF!,#REF!))","v":""}]
[null,null,null,null,null,null,null,null,null,null,null,"",{"$f":"IF($D231=\"\",\"\",SUM(#REF!,#REF!,#REF!,#REF!,#REF!,#REF!))","v":""}]
[null,null,null,null,null,null,null,null,null,null,null,"",{"$f":"IF($D232=\"\",\"\",SUM(#REF!,#REF!,#REF!,#REF!,#REF!,#REF!))","v":""}]
[null,null,null,null,null,null,null,null,null,null,null,"",{"$f":"IF($D233=\"\",\"\",SUM(#REF!,#REF!,#REF!,#REF!,#REF!,#REF!))","v":""}]
[null,null,null,null,null,null,null,null,null,null,null,"",{"$f":"IF($D234=\"\",\"\",SUM(#REF!,#REF!,#REF!,#REF!,#REF!,#REF!))","v":""}]
[null,null,null,null,null,null,null,null,null,null,null,"",{"$f":"IF($D235=\"\",\"\",SUM(#REF!,#REF!,#REF!,#REF!,#REF!,#REF!))","v":""}]
[null,null,null,null,null,null,null,null,null,null,null,"",{"$f":"IF($D236=\"\",\"\",SUM(#REF!,#REF!,#REF!,#REF!,#REF!,#REF!))","v":""}]
[null,null,null,null,null,null,null,null,null,null,null,"",{"$f":"IF($D237=\"\",\"\",SUM(#REF!,#REF!,#REF!,#REF!,#REF!,#REF!))","v":""}]
[null,null,null,null,null,null,null,null,null,null,null,"",{"$f":"IF($D238=\"\",\"\",SUM(#REF!,#REF!,#REF!,#REF!,#REF!,#REF!))","v":""}]
[null,null,null,null,null,null,null,null,null,null,null,"",{"$f":"IF($D239=\"\",\"\",SUM(#REF!,#REF!,#REF!,#REF!,#REF!,#REF!))","v":""}]
[null,null,null,null,null,null,null,null,null,null,null,"",{"$f":"IF($D240=\"\",\"\",SUM(#REF!,#REF!,#REF!,#REF!,#REF!,#REF!))","v":""}]
[null,null,null,null,null,null,null,null,null,null,null,"",{"$f":"IF($D241=\"\",\"\",SUM(#REF!,#REF!,#REF!,#REF!,#REF!,#REF!))","v":""}]
[null,null,null,null,null,null,null,null,null,null,null,"",{"$f":"IF($D242=\"\",\"\",SUM(#REF!,#REF!,#REF!,#REF!,#REF!,#REF!))","v":""}]
[null,null,null,null,null,null,null,null,null,null,null,"",{"$f":"IF($D243=\"\",\"\",SUM(#REF!,#REF!,#REF!,#REF!,#REF!,#REF!))","v":""}]
[null,null,null,null,null,null,null,null,null,null,null,"",{"$f":"IF($D244=\"\",\"\",SUM(#REF!,#REF!,#REF!,#REF!,#REF!,#REF!))","v":""}]
[null,null,null,null,null,null,null,null,null,null,null,"",{"$f":"IF($D245=\"\",\"\",SUM(#REF!,#REF!,#REF!,#REF!,#REF!,#REF!))","v":""}]
[null,null,null,null,null,null,null,null,null,null,null,"",{"$f":"IF($D246=\"\",\"\",SUM(#REF!,#REF!,#REF!,#REF!,#REF!,#REF!))","v":""}]
[null,null,null,null,null,null,null,null,null,null,null,"",{"$f":"IF($D247=\"\",\"\",SUM(#REF!,#REF!,#REF!,#REF!,#REF!,#REF!))","v":""}]
[null,null,null,null,null,null,null,null,null,null,null,"",{"$f":"IF($D248=\"\",\"\",SUM(#REF!,#REF!,#REF!,#REF!,#REF!,#REF!))","v":""}]
[null,null,null,null,null,null,null,null,null,null,null,"",{"$f":"IF($D249=\"\",\"\",SUM(#REF!,#REF!,#REF!,#REF!,#REF!,#REF!))","v":""}]
[null,null,null,null,null,null,null,null,null,null,null,"",{"$f":"IF($D250=\"\",\"\",SUM(#REF!,#REF!,#REF!,#REF!,#REF!,#REF!))","v":""}]
[null,null,null,null,null,null,null,null,null,null,null,"",{"$f":"IF($D251=\"\",\"\",SUM(#REF!,#REF!,#REF!,#REF!,#REF!,#REF!))","v":""}]
[null,null,null,null,null,null,null,null,null,null,null,"",{"$f":"IF($D252=\"\",\"\",SUM(#REF!,#REF!,#REF!,#REF!,#REF!,#REF!))","v":""}]
[null,null,null,null,null,null,null,null,null,null,null,"",{"$f":"IF($D253=\"\",\"\",SUM(#REF!,#REF!,#REF!,#REF!,#REF!,#REF!))","v":""}]
[null,null,null,null,null,null,null,null,null,null,null,"",{"$f":"IF($D254=\"\",\"\",SUM(#REF!,#REF!,#REF!,#REF!,#REF!,#REF!))","v":""}]
[null,null,null,null,null,null,null,null,null,null,null,"",{"$f":"IF($D255=\"\",\"\",SUM(#REF!,#REF!,#REF!,#REF!,#REF!,#REF!))","v":""}]
[null,null,null,null,null,null,null,null,null,null,null,"",{"$f":"IF($D256=\"\",\"\",SUM(#REF!,#REF!,#REF!,#REF!,#REF!,#REF!))","v":""}]
[null,null,null,null,null,null,null,null,null,null,null,"",{"$f":"IF($D257=\"\",\"\",SUM(#REF!,#REF!,#REF!,#REF!,#REF!,#REF!))","v":""}]
[null,null,null,null,null,null,null,null,null,null,null,"",{"$f":"IF($D258=\"\",\"\",SUM(#REF!,#REF!,#REF!,#REF!,#REF!,#REF!))","v":""}]
[null,null,null,null,null,null,null,null,null,null,null,"",{"$f":"IF($D259=\"\",\"\",SUM(#REF!,#REF!,#REF!,#REF!,#REF!,#REF!))","v":""}]
[null,null,null,null,null,null,null,null,null,null,null,"",{"$f":"IF($D260=\"\",\"\",SUM(#REF!,#REF!,#REF!,#REF!,#REF!,#REF!))","v":""}]
[null,null,null,null,null,null,null,null,null,null,null,"",{"$f":"IF($D261=\"\",\"\",SUM(#REF!,#REF!,#REF!,#REF!,#REF!,#REF!))","v":""}]
[null,null,null,null,null,null,null,null,null,null,null,"",{"$f":"IF($D262=\"\",\"\",SUM(#REF!,#REF!,#REF!,#REF!,#REF!,#REF!))","v":""}]
[null,null,null,null,null,null,null,null,null,null,null,"",{"$f":"IF($D263=\"\",\"\",SUM(#REF!,#REF!,#REF!,#REF!,#REF!,#REF!))","v":""}]
[null,null,null,null,null,null,null,null,null,null,null,"",{"$f":"IF($D264=\"\",\"\",SUM(#REF!,#REF!,#REF!,#REF!,#REF!,#REF!))","v":""}]
[null,null,null,null,null,null,null,null,null,null,null,"",{"$f":"IF($D265=\"\",\"\",SUM(#REF!,#REF!,#REF!,#REF!,#REF!,#REF!))","v":""}]

{"sheet":"10mS60MWFINAL","index":2,"n_rows":37,"n_cols":15,"rows_kept":37,"cut":false,"hidden":false,"merged":[[1,4,1,5],[1,6,1,12]]}
[]
["Rank","Bib No","Name","Univ","1st Comp. Stage","","2nd Competition - Elimination","","","","","","","Total","Remarks"]
[]
[1,"B","おかもと かずき","関西大学",{"$f":"E5+E6+E7","v":30},{"$f":"E4+F5+F6+F7","v":59.8},80.3,100.60000000000001,121.4,141.6,161,181.20000000000002,199.8,{"$f":"M4","v":199.8}]
[null,null,"岡本 和樹",null,9.3000000000000007,10,10.3,10.4,10.5,10,9.9,10.4,10.199999999999999]
[null,null,null,null,10,9.3000000000000007,10.199999999999999,9.9,10.3,10.199999999999999,9.5,9.8000000000000007,8.4]
[null,null,null,null,10.7,10.5]
[]
[2,"E","じんぼ あかね","立命館大学",{"$f":"E10+E11+E12","v":29},{"$f":"E9+F10+F11+F12","v":59},78.5,98.8,118.49999999999999,138.5,159.29999999999998,178.5,198.4,{"$f":"M9","v":198.4}]
[null,null,"神保 茜",null,8.1,10.199999999999999,9.6999999999999993,9.6999999999999993,9.1,10.1,10.199999999999999,8.9,10.5]
[null,null,null,null,10.1,10.1,9.8000000000000007,10.6,10.6,9.9,10.6,10.3,9.4]
[null,null,null,null,10.8,9.6999999999999993]
[]
[3,"D","すずき りさこ","関西大学",{"$f":"E15+E16+E17","v":28.5},{"$f":"E14+F15+F16+F17","v":58.4},79,98.7,117.80000000000001,138.30000000000001,157.20000000000002,175.70000000000002,null,{"$f":"L14","v":175.70000000000002}]
[null,null,"鈴木 梨紗子",null,9.4,9.3000000000000007,10.6,9.4,10.199999999999999,10.199999999999999,8.9,10.3]
[null,null,null,null,10,10.199999999999999,10,10.3,8.9,10.3,10,8.1999999999999993]
[null,null,null,null,9.1,10.4]
[]
[4,"A","まつはば あゆ","立命館大学",{"$f":"E20+E21+E22","v":29.1},{"$f":"E19+F20+F21+F22","v":58.9},77.8,96.9,116.9,136.4,155.4,null,null,{"$f":"K19","v":155.4}]
[null,null,"松巾 亜由",null,10.199999999999999,9.4,8.6,9.4,9.9,9,9.3000000000000007]
[null,null,null,null,9.5,10.3,10.3,9.6999999999999993,10.1,10.5,9.6999999999999993]
[null,null,null,null,9.4,10.1]
[]
[5,"C","かただ みちる","関西大学",{"$f":"E25+E26+E27","v":29.3},{"$f":"E24+F25+F26+F27","v":57.1},{"$f":"F24+G25+G26+G27","v":75.5},{"$f":"G24+H25+H26+H27","v":97.2},{"$f":"H24+I25+I26+I27","v":116.7},{"$f":"I24+J25+J26+J27","v":135.30000000000001},null,null,null,{"$f":"J24","v":135.30000000000001}]
[null,null,"堅田 みちる",null,10.3,7.9,7.7,10.8,10.8,10.199999999999999]
[null,null,null,null,10.5,9.8000000000000007,10.7,10.9,8.6999999999999993,8.4]
[null,null,null,null,8.5,10.1]
[]
[6,"G","つだ ちえ","関西大学",{"$f":"E30+E31+E32","v":27.299999999999997},{"$f":"E29+F30+F31+F32","v":56.2},{"$f":"F29+G30+G31+G32","v":75.2},{"$f":"G29+H30+H31+H32","v":94.5},{"$f":"H29+I30+I31+I32","v":115.69999999999999},null,null,null,null,{"$f":"I29","v":115.69999999999999}]
[null,null,"津田 智永",null,8,9.6,9.4,10.199999999999999,10.6]
[null,null,null,null,10.4,10.1,9.6,9.1,10.6]
[null,null,null,null,8.9,9.1999999999999993]
[]
[7,"H","おりはら かずき","関西大学",0,0,0,0,null,null,null,null,null,0]
[null,null,"折原 和希",null,0,0,0,0]
[null,null,null,null,0,0,0,0]
[null,null,null,null,0,0]

{"sheet":"10mS60MW 団体","index":3,"n_rows":71,"n_cols":21,"rows_kept":71,"cut":false,"hidden":false,"merged":[[1,0,3,0],[1,18,3,18],[1,19,3,19],[1,20,3,20],[13,0,15,0],[13,18,15,18],[13,19,15,19],[13,20,15,20],[25,0,27,0],[25,18,27,18],[25,19,27,19],[25,20,27,20],[7,0,9,0],[7,18,9,18],[7,19,9,19],[7,20,9,20],[19,0,21,0],[19,18,21,18],[19,19,21,19],[19,20,21,20],[31,0,33,0],[31,18,33,18],[31,19,33,19],[31,20,33,20],[37,0,39,0],[37,18,39,18],[37,19,39,19],[37,20,39,20],[43,0,45,0],[43,18,45,18],[43,19,45,19],[43,20,45,20],[49,0,51,0],[49,18,51,18],[49,19,51,19],[49,20,51,20],[67,0,69,0],[67,18,69,18],[67,19,69,19],[67,20,69,20],[55,0,57,0],[55,18,57,18],[55,19,57,19],[55,20,57,20],[61,0,63,0],[61,18,63,18],[61,19,63,19],[61,20,63,20]]}
["学　校　名","射群","射座","名　前","Ｓ１","X","Ｓ２","X","Ｓ３","X","Ｓ４","X","Ｓ５","X","Ｓ６","X","得　点","X","合　計","順位","備考"]
["関西大学",1,12,"岡本 和樹",98,6,95,4,96,2,97,5,96,4,99,9,581,30,1732,1]
[null,1,20,"堅田 みちる",96,5,95,3,97,5,98,5,96,4,99,7,581,29]
[null,2,12,"津田 智永",93,3,97,7,96,4,93,4,97,6,94,4,570,28]
["[補欠]",2,20,"鈴木 梨紗子",97,5,95,4,97,5,96,3,95,3,96,4,576,24]
[]
["学　校　名","射群","射座","名　前","Ｓ１","X","Ｓ２","X","Ｓ３","X","Ｓ４","X","Ｓ５","X","Ｓ６","X","得　点","X","合　計","順位","備考"]
["立命館大学",1,11,"奥村 哲弘",93,2,96,5,95,5,93,4,95,4,94,4,566,24,1729,2]
[null,1,19,"神保 茜",92,3,98,6,98,5,94,5,98,6,95,5,575,30]
[null,2,11,"松巾 亜由",97,7,97,6,98,7,97,6,99,8,100,9,588,43]
["[補欠]",2,19,"萩原 久樹",0,0,0,0,0,0,0,0,0,0,0,0,0,0]
[]
["学　校　名","射群","射座","名　前","Ｓ１","X","Ｓ２","X","Ｓ３","X","Ｓ４","X","Ｓ５","X","Ｓ６","X","得　点","X","合　計","順位","備考"]
["京都大学",1,5,"西行 優子",88,1,87,1,91,3,90,3,88,3,92,0,536,11,1600,3]
[null,1,15,"蛭田 裕之",84,0,85,2,85,0,89,3,91,2,87,1,521,8]
[null,2,15,"千代田 真一",93,4,93,4,85,1,93,1,91,3,88,2,543,15]
["[補欠]",2,4,"宮田 佳奈子",90,2,89,1,88,1,91,1,93,4,91,3,542,12]
[]
["学　校　名","射群","射座","名　前","Ｓ１","X","Ｓ２","X","Ｓ３","X","Ｓ４","X","Ｓ５","X","Ｓ６","X","得　点","X","合　計","順位","備考"]
["関西学院大学",1,14,"待場 直宏",89,1,87,0,94,1,92,2,97,3,88,1,547,8,1590,4]
[null,1,22,"織野 友嘉",89,1,92,1,92,2,87,0,92,3,94,5,546,12]
[null,2,14,"木村 祐貴",84,1,80,0,78,0,78,1,87,1,90,2,497,5]
["[補欠]"]
[]
["学　校　名","射群","射座","名　前","Ｓ１","X","Ｓ２","X","Ｓ３","X","Ｓ４","X","Ｓ５","X","Ｓ６","X","得　点","X","合　計","順位","備考"]
["同志社大学",1,13,"山口 滉太朗",95,1,90,2,94,5,93,5,87,5,55,1,514,19,1589,5]
[null,1,21,"家高 郁子",93,3,92,3,90,1,90,3,94,4,89,1,548,15]
[null,2,13,"竹下 力",88,0,79,0,92,2,86,2,95,1,87,1,527,6]
["[補欠]",2,21,"川本 隼也",72,0,84,1,72,0,84,0,88,2,82,1,482,4]
[]
["学　校　名","射群","射座","名　前","Ｓ１","X","Ｓ２","X","Ｓ３","X","Ｓ４","X","Ｓ５","X","Ｓ６","X","得　点","X","合　計","順位","備考"]
["京都産業大学",1,16,"田上 諒",89,1,96,6,94,3,92,2,92,1,95,5,558,18,1130,6]
[null,1,24,"桝谷 大貴",0,0,0,0,0,0,0,0,0,0,0,0,0,0]
[null,2,16,"高原 康輝 ",96,4,94,2,98,3,95,4,93,1,96,5,572,19]
["[補欠]"]
[]
["学　校　名","射群","射座","名　前","Ｓ１","X","Ｓ２","X","Ｓ３","X","Ｓ４","X","Ｓ５","X","Ｓ６","X","得　点","X","合　計","順位","備考"]
[null,null,null,null,null,null,null,null,null,null,null,null,null,null,null,null,null,null,{"$f":"SUM(Q38:Q40)","v":0},{"$f":"RANK(S38,S:S)","v":7}]
[]
[]
["[補欠]"]
[]
["学　校　名","射群","射座","名　前","Ｓ１","X","Ｓ２","X","Ｓ３","X","Ｓ４","X","Ｓ５","X","Ｓ６","X","得　点","X","合　計","順位","備考"]
[null,null,null,null,null,null,null,null,null,null,null,null,null,null,null,null,null,null,{"$f":"SUM(Q44:Q46)","v":0},{"$f":"RANK(S44,S:S)","v":7}]
[]
[]
["[補欠]"]
[]
["学　校　名","射群","射座","名　前","Ｓ１","X","Ｓ２","X","Ｓ３","X","Ｓ４","X","Ｓ５","X","Ｓ６","X","得　点","X","合　計","順位","備考"]
[null,null,null,null,null,null,null,null,null,null,null,null,null,null,null,null,null,null,{"$f":"SUM(Q50:Q52)","v":0},{"$f":"RANK(S50,S:S)","v":7}]
[]
[]
["[補欠]"]
[]
["学　校　名","射群","射座","名　前","Ｓ１","X","Ｓ２","X","Ｓ３","X","Ｓ４","X","Ｓ５","X","Ｓ６","X","得　点","X","合　計","順位","備考"]
[null,null,null,null,null,null,null,null,null,null,null,null,null,null,null,null,null,null,{"$f":"SUM(Q56:Q58)","v":0},{"$f":"RANK(S56,S:S)","v":7}]
[]
[]
["[補欠]"]
[]
["学　校　名","射群","射座","名　前","Ｓ１","X","Ｓ２","X","Ｓ３","X","Ｓ４","X","Ｓ５","X","Ｓ６","X","得　点","X","合　計","順位","備考"]
[null,null,null,null,null,null,null,null,null,null,null,null,null,null,null,null,null,null,{"$f":"SUM(Q62:Q64)","v":0},{"$f":"RANK(S62,S:S)","v":7}]
[]
[]
["[補欠]"]
[]
["学　校　名","射群","射座","名　前","Ｓ１","X","Ｓ２","X","Ｓ３","X","Ｓ４","X","Ｓ５","X","Ｓ６","X","得　点","X","合　計","順位","備考"]
[null,null,null,null,null,null,null,null,null,null,null,null,null,null,null,null,null,null,{"$f":"SUM(Q68:Q70)","v":0},{"$f":"RANK(S68,S:S)","v":7}]
[]
[]
["[補欠]"]

{"sheet":"10m3x20MW 入力発表","index":4,"n_rows":275,"n_cols":14,"rows_kept":275,"cut":false,"hidden":false,"merged":[]}
["順位","射群","射座","名　前","学校名","K1","K2","P1","P2","S1","S2","合 計","X","備考"]
[1,"x",5,"西田 寛","甲南大学",94,98,98,98,94,94,576,34,"X=34"]
[2,"x",9,"景山 拓朗","関西学院大学",95,97,100,96,95,93,576,28,"X=28"]
[3,"x",12,"奥村 哲弘","立命館大学",92,87,97,99,97,96,568,26]
[4,"x",25,"松田 真吾","京都産業大学",86,92,99,98,93,94,562,26,"X=26"]
[5,"x",16,"高木 悠","関西学院大学",90,93,97,95,95,92,562,20,"X=20"]
[6,"x",27,"中田 大介","京都大学",96,93,99,97,87,87,559,24]
[7,"x",15,"中村 雄太","京都大学",87,94,97,94,92,94,558,16]
[8,"x",23,"大谷 秀","甲南大学",92,93,96,93,93,90,557,17]
[9,"x",3,"菅原 康之","京都大学",90,91,97,94,89,93,554,14]
[10,"x",20,"西田 康祐","近畿大学",89,92,97,97,91,87,553,20]
[11,"x",28,"副島 隆志","甲南大学",89,92,94,92,93,92,552,14]
[12,"x",13,"後藤 陸","京都大学",92,91,92,92,89,89,545,10]
[13,"x",8,"高橋 孝介","甲南大学",90,89,90,95,90,90,544,17]
[14,"x",17,"貴志 亮飛","甲南大学",76,79,99,94,92,93,533,12]
[15,"x",7,"有本 樹","京都大学",85,83,91,93,89,90,531,17]
[16,"x",6,"楢橋 広基","大阪大学",86,92,87,93,84,87,529,8]
[17,"x",18,"比舍 昌志","京都大学",87,86,97,88,88,80,526,10]
[18,"x",10,"大林 秀行","京都大学",82,89,90,93,85,85,524,6]
[19,"x",14,"鷹取 幹基","甲南大学",86,89,88,87,81,84,515,8]
[20,"x",24,"渡邉 武之","京都大学",0,0,0,0,0,0,0,0,"D.N.S"]
[20,"x",31,"大西 杏奈","甲南大学",0,0,0,0,0,0,0,0,"D.N.S"]
[null,null,null,null,null,null,null,null,null,null,null,{"$f":"IF($D23=\"\",\"\",SUM(F23,G23,H23,I23,J23,K23))","v":""},{"$f":"IF($D23=\"\",\"\",SUM(#REF!,#REF!,#REF!,#REF!,#REF!,#REF!))","v":""}]
[null,null,null,null,null,null,null,null,null,null,null,"",{"$f":"IF($D24=\"\",\"\",SUM(#REF!,#REF!,#REF!,#REF!,#REF!,#REF!))","v":""}]
[null,null,null,null,null,null,null,null,null,null,null,"",{"$f":"IF($D25=\"\",\"\",SUM(#REF!,#REF!,#REF!,#REF!,#REF!,#REF!))","v":""}]
[null,null,null,null,null,null,null,null,null,null,null,"",{"$f":"IF($D26=\"\",\"\",SUM(#REF!,#REF!,#REF!,#REF!,#REF!,#REF!))","v":""}]
[null,null,null,null,null,null,null,null,null,null,null,"",{"$f":"IF($D27=\"\",\"\",SUM(#REF!,#REF!,#REF!,#REF!,#REF!,#REF!))","v":""}]
[null,null,null,null,null,null,null,null,null,null,null,"",{"$f":"IF($D28=\"\",\"\",SUM(#REF!,#REF!,#REF!,#REF!,#REF!,#REF!))","v":""}]
[null,null,null,null,null,null,null,null,null,null,null,"",{"$f":"IF($D29=\"\",\"\",SUM(#REF!,#REF!,#REF!,#REF!,#REF!,#REF!))","v":""}]
[null,null,null,null,null,null,null,null,null,null,null,"",{"$f":"IF($D30=\"\",\"\",SUM(#REF!,#REF!,#REF!,#REF!,#REF!,#REF!))","v":""}]
[null,null,null,null,null,null,null,null,null,null,null,"",{"$f":"IF($D31=\"\",\"\",SUM(#REF!,#REF!,#REF!,#REF!,#REF!,#REF!))","v":""}]
[null,null,null,null,null,null,null,null,null,null,null,"",{"$f":"IF($D32=\"\",\"\",SUM(#REF!,#REF!,#REF!,#REF!,#REF!,#REF!))","v":""}]
[null,null,null,null,null,null,null,null,null,null,null,"",{"$f":"IF($D33=\"\",\"\",SUM(#REF!,#REF!,#REF!,#REF!,#REF!,#REF!))","v":""}]
[null,null,null,null,null,null,null,null,null,null,null,"",{"$f":"IF($D34=\"\",\"\",SUM(#REF!,#REF!,#REF!,#REF!,#REF!,#REF!))","v":""}]
[null,null,null,null,null,null,null,null,null,null,null,"",{"$f":"IF($D35=\"\",\"\",SUM(#REF!,#REF!,#REF!,#REF!,#REF!,#REF!))","v":""}]
[null,null,null,null,null,null,null,null,null,null,null,"",{"$f":"IF($D36=\"\",\"\",SUM(#REF!,#REF!,#REF!,#REF!,#REF!,#REF!))","v":""}]
[null,null,null,null,null,null,null,null,null,null,null,"",{"$f":"IF($D37=\"\",\"\",SUM(#REF!,#REF!,#REF!,#REF!,#REF!,#REF!))","v":""}]
[null,null,null,null,null,null,null,null,null,null,null,"",{"$f":"IF($D38=\"\",\"\",SUM(#REF!,#REF!,#REF!,#REF!,#REF!,#REF!))","v":""}]
[null,null,null,null,null,null,null,null,null,null,null,"",{"$f":"IF($D39=\"\",\"\",SUM(#REF!,#REF!,#REF!,#REF!,#REF!,#REF!))","v":""}]
[null,null,null,null,null,null,null,null,null,null,null,"",{"$f":"IF($D40=\"\",\"\",SUM(#REF!,#REF!,#REF!,#REF!,#REF!,#REF!))","v":""}]
[null,null,null,null,null,null,null,null,null,null,null,"",{"$f":"IF($D41=\"\",\"\",SUM(#REF!,#REF!,#REF!,#REF!,#REF!,#REF!))","v":""}]
[null,null,null,null,null,null,null,null,null,null,null,"",{"$f":"IF($D42=\"\",\"\",SUM(#REF!,#REF!,#REF!,#REF!,#REF!,#REF!))","v":""}]
[null,null,null,null,null,null,null,null,null,null,null,"",{"$f":"IF($D43=\"\",\"\",SUM(#REF!,#REF!,#REF!,#REF!,#REF!,#REF!))","v":""}]
[null,null,null,null,null,null,null,null,null,null,null,"",{"$f":"IF($D44=\"\",\"\",SUM(#REF!,#REF!,#REF!,#REF!,#REF!,#REF!))","v":""}]
[null,null,null,null,null,null,null,null,null,null,null,"",{"$f":"IF($D45=\"\",\"\",SUM(#REF!,#REF!,#REF!,#REF!,#REF!,#REF!))","v":""}]
[null,null,null,null,null,null,null,null,null,null,null,"",{"$f":"IF($D46=\"\",\"\",SUM(#REF!,#REF!,#REF!,#REF!,#REF!,#REF!))","v":""}]
[null,null,null,null,null,null,null,null,null,null,null,"",{"$f":"IF($D47=\"\",\"\",SUM(#REF!,#REF!,#REF!,#REF!,#REF!,#REF!))","v":""}]
[null,null,null,null,null,null,null,null,null,null,null,"",{"$f":"IF($D48=\"\",\"\",SUM(#REF!,#REF!,#REF!,#REF!,#REF!,#REF!))","v":""}]
[null,null,null,null,null,null,null,null,null,null,null,"",{"$f":"IF($D49=\"\",\"\",SUM(#REF!,#REF!,#REF!,#REF!,#REF!,#REF!))","v":""}]
[null,null,null,null,null,null,null,null,null,null,null,"",{"$f":"IF($D50=\"\",\"\",SUM(#REF!,#REF!,#REF!,#REF!,#REF!,#REF!))","v":""}]
[null,null,null,null,null,null,null,null,null,null,null,"",{"$f":"IF($D51=\"\",\"\",SUM(#REF!,#REF!,#REF!,#REF!,#REF!,#REF!))","v":""}]
[null,null,null,null,null,null,null,null,null,null,null,"",{"$f":"IF($D52=\"\",\"\",SUM(#REF!,#REF!,#REF!,#REF!,#REF!,#REF!))","v":""}]
[null,null,null,null,null,null,null,null,null,null,null,"",{"$f":"IF($D53=\"\",\"\",SUM(#REF!,#REF!,#REF!,#REF!,#REF!,#REF!))","v":""}]
[null,null,null,null,null,null,null,null,null,null,null,"",{"$f":"IF($D54=\"\",\"\",SUM(#REF!,#REF!,#REF!,#REF!,#REF!,#REF!))","v":""}]
[null,null,null,null,null,null,null,null,null,null,null,"",{"$f":"IF($D55=\"\",\"\",SUM(#REF!,#REF!,#REF!,#REF!,#REF!,#REF!))","v":""}]
[null,null,null,null,null,null,null,null,null,null,null,"",{"$f":"IF($D56=\"\",\"\",SUM(#REF!,#REF!,#REF!,#REF!,#REF!,#REF!))","v":""}]
[null,null,null,null,null,null,null,null,null,null,null,"",{"$f":"IF($D57=\"\",\"\",SUM(#REF!,#REF!,#REF!,#REF!,#REF!,#REF!))","v":""}]
[null,null,null,null,null,null,null,null,null,null,null,"",{"$f":"IF($D58=\"\",\"\",SUM(#REF!,#REF!,#REF!,#REF!,#REF!,#REF!))","v":""}]
[null,null,null,null,null,null,null,null,null,null,null,"",{"$f":"IF($D59=\"\",\"\",SUM(#REF!,#REF!,#REF!,#REF!,#REF!,#REF!))","v":""}]
[null,null,null,null,null,null,null,null,null,null,null,"",{"$f":"IF($D60=\"\",\"\",SUM(#REF!,#REF!,#REF!,#REF!,#REF!,#REF!))","v":""}]
[null,null,null,null,null,null,null,null,null,null,null,"",{"$f":"IF($D61=\"\",\"\",SUM(#REF!,#REF!,#REF!,#REF!,#REF!,#REF!))","v":""}]
[null,null,null,null,null,null,null,null,null,null,null,"",{"$f":"IF($D62=\"\",\"\",SUM(#REF!,#REF!,#REF!,#REF!,#REF!,#REF!))","v":""}]
[null,null,null,null,null,null,null,null,null,null,null,"",{"$f":"IF($D63=\"\",\"\",SUM(#REF!,#REF!,#REF!,#REF!,#REF!,#REF!))","v":""}]
[null,null,null,null,null,null,null,null,null,null,null,"",{"$f":"IF($D64=\"\",\"\",SUM(#REF!,#REF!,#REF!,#REF!,#REF!,#REF!))","v":""}]
[null,null,null,null,null,null,null,null,null,null,null,"",{"$f":"IF($D65=\"\",\"\",SUM(#REF!,#REF!,#REF!,#REF!,#REF!,#REF!))","v":""}]
[null,null,null,null,null,null,null,null,null,null,null,"",{"$f":"IF($D66=\"\",\"\",SUM(#REF!,#REF!,#REF!,#REF!,#REF!,#REF!))","v":""}]
[null,null,null,null,null,null,null,null,null,null,null,"",{"$f":"IF($D67=\"\",\"\",SUM(#REF!,#REF!,#REF!,#REF!,#REF!,#REF!))","v":""}]
[null,null,null,null,null,null,null,null,null,null,null,"",{"$f":"IF($D68=\"\",\"\",SUM(#REF!,#REF!,#REF!,#REF!,#REF!,#REF!))","v":""}]
[null,null,null,null,null,null,null,null,null,null,null,"",{"$f":"IF($D69=\"\",\"\",SUM(#REF!,#REF!,#REF!,#REF!,#REF!,#REF!))","v":""}]
[null,null,null,null,null,null,null,null,null,null,null,"",{"$f":"IF($D70=\"\",\"\",SUM(#REF!,#REF!,#REF!,#REF!,#REF!,#REF!))","v":""}]
[null,null,null,null,null,null,null,null,null,null,null,"",{"$f":"IF($D71=\"\",\"\",SUM(#REF!,#REF!,#REF!,#REF!,#REF!,#REF!))","v":""}]
[null,null,null,null,null,null,null,null,null,null,null,"",{"$f":"IF($D72=\"\",\"\",SUM(#REF!,#REF!,#REF!,#REF!,#REF!,#REF!))","v":""}]
[null,null,null,null,null,null,null,null,null,null,null,"",{"$f":"IF($D73=\"\",\"\",SUM(#REF!,#REF!,#REF!,#REF!,#REF!,#REF!))","v":""}]
[null,null,null,null,null,null,null,null,null,null,null,"",{"$f":"IF($D74=\"\",\"\",SUM(#REF!,#REF!,#REF!,#REF!,#REF!,#REF!))","v":""}]
[null,null,null,null,null,null,null,null,null,null,null,"",{"$f":"IF($D75=\"\",\"\",SUM(#REF!,#REF!,#REF!,#REF!,#REF!,#REF!))","v":""}]
[null,null,null,null,null,null,null,null,null,null,null,"",{"$f":"IF($D76=\"\",\"\",SUM(#REF!,#REF!,#REF!,#REF!,#REF!,#REF!))","v":""}]
[null,null,null,null,null,null,null,null,null,null,null,"",{"$f":"IF($D77=\"\",\"\",SUM(#REF!,#REF!,#REF!,#REF!,#REF!,#REF!))","v":""}]
[null,null,null,null,null,null,null,null,null,null,null,"",{"$f":"IF($D78=\"\",\"\",SUM(#REF!,#REF!,#REF!,#REF!,#REF!,#REF!))","v":""}]
[null,null,null,null,null,null,null,null,null,null,null,"",{"$f":"IF($D79=\"\",\"\",SUM(#REF!,#REF!,#REF!,#REF!,#REF!,#REF!))","v":""}]
[null,null,null,null,null,null,null,null,null,null,null,"",{"$f":"IF($D80=\"\",\"\",SUM(#REF!,#REF!,#REF!,#REF!,#REF!,#REF!))","v":""}]
[null,null,null,null,null,null,null,null,null,null,null,"",{"$f":"IF($D81=\"\",\"\",SUM(#REF!,#REF!,#REF!,#REF!,#REF!,#REF!))","v":""}]
[null,null,null,null,null,null,null,null,null,null,null,"",{"$f":"IF($D82=\"\",\"\",SUM(#REF!,#REF!,#REF!,#REF!,#REF!,#REF!))","v":""}]
[null,null,null,null,null,null,null,null,null,null,null,"",{"$f":"IF($D83=\"\",\"\",SUM(#REF!,#REF!,#REF!,#REF!,#REF!,#REF!))","v":""}]
[null,null,null,null,null,null,null,null,null,null,null,"",{"$f":"IF($D84=\"\",\"\",SUM(#REF!,#REF!,#REF!,#REF!,#REF!,#REF!))","v":""}]
[null,null,null,null,null,null,null,null,null,null,null,"",{"$f":"IF($D85=\"\",\"\",SUM(#REF!,#REF!,#REF!,#REF!,#REF!,#REF!))","v":""}]
[null,null,null,null,null,null,null,null,null,null,null,"",{"$f":"IF($D86=\"\",\"\",SUM(#REF!,#REF!,#REF!,#REF!,#REF!,#REF!))","v":""}]
[null,null,null,null,null,null,null,null,null,null,null,{"$f":"IF($D87=\"\",\"\",SUM(F87,G87,H87,I87,J87,K87))","v":""},{"$f":"IF($D87=\"\",\"\",SUM(#REF!,#REF!,#REF!,#REF!,#REF!,#REF!))","v":""}]
[null,null,null,null,null,null,null,null,null,null,null,"",{"$f":"IF($D88=\"\",\"\",SUM(#REF!,#REF!,#REF!,#REF!,#REF!,#REF!))","v":""}]
[null,null,null,null,null,null,null,null,null,null,null,"",{"$f":"IF($D89=\"\",\"\",SUM(#REF!,#REF!,#REF!,#REF!,#REF!,#REF!))","v":""}]
[null,null,null,null,null,null,null,null,null,null,null,"",{"$f":"IF($D90=\"\",\"\",SUM(#REF!,#REF!,#REF!,#REF!,#REF!,#REF!))","v":""}]
[null,null,null,null,null,null,null,null,null,null,null,"",{"$f":"IF($D91=\"\",\"\",SUM(#REF!,#REF!,#REF!,#REF!,#REF!,#REF!))","v":""}]
[null,null,null,null,null,null,null,null,null,null,null,"",{"$f":"IF($D92=\"\",\"\",SUM(#REF!,#REF!,#REF!,#REF!,#REF!,#REF!))","v":""}]
[null,null,null,null,null,null,null,null,null,null,null,"",{"$f":"IF($D93=\"\",\"\",SUM(#REF!,#REF!,#REF!,#REF!,#REF!,#REF!))","v":""}]
[null,null,null,null,null,null,null,null,null,null,null,"",{"$f":"IF($D94=\"\",\"\",SUM(#REF!,#REF!,#REF!,#REF!,#REF!,#REF!))","v":""}]
[null,null,null,null,null,null,null,null,null,null,null,"",{"$f":"IF($D95=\"\",\"\",SUM(#REF!,#REF!,#REF!,#REF!,#REF!,#REF!))","v":""}]
[null,null,null,null,null,null,null,null,null,null,null,"",{"$f":"IF($D96=\"\",\"\",SUM(#REF!,#REF!,#REF!,#REF!,#REF!,#REF!))","v":""}]
[null,null,null,null,null,null,null,null,null,null,null,"",{"$f":"IF($D97=\"\",\"\",SUM(#REF!,#REF!,#REF!,#REF!,#REF!,#REF!))","v":""}]
[null,null,null,null,null,null,null,null,null,null,null,"",{"$f":"IF($D98=\"\",\"\",SUM(#REF!,#REF!,#REF!,#REF!,#REF!,#REF!))","v":""}]
[null,null,null,null,null,null,null,null,null,null,null,"",{"$f":"IF($D99=\"\",\"\",SUM(#REF!,#REF!,#REF!,#REF!,#REF!,#REF!))","v":""}]
[null,null,null,null,null,null,null,null,null,null,null,"",{"$f":"IF($D100=\"\",\"\",SUM(#REF!,#REF!,#REF!,#REF!,#REF!,#REF!))","v":""}]
[null,null,null,null,null,null,null,null,null,null,null,"",{"$f":"IF($D101=\"\",\"\",SUM(#REF!,#REF!,#REF!,#REF!,#REF!,#REF!))","v":""}]
[null,null,null,null,null,null,null,null,null,null,null,"",{"$f":"IF($D102=\"\",\"\",SUM(#REF!,#REF!,#REF!,#REF!,#REF!,#REF!))","v":""}]
[null,null,null,null,null,null,null,null,null,null,null,"",{"$f":"IF($D103=\"\",\"\",SUM(#REF!,#REF!,#REF!,#REF!,#REF!,#REF!))","v":""}]
[null,null,null,null,null,null,null,null,null,null,null,"",{"$f":"IF($D104=\"\",\"\",SUM(#REF!,#REF!,#REF!,#REF!,#REF!,#REF!))","v":""}]
[null,null,null,null,null,null,null,null,null,null,null,"",{"$f":"IF($D105=\"\",\"\",SUM(#REF!,#REF!,#REF!,#REF!,#REF!,#REF!))","v":""}]
[null,null,null,null,null,null,null,null,null,null,null,"",{"$f":"IF($D106=\"\",\"\",SUM(#REF!,#REF!,#REF!,#REF!,#REF!,#REF!))","v":""}]
[null,null,null,null,null,null,null,null,null,null,null,"",{"$f":"IF($D107=\"\",\"\",SUM(#REF!,#REF!,#REF!,#REF!,#REF!,#REF!))","v":""}]
[null,null,null,null,null,null,null,null,null,null,null,"",{"$f":"IF($D108=\"\",\"\",SUM(#REF!,#REF!,#REF!,#REF!,#REF!,#REF!))","v":""}]
[null,null,null,null,null,null,null,null,null,null,null,"",{"$f":"IF($D109=\"\",\"\",SUM(#REF!,#REF!,#REF!,#REF!,#REF!,#REF!))","v":""}]
[null,null,null,null,null,null,null,null,null,null,null,"",{"$f":"IF($D110=\"\",\"\",SUM(#REF!,#REF!,#REF!,#REF!,#REF!,#REF!))","v":""}]
[null,null,null,null,null,null,null,null,null,null,null,"",{"$f":"IF($D111=\"\",\"\",SUM(#REF!,#REF!,#REF!,#REF!,#REF!,#REF!))","v":""}]
[null,null,null,null,null,null,null,null,null,null,null,"",{"$f":"IF($D112=\"\",\"\",SUM(#REF!,#REF!,#REF!,#REF!,#REF!,#REF!))","v":""}]
[null,null,null,null,null,null,null,null,null,null,null,"",{"$f":"IF($D113=\"\",\"\",SUM(#REF!,#REF!,#REF!,#REF!,#REF!,#REF!))","v":""}]
[null,null,null,null,null,null,null,null,null,null,null,"",{"$f":"IF($D114=\"\",\"\",SUM(#REF!,#REF!,#REF!,#REF!,#REF!,#REF!))","v":""}]
[null,null,null,null,null,null,null,null,null,null,null,"",{"$f":"IF($D115=\"\",\"\",SUM(#REF!,#REF!,#REF!,#REF!,#REF!,#REF!))","v":""}]
[null,null,null,null,null,null,null,null,null,null,null,"",{"$f":"IF($D116=\"\",\"\",SUM(#REF!,#REF!,#REF!,#REF!,#REF!,#REF!))","v":""}]
[null,null,null,null,null,null,null,null,null,null,null,"",{"$f":"IF($D117=\"\",\"\",SUM(#REF!,#REF!,#REF!,#REF!,#REF!,#REF!))","v":""}]
[null,null,null,null,null,null,null,null,null,null,null,"",{"$f":"IF($D118=\"\",\"\",SUM(#REF!,#REF!,#REF!,#REF!,#REF!,#REF!))","v":""}]
[null,null,null,null,null,null,null,null,null,null,null,"",{"$f":"IF($D119=\"\",\"\",SUM(#REF!,#REF!,#REF!,#REF!,#REF!,#REF!))","v":""}]
[null,null,null,null,null,null,null,null,null,null,null,"",{"$f":"IF($D120=\"\",\"\",SUM(#REF!,#REF!,#REF!,#REF!,#REF!,#REF!))","v":""}]
[null,null,null,null,null,null,null,null,null,null,null,"",{"$f":"IF($D121=\"\",\"\",SUM(#REF!,#REF!,#REF!,#REF!,#REF!,#REF!))","v":""}]
[null,null,null,null,null,null,null,null,null,null,null,"",{"$f":"IF($D122=\"\",\"\",SUM(#REF!,#REF!,#REF!,#REF!,#REF!,#REF!))","v":""}]
[null,null,null,null,null,null,null,null,null,null,null,"",{"$f":"IF($D123=\"\",\"\",SUM(#REF!,#REF!,#REF!,#REF!,#REF!,#REF!))","v":""}]
[null,null,null,null,null,null,null,null,null,null,null,"",{"$f":"IF($D124=\"\",\"\",SUM(#REF!,#REF!,#REF!,#REF!,#REF!,#REF!))","v":""}]
[null,null,null,null,null,null,null,null,null,null,null,"",{"$f":"IF($D125=\"\",\"\",SUM(#REF!,#REF!,#REF!,#REF!,#REF!,#REF!))","v":""}]
[null,null,null,null,null,null,null,null,null,null,null,"",{"$f":"IF($D126=\"\",\"\",SUM(#REF!,#REF!,#REF!,#REF!,#REF!,#REF!))","v":""}]
[null,null,null,null,null,null,null,null,null,null,null,"",{"$f":"IF($D127=\"\",\"\",SUM(#REF!,#REF!,#REF!,#REF!,#REF!,#REF!))","v":""}]
[null,null,null,null,null,null,null,null,null,null,null,"",{"$f":"IF($D128=\"\",\"\",SUM(#REF!,#REF!,#REF!,#REF!,#REF!,#REF!))","v":""}]
[null,null,null,null,null,null,null,null,null,null,null,"",{"$f":"IF($D129=\"\",\"\",SUM(#REF!,#REF!,#REF!,#REF!,#REF!,#REF!))","v":""}]
[null,null,null,null,null,null,null,null,null,null,null,"",{"$f":"IF($D130=\"\",\"\",SUM(#REF!,#REF!,#REF!,#REF!,#REF!,#REF!))","v":""}]
[null,null,null,null,null,null,null,null,null,null,null,"",{"$f":"IF($D131=\"\",\"\",SUM(#REF!,#REF!,#REF!,#REF!,#REF!,#REF!))","v":""}]
[null,null,null,null,null,null,null,null,null,null,null,"",{"$f":"IF($D132=\"\",\"\",SUM(#REF!,#REF!,#REF!,#REF!,#REF!,#REF!))","v":""}]
[null,null,null,null,null,null,null,null,null,null,null,"",{"$f":"IF($D133=\"\",\"\",SUM(#REF!,#REF!,#REF!,#REF!,#REF!,#REF!))","v":""}]
[null,null,null,null,null,null,null,null,null,null,null,"",{"$f":"IF($D134=\"\",\"\",SUM(#REF!,#REF!,#REF!,#REF!,#REF!,#REF!))","v":""}]
[null,null,null,null,null,null,null,null,null,null,null,"",{"$f":"IF($D135=\"\",\"\",SUM(#REF!,#REF!,#REF!,#REF!,#REF!,#REF!))","v":""}]
[null,null,null,null,null,null,null,null,null,null,null,"",{"$f":"IF($D136=\"\",\"\",SUM(#REF!,#REF!,#REF!,#REF!,#REF!,#REF!))","v":""}]
[null,null,null,null,null,null,null,null,null,null,null,"",{"$f":"IF($D137=\"\",\"\",SUM(#REF!,#REF!,#REF!,#REF!,#REF!,#REF!))","v":""}]
[null,null,null,null,null,null,null,null,null,null,null,"",{"$f":"IF($D138=\"\",\"\",SUM(#REF!,#REF!,#REF!,#REF!,#REF!,#REF!))","v":""}]
[null,null,null,null,null,null,null,null,null,null,null,"",{"$f":"IF($D139=\"\",\"\",SUM(#REF!,#REF!,#REF!,#REF!,#REF!,#REF!))","v":""}]
[null,null,null,null,null,null,null,null,null,null,null,"",{"$f":"IF($D140=\"\",\"\",SUM(#REF!,#REF!,#REF!,#REF!,#REF!,#REF!))","v":""}]
[null,null,null,null,null,null,null,null,null,null,null,"",{"$f":"IF($D141=\"\",\"\",SUM(#REF!,#REF!,#REF!,#REF!,#REF!,#REF!))","v":""}]
[null,null,null,null,null,null,null,null,null,null,null,"",{"$f":"IF($D142=\"\",\"\",SUM(#REF!,#REF!,#REF!,#REF!,#REF!,#REF!))","v":""}]
[null,null,null,null,null,null,null,null,null,null,null,"",{"$f":"IF($D143=\"\",\"\",SUM(#REF!,#REF!,#REF!,#REF!,#REF!,#REF!))","v":""}]
[null,null,null,null,null,null,null,null,null,null,null,"",{"$f":"IF($D144=\"\",\"\",SUM(#REF!,#REF!,#REF!,#REF!,#REF!,#REF!))","v":""}]
[null,null,null,null,null,null,null,null,null,null,null,"",{"$f":"IF($D145=\"\",\"\",SUM(#REF!,#REF!,#REF!,#REF!,#REF!,#REF!))","v":""}]
[null,null,null,null,null,null,null,null,null,null,null,"",{"$f":"IF($D146=\"\",\"\",SUM(#REF!,#REF!,#REF!,#REF!,#REF!,#REF!))","v":""}]
[null,null,null,null,null,null,null,null,null,null,null,"",{"$f":"IF($D147=\"\",\"\",SUM(#REF!,#REF!,#REF!,#REF!,#REF!,#REF!))","v":""}]
[null,null,null,null,null,null,null,null,null,null,null,"",{"$f":"IF($D148=\"\",\"\",SUM(#REF!,#REF!,#REF!,#REF!,#REF!,#REF!))","v":""}]
[null,null,null,null,null,null,null,null,null,null,null,"",{"$f":"IF($D149=\"\",\"\",SUM(#REF!,#REF!,#REF!,#REF!,#REF!,#REF!))","v":""}]
[null,null,null,null,null,null,null,null,null,null,null,"",{"$f":"IF($D150=\"\",\"\",SUM(#REF!,#REF!,#REF!,#REF!,#REF!,#REF!))","v":""}]
[null,null,null,null,null,null,null,null,null,null,null,{"$f":"IF($D151=\"\",\"\",SUM(F151,G151,H151,I151,J151,K151))","v":""},{"$f":"IF($D151=\"\",\"\",SUM(#REF!,#REF!,#REF!,#REF!,#REF!,#REF!))","v":""}]
[null,null,null,null,null,null,null,null,null,null,null,"",{"$f":"IF($D152=\"\",\"\",SUM(#REF!,#REF!,#REF!,#REF!,#REF!,#REF!))","v":""}]
[null,null,null,null,null,null,null,null,null,null,null,"",{"$f":"IF($D153=\"\",\"\",SUM(#REF!,#REF!,#REF!,#REF!,#REF!,#REF!))","v":""}]
[null,null,null,null,null,null,null,null,null,null,null,"",{"$f":"IF($D154=\"\",\"\",SUM(#REF!,#REF!,#REF!,#REF!,#REF!,#REF!))","v":""}]
[null,null,null,null,null,null,null,null,null,null,null,"",{"$f":"IF($D155=\"\",\"\",SUM(#REF!,#REF!,#REF!,#REF!,#REF!,#REF!))","v":""}]
[null,null,null,null,null,null,null,null,null,null,null,"",{"$f":"IF($D156=\"\",\"\",SUM(#REF!,#REF!,#REF!,#REF!,#REF!,#REF!))","v":""}]
[null,null,null,null,null,null,null,null,null,null,null,"",{"$f":"IF($D157=\"\",\"\",SUM(#REF!,#REF!,#REF!,#REF!,#REF!,#REF!))","v":""}]
[null,null,null,null,null,null,null,null,null,null,null,"",{"$f":"IF($D158=\"\",\"\",SUM(#REF!,#REF!,#REF!,#REF!,#REF!,#REF!))","v":""}]
[null,null,null,null,null,null,null,null,null,null,null,"",{"$f":"IF($D159=\"\",\"\",SUM(#REF!,#REF!,#REF!,#REF!,#REF!,#REF!))","v":""}]
[null,null,null,null,null,null,null,null,null,null,null,"",{"$f":"IF($D160=\"\",\"\",SUM(#REF!,#REF!,#REF!,#REF!,#REF!,#REF!))","v":""}]
[null,null,null,null,null,null,null,null,null,null,null,"",{"$f":"IF($D161=\"\",\"\",SUM(#REF!,#REF!,#REF!,#REF!,#REF!,#REF!))","v":""}]
[null,null,null,null,null,null,null,null,null,null,null,"",{"$f":"IF($D162=\"\",\"\",SUM(#REF!,#REF!,#REF!,#REF!,#REF!,#REF!))","v":""}]
[null,null,null,null,null,null,null,null,null,null,null,"",{"$f":"IF($D163=\"\",\"\",SUM(#REF!,#REF!,#REF!,#REF!,#REF!,#REF!))","v":""}]
[null,null,null,null,null,null,null,null,null,null,null,"",{"$f":"IF($D164=\"\",\"\",SUM(#REF!,#REF!,#REF!,#REF!,#REF!,#REF!))","v":""}]
[null,null,null,null,null,null,null,null,null,null,null,"",{"$f":"IF($D165=\"\",\"\",SUM(#REF!,#REF!,#REF!,#REF!,#REF!,#REF!))","v":""}]
[null,null,null,null,null,null,null,null,null,null,null,"",{"$f":"IF($D166=\"\",\"\",SUM(#REF!,#REF!,#REF!,#REF!,#REF!,#REF!))","v":""}]
[null,null,null,null,null,null,null,null,null,null,null,"",{"$f":"IF($D167=\"\",\"\",SUM(#REF!,#REF!,#REF!,#REF!,#REF!,#REF!))","v":""}]
[null,null,null,null,null,null,null,null,null,null,null,"",{"$f":"IF($D168=\"\",\"\",SUM(#REF!,#REF!,#REF!,#REF!,#REF!,#REF!))","v":""}]
[null,null,null,null,null,null,null,null,null,null,null,"",{"$f":"IF($D169=\"\",\"\",SUM(#REF!,#REF!,#REF!,#REF!,#REF!,#REF!))","v":""}]
[null,null,null,null,null,null,null,null,null,null,null,"",{"$f":"IF($D170=\"\",\"\",SUM(#REF!,#REF!,#REF!,#REF!,#REF!,#REF!))","v":""}]
[null,null,null,null,null,null,null,null,null,null,null,"",{"$f":"IF($D171=\"\",\"\",SUM(#REF!,#REF!,#REF!,#REF!,#REF!,#REF!))","v":""}]
[null,null,null,null,null,null,null,null,null,null,null,"",{"$f":"IF($D172=\"\",\"\",SUM(#REF!,#REF!,#REF!,#REF!,#REF!,#REF!))","v":""}]
[null,null,null,null,null,null,null,null,null,null,null,"",{"$f":"IF($D173=\"\",\"\",SUM(#REF!,#REF!,#REF!,#REF!,#REF!,#REF!))","v":""}]
[null,null,null,null,null,null,null,null,null,null,null,"",{"$f":"IF($D174=\"\",\"\",SUM(#REF!,#REF!,#REF!,#REF!,#REF!,#REF!))","v":""}]
[null,null,null,null,null,null,null,null,null,null,null,"",{"$f":"IF($D175=\"\",\"\",SUM(#REF!,#REF!,#REF!,#REF!,#REF!,#REF!))","v":""}]
[null,null,null,null,null,null,null,null,null,null,null,"",{"$f":"IF($D176=\"\",\"\",SUM(#REF!,#REF!,#REF!,#REF!,#REF!,#REF!))","v":""}]
[null,null,null,null,null,null,null,null,null,null,null,"",{"$f":"IF($D177=\"\",\"\",SUM(#REF!,#REF!,#REF!,#REF!,#REF!,#REF!))","v":""}]
[null,null,null,null,null,null,null,null,null,null,null,"",{"$f":"IF($D178=\"\",\"\",SUM(#REF!,#REF!,#REF!,#REF!,#REF!,#REF!))","v":""}]
[null,null,null,null,null,null,null,null,null,null,null,"",{"$f":"IF($D179=\"\",\"\",SUM(#REF!,#REF!,#REF!,#REF!,#REF!,#REF!))","v":""}]
[null,null,null,null,null,null,null,null,null,null,null,"",{"$f":"IF($D180=\"\",\"\",SUM(#REF!,#REF!,#REF!,#REF!,#REF!,#REF!))","v":""}]
[null,null,null,null,null,null,null,null,null,null,null,"",{"$f":"IF($D181=\"\",\"\",SUM(#REF!,#REF!,#REF!,#REF!,#REF!,#REF!))","v":""}]
[null,null,null,null,null,null,null,null,null,null,null,"",{"$f":"IF($D182=\"\",\"\",SUM(#REF!,#REF!,#REF!,#REF!,#REF!,#REF!))","v":""}]
[null,null,null,null,null,null,null,null,null,null,null,"",{"$f":"IF($D183=\"\",\"\",SUM(#REF!,#REF!,#REF!,#REF!,#REF!,#REF!))","v":""}]
[null,null,null,null,null,null,null,null,null,null,null,"",{"$f":"IF($D184=\"\",\"\",SUM(#REF!,#REF!,#REF!,#REF!,#REF!,#REF!))","v":""}]
[null,null,null,null,null,null,null,null,null,null,null,"",{"$f":"IF($D185=\"\",\"\",SUM(#REF!,#REF!,#REF!,#REF!,#REF!,#REF!))","v":""}]
[null,null,null,null,null,null,null,null,null,null,null,"",{"$f":"IF($D186=\"\",\"\",SUM(#REF!,#REF!,#REF!,#REF!,#REF!,#REF!))","v":""}]
[null,null,null,null,null,null,null,null,null,null,null,"",{"$f":"IF($D187=\"\",\"\",SUM(#REF!,#REF!,#REF!,#REF!,#REF!,#REF!))","v":""}]
[null,null,null,null,null,null,null,null,null,null,null,"",{"$f":"IF($D188=\"\",\"\",SUM(#REF!,#REF!,#REF!,#REF!,#REF!,#REF!))","v":""}]
[null,null,null,null,null,null,null,null,null,null,null,"",{"$f":"IF($D189=\"\",\"\",SUM(#REF!,#REF!,#REF!,#REF!,#REF!,#REF!))","v":""}]
[null,null,null,null,null,null,null,null,null,null,null,"",{"$f":"IF($D190=\"\",\"\",SUM(#REF!,#REF!,#REF!,#REF!,#REF!,#REF!))","v":""}]
[null,null,null,null,null,null,null,null,null,null,null,"",{"$f":"IF($D191=\"\",\"\",SUM(#REF!,#REF!,#REF!,#REF!,#REF!,#REF!))","v":""}]
[null,null,null,null,null,null,null,null,null,null,null,"",{"$f":"IF($D192=\"\",\"\",SUM(#REF!,#REF!,#REF!,#REF!,#REF!,#REF!))","v":""}]
[null,null,null,null,null,null,null,null,null,null,null,"",{"$f":"IF($D193=\"\",\"\",SUM(#REF!,#REF!,#REF!,#REF!,#REF!,#REF!))","v":""}]
[null,null,null,null,null,null,null,null,null,null,null,"",{"$f":"IF($D194=\"\",\"\",SUM(#REF!,#REF!,#REF!,#REF!,#REF!,#REF!))","v":""}]
[null,null,null,null,null,null,null,null,null,null,null,"",{"$f":"IF($D195=\"\",\"\",SUM(#REF!,#REF!,#REF!,#REF!,#REF!,#REF!))","v":""}]
[null,null,null,null,null,null,null,null,null,null,null,"",{"$f":"IF($D196=\"\",\"\",SUM(#REF!,#REF!,#REF!,#REF!,#REF!,#REF!))","v":""}]
[null,null,null,null,null,null,null,null,null,null,null,"",{"$f":"IF($D197=\"\",\"\",SUM(#REF!,#REF!,#REF!,#REF!,#REF!,#REF!))","v":""}]
[null,null,null,null,null,null,null,null,null,null,null,"",{"$f":"IF($D198=\"\",\"\",SUM(#REF!,#REF!,#REF!,#REF!,#REF!,#REF!))","v":""}]
[null,null,null,null,null,null,null,null,null,null,null,"",{"$f":"IF($D199=\"\",\"\",SUM(#REF!,#REF!,#REF!,#REF!,#REF!,#REF!))","v":""}]
[null,null,null,null,null,null,null,null,null,null,null,"",{"$f":"IF($D200=\"\",\"\",SUM(#REF!,#REF!,#REF!,#REF!,#REF!,#REF!))","v":""}]
[null,null,null,null,null,null,null,null,null,null,null,"",{"$f":"IF($D201=\"\",\"\",SUM(#REF!,#REF!,#REF!,#REF!,#REF!,#REF!))","v":""}]
[null,null,null,null,null,null,null,null,null,null,null,"",{"$f":"IF($D202=\"\",\"\",SUM(#REF!,#REF!,#REF!,#REF!,#REF!,#REF!))","v":""}]
[null,null,null,null,null,null,null,null,null,null,null,"",{"$f":"IF($D203=\"\",\"\",SUM(#REF!,#REF!,#REF!,#REF!,#REF!,#REF!))","v":""}]
[null,null,null,null,null,null,null,null,null,null,null,"",{"$f":"IF($D204=\"\",\"\",SUM(#REF!,#REF!,#REF!,#REF!,#REF!,#REF!))","v":""}]
[null,null,null,null,null,null,null,null,null,null,null,"",{"$f":"IF($D205=\"\",\"\",SUM(#REF!,#REF!,#REF!,#REF!,#REF!,#REF!))","v":""}]
[null,null,null,null,null,null,null,null,null,null,null,"",{"$f":"IF($D206=\"\",\"\",SUM(#REF!,#REF!,#REF!,#REF!,#REF!,#REF!))","v":""}]
[null,null,null,null,null,null,null,null,null,null,null,"",{"$f":"IF($D207=\"\",\"\",SUM(#REF!,#REF!,#REF!,#REF!,#REF!,#REF!))","v":""}]
[null,null,null,null,null,null,null,null,null,null,null,"",{"$f":"IF($D208=\"\",\"\",SUM(#REF!,#REF!,#REF!,#REF!,#REF!,#REF!))","v":""}]
[null,null,null,null,null,null,null,null,null,null,null,"",{"$f":"IF($D209=\"\",\"\",SUM(#REF!,#REF!,#REF!,#REF!,#REF!,#REF!))","v":""}]
[null,null,null,null,null,null,null,null,null,null,null,"",{"$f":"IF($D210=\"\",\"\",SUM(#REF!,#REF!,#REF!,#REF!,#REF!,#REF!))","v":""}]
[null,null,null,null,null,null,null,null,null,null,null,"",{"$f":"IF($D211=\"\",\"\",SUM(#REF!,#REF!,#REF!,#REF!,#REF!,#REF!))","v":""}]
[null,null,null,null,null,null,null,null,null,null,null,"",{"$f":"IF($D212=\"\",\"\",SUM(#REF!,#REF!,#REF!,#REF!,#REF!,#REF!))","v":""}]
[null,null,null,null,null,null,null,null,null,null,null,"",{"$f":"IF($D213=\"\",\"\",SUM(#REF!,#REF!,#REF!,#REF!,#REF!,#REF!))","v":""}]
[null,null,null,null,null,null,null,null,null,null,null,"",{"$f":"IF($D214=\"\",\"\",SUM(#REF!,#REF!,#REF!,#REF!,#REF!,#REF!))","v":""}]
[null,null,null,null,null,null,null,null,null,null,null,{"$f":"IF($D215=\"\",\"\",SUM(F215,G215,H215,I215,J215,K215))","v":""},{"$f":"IF($D215=\"\",\"\",SUM(#REF!,#REF!,#REF!,#REF!,#REF!,#REF!))","v":""}]
[null,null,null,null,null,null,null,null,null,null,null,"",{"$f":"IF($D216=\"\",\"\",SUM(#REF!,#REF!,#REF!,#REF!,#REF!,#REF!))","v":""}]
[null,null,null,null,null,null,null,null,null,null,null,"",{"$f":"IF($D217=\"\",\"\",SUM(#REF!,#REF!,#REF!,#REF!,#REF!,#REF!))","v":""}]
[null,null,null,null,null,null,null,null,null,null,null,"",{"$f":"IF($D218=\"\",\"\",SUM(#REF!,#REF!,#REF!,#REF!,#REF!,#REF!))","v":""}]
[null,null,null,null,null,null,null,null,null,null,null,"",{"$f":"IF($D219=\"\",\"\",SUM(#REF!,#REF!,#REF!,#REF!,#REF!,#REF!))","v":""}]
[null,null,null,null,null,null,null,null,null,null,null,"",{"$f":"IF($D220=\"\",\"\",SUM(#REF!,#REF!,#REF!,#REF!,#REF!,#REF!))","v":""}]
[null,null,null,null,null,null,null,null,null,null,null,"",{"$f":"IF($D221=\"\",\"\",SUM(#REF!,#REF!,#REF!,#REF!,#REF!,#REF!))","v":""}]
[null,null,null,null,null,null,null,null,null,null,null,"",{"$f":"IF($D222=\"\",\"\",SUM(#REF!,#REF!,#REF!,#REF!,#REF!,#REF!))","v":""}]
[null,null,null,null,null,null,null,null,null,null,null,"",{"$f":"IF($D223=\"\",\"\",SUM(#REF!,#REF!,#REF!,#REF!,#REF!,#REF!))","v":""}]
[null,null,null,null,null,null,null,null,null,null,null,"",{"$f":"IF($D224=\"\",\"\",SUM(#REF!,#REF!,#REF!,#REF!,#REF!,#REF!))","v":""}]
[null,null,null,null,null,null,null,null,null,null,null,"",{"$f":"IF($D225=\"\",\"\",SUM(#REF!,#REF!,#REF!,#REF!,#REF!,#REF!))","v":""}]
[null,null,null,null,null,null,null,null,null,null,null,"",{"$f":"IF($D226=\"\",\"\",SUM(#REF!,#REF!,#REF!,#REF!,#REF!,#REF!))","v":""}]
[null,null,null,null,null,null,null,null,null,null,null,"",{"$f":"IF($D227=\"\",\"\",SUM(#REF!,#REF!,#REF!,#REF!,#REF!,#REF!))","v":""}]
[null,null,null,null,null,null,null,null,null,null,null,"",{"$f":"IF($D228=\"\",\"\",SUM(#REF!,#REF!,#REF!,#REF!,#REF!,#REF!))","v":""}]
[null,null,null,null,null,null,null,null,null,null,null,"",{"$f":"IF($D229=\"\",\"\",SUM(#REF!,#REF!,#REF!,#REF!,#REF!,#REF!))","v":""}]
[null,null,null,null,null,null,null,null,null,null,null,"",{"$f":"IF($D230=\"\",\"\",SUM(#REF!,#REF!,#REF!,#REF!,#REF!,#REF!))","v":""}]
[null,null,null,null,null,null,null,null,null,null,null,"",{"$f":"IF($D231=\"\",\"\",SUM(#REF!,#REF!,#REF!,#REF!,#REF!,#REF!))","v":""}]
[null,null,null,null,null,null,null,null,null,null,null,"",{"$f":"IF($D232=\"\",\"\",SUM(#REF!,#REF!,#REF!,#REF!,#REF!,#REF!))","v":""}]
[null,null,null,null,null,null,null,null,null,null,null,"",{"$f":"IF($D233=\"\",\"\",SUM(#REF!,#REF!,#REF!,#REF!,#REF!,#REF!))","v":""}]
[null,null,null,null,null,null,null,null,null,null,null,"",{"$f":"IF($D234=\"\",\"\",SUM(#REF!,#REF!,#REF!,#REF!,#REF!,#REF!))","v":""}]
[null,null,null,null,null,null,null,null,null,null,null,"",{"$f":"IF($D235=\"\",\"\",SUM(#REF!,#REF!,#REF!,#REF!,#REF!,#REF!))","v":""}]
[null,null,null,null,null,null,null,null,null,null,null,"",{"$f":"IF($D236=\"\",\"\",SUM(#REF!,#REF!,#REF!,#REF!,#REF!,#REF!))","v":""}]
[null,null,null,null,null,null,null,null,null,null,null,"",{"$f":"IF($D237=\"\",\"\",SUM(#REF!,#REF!,#REF!,#REF!,#REF!,#REF!))","v":""}]
[null,null,null,null,null,null,null,null,null,null,null,"",{"$f":"IF($D238=\"\",\"\",SUM(#REF!,#REF!,#REF!,#REF!,#REF!,#REF!))","v":""}]
[null,null,null,null,null,null,null,null,null,null,null,"",{"$f":"IF($D239=\"\",\"\",SUM(#REF!,#REF!,#REF!,#REF!,#REF!,#REF!))","v":""}]
[null,null,null,null,null,null,null,null,null,null,null,"",{"$f":"IF($D240=\"\",\"\",SUM(#REF!,#REF!,#REF!,#REF!,#REF!,#REF!))","v":""}]
[null,null,null,null,null,null,null,null,null,null,null,"",{"$f":"IF($D241=\"\",\"\",SUM(#REF!,#REF!,#REF!,#REF!,#REF!,#REF!))","v":""}]
[null,null,null,null,null,null,null,null,null,null,null,"",{"$f":"IF($D242=\"\",\"\",SUM(#REF!,#REF!,#REF!,#REF!,#REF!,#REF!))","v":""}]
[null,null,null,null,null,null,null,null,null,null,null,"",{"$f":"IF($D243=\"\",\"\",SUM(#REF!,#REF!,#REF!,#REF!,#REF!,#REF!))","v":""}]
[null,null,null,null,null,null,null,null,null,null,null,"",{"$f":"IF($D244=\"\",\"\",SUM(#REF!,#REF!,#REF!,#REF!,#REF!,#REF!))","v":""}]
[null,null,null,null,null,null,null,null,null,null,null,"",{"$f":"IF($D245=\"\",\"\",SUM(#REF!,#REF!,#REF!,#REF!,#REF!,#REF!))","v":""}]
[null,null,null,null,null,null,null,null,null,null,null,"",{"$f":"IF($D246=\"\",\"\",SUM(#REF!,#REF!,#REF!,#REF!,#REF!,#REF!))","v":""}]
[null,null,null,null,null,null,null,null,null,null,null,"",{"$f":"IF($D247=\"\",\"\",SUM(#REF!,#REF!,#REF!,#REF!,#REF!,#REF!))","v":""}]
[null,null,null,null,null,null,null,null,null,null,null,"",{"$f":"IF($D248=\"\",\"\",SUM(#REF!,#REF!,#REF!,#REF!,#REF!,#REF!))","v":""}]
[null,null,null,null,null,null,null,null,null,null,null,"",{"$f":"IF($D249=\"\",\"\",SUM(#REF!,#REF!,#REF!,#REF!,#REF!,#REF!))","v":""}]
[null,null,null,null,null,null,null,null,null,null,null,"",{"$f":"IF($D250=\"\",\"\",SUM(#REF!,#REF!,#REF!,#REF!,#REF!,#REF!))","v":""}]
[null,null,null,null,null,null,null,null,null,null,null,"",{"$f":"IF($D251=\"\",\"\",SUM(#REF!,#REF!,#REF!,#REF!,#REF!,#REF!))","v":""}]
[null,null,null,null,null,null,null,null,null,null,null,"",{"$f":"IF($D252=\"\",\"\",SUM(#REF!,#REF!,#REF!,#REF!,#REF!,#REF!))","v":""}]
[null,null,null,null,null,null,null,null,null,null,null,"",{"$f":"IF($D253=\"\",\"\",SUM(#REF!,#REF!,#REF!,#REF!,#REF!,#REF!))","v":""}]
[null,null,null,null,null,null,null,null,null,null,null,"",{"$f":"IF($D254=\"\",\"\",SUM(#REF!,#REF!,#REF!,#REF!,#REF!,#REF!))","v":""}]
[null,null,null,null,null,null,null,null,null,null,null,"",{"$f":"IF($D255=\"\",\"\",SUM(#REF!,#REF!,#REF!,#REF!,#REF!,#REF!))","v":""}]
[null,null,null,null,null,null,null,null,null,null,null,"",{"$f":"IF($D256=\"\",\"\",SUM(#REF!,#REF!,#REF!,#REF!,#REF!,#REF!))","v":""}]
[null,null,null,null,null,null,null,null,null,null,null,"",{"$f":"IF($D257=\"\",\"\",SUM(#REF!,#REF!,#REF!,#REF!,#REF!,#REF!))","v":""}]
[null,null,null,null,null,null,null,null,null,null,null,"",{"$f":"IF($D258=\"\",\"\",SUM(#REF!,#REF!,#REF!,#REF!,#REF!,#REF!))","v":""}]
[null,null,null,null,null,null,null,null,null,null,null,"",{"$f":"IF($D259=\"\",\"\",SUM(#REF!,#REF!,#REF!,#REF!,#REF!,#REF!))","v":""}]
[null,null,null,null,null,null,null,null,null,null,null,"",{"$f":"IF($D260=\"\",\"\",SUM(#REF!,#REF!,#REF!,#REF!,#REF!,#REF!))","v":""}]
[null,null,null,null,null,null,null,null,null,null,null,"",{"$f":"IF($D261=\"\",\"\",SUM(#REF!,#REF!,#REF!,#REF!,#REF!,#REF!))","v":""}]
[null,null,null,null,null,null,null,null,null,null,null,"",{"$f":"IF($D262=\"\",\"\",SUM(#REF!,#REF!,#REF!,#REF!,#REF!,#REF!))","v":""}]
[null,null,null,null,null,null,null,null,null,null,null,"",{"$f":"IF($D263=\"\",\"\",SUM(#REF!,#REF!,#REF!,#REF!,#REF!,#REF!))","v":""}]
[null,null,null,null,null,null,null,null,null,null,null,"",{"$f":"IF($D264=\"\",\"\",SUM(#REF!,#REF!,#REF!,#REF!,#REF!,#REF!))","v":""}]
[null,null,null,null,null,null,null,null,null,null,null,"",{"$f":"IF($D265=\"\",\"\",SUM(#REF!,#REF!,#REF!,#REF!,#REF!,#REF!))","v":""}]
[null,null,null,null,null,null,null,null,null,null,null,"",{"$f":"IF($D266=\"\",\"\",SUM(#REF!,#REF!,#REF!,#REF!,#REF!,#REF!))","v":""}]
[null,null,null,null,null,null,null,null,null,null,null,"",{"$f":"IF($D267=\"\",\"\",SUM(#REF!,#REF!,#REF!,#REF!,#REF!,#REF!))","v":""}]
[null,null,null,null,null,null,null,null,null,null,null,"",{"$f":"IF($D268=\"\",\"\",SUM(#REF!,#REF!,#REF!,#REF!,#REF!,#REF!))","v":""}]
[null,null,null,null,null,null,null,null,null,null,null,"",{"$f":"IF($D269=\"\",\"\",SUM(#REF!,#REF!,#REF!,#REF!,#REF!,#REF!))","v":""}]
[null,null,null,null,null,null,null,null,null,null,null,"",{"$f":"IF($D270=\"\",\"\",SUM(#REF!,#REF!,#REF!,#REF!,#REF!,#REF!))","v":""}]
[null,null,null,null,null,null,null,null,null,null,null,"",{"$f":"IF($D271=\"\",\"\",SUM(#REF!,#REF!,#REF!,#REF!,#REF!,#REF!))","v":""}]
[null,null,null,null,null,null,null,null,null,null,null,"",{"$f":"IF($D272=\"\",\"\",SUM(#REF!,#REF!,#REF!,#REF!,#REF!,#REF!))","v":""}]
[null,null,null,null,null,null,null,null,null,null,null,"",{"$f":"IF($D273=\"\",\"\",SUM(#REF!,#REF!,#REF!,#REF!,#REF!,#REF!))","v":""}]
[null,null,null,null,null,null,null,null,null,null,null,"",{"$f":"IF($D274=\"\",\"\",SUM(#REF!,#REF!,#REF!,#REF!,#REF!,#REF!))","v":""}]
[null,null,null,null,null,null,null,null,null,null,null,"",{"$f":"IF($D275=\"\",\"\",SUM(#REF!,#REF!,#REF!,#REF!,#REF!,#REF!))","v":""}]

{"sheet":"10mDPS40MW 入力発表","index":5,"n_rows":232,"n_cols":11,"rows_kept":232,"cut":false,"hidden":false,"merged":[]}
["順位","射群","射座","名　前","学校名","S１","S２","S３","S４","合 計","備考"]
[1,"a",2,"田上 諒","京都産業大学",95,88,88,89,360]
[2,"f",4,"待場 直宏","関西学院大学",89,84,88,85,346]
[3,"a",4,"海老名 春興","同志社大学",89,90,84,83,346]
[4,"g",3,"鈴木 健元","大阪大学",84,84,84,83,335]
[5,"f",9,"林 悠之介","甲南大学",82,88,83,81,334]
[6,"a",8,"前田 慧","近畿大学",85,76,88,81,330]
[7,"c",9,"田井 完樹","甲南大学",75,75,88,86,324]
[8,"b",6,"高原 康輝","京都産業大学",82,79,81,80,322]
[9,"c",3,"熊野 直輝","大阪産業大学",80,69,85,86,320]
[10,"c",4,"山村 祥真","関西学院大学",84,75,74,82,315]
[11,"d",2,"西村 友孝","京都産業大学",81,85,73,76,315]
[12,"e",8,"門池 優成","大阪産業大学",71,73,91,77,312]
[13,"a",5,"山田 裕貴","甲南大学",75,83,72,77,307]
[14,"c",6,"大月 淳寛","京都産業大学",74,74,68,86,302]
[15,"g",5,"福田 朗史","甲南大学",72,76,78,75,301]
[16,"f",8,"上山 夏樹","近畿大学",76,75,78,71,300]
[17,"e",4,"家高 郁子","同志社大学",71,70,85,73,299]
[18,"b",4,"井口 青紀","関西学院大学",83,68,67,80,298]
[19,"d",6,"辻田 康平","大阪大学",73,80,71,73,297]
[20,"c",8,"今村 政宏","近畿大学",78,71,81,58,288]
[21,"d",5,"藤井 瑛子","京都大学",69,70,75,72,286]
[22,"e",10,"奥村 哲弘","立命館大学",77,68,70,66,281]
[23,"g",2,"植本 有子","京都産業大学",73,65,63,74,275]
[24,"d",7,"有元 公平","近畿大学",76,74,57,68,275]
[25,"e",9,"倉地 友紀子","甲南大学",78,70,64,58,270]
[26,"d",8,"三原 秀一","甲南大学",73,64,62,69,268]
[27,"g",6,"山口 友紀","京都産業大学",61,69,69,68,267]
[28,"c",7,"吉岡 凛太郎","大阪大学",70,63,67,67,267]
[29,"f",6,"荒木 未希","京都産業大学",71,68,67,60,266]
[30,"b",2,"鳥越 岳","京都産業大学",67,69,56,73,265]
[31,"a",7,"森重 貴司","大阪大学",59,55,73,72,259]
[32,"c",2,"平井 伶衣良","京都産業大学",66,64,62,67,259]
[33,"d",4,"伊藤 良平","関西学院大学",62,68,63,59,252]
[34,"g",8,"井藤 雅仁","近畿大学",68,70,53,59,250]
[35,"e",3,"井口 恵梨華","大阪大学",64,68,66,52,250]
[36,"c",5,"北田 諒平","京都大学",64,62,53,70,249]
[37,"f",5,"濱本 穂高","京都大学",57,56,70,66,249]
[38,"g",11,"西行 優子","京都大学",63,54,62,64,243]
[39,"a",6,"生島 修","京都産業大学",59,67,72,44,242]
[40,"e",7,"渡邊 光太郎","大阪大学",55,61,64,61,241]
[41,"e",6,"外村 昌大","京都産業大学",69,55,53,62,239]
[42,"e",2,"高橋 尚三","京都産業大学",58,60,67,54,239]
[43,"g",4,"織野 友嘉","関西学院大学",58,64,69,48,239]
[44,"f",2,"吉本 菜月美","京都産業大学",59,65,61,53,238]
[45,"f",7,"陳 博順","大阪大学",55,63,41,64,223]
[46,"a",3,"西尾 将","大阪産業大学",55,46,54,61,216]
[47,"e",5,"冨田 悠","京都大学",57,51,51,49,208]
[48,"b",8,"有元 太一","近畿大学",53,71,28,47,199]
[49,"a",11,"宮田 佳奈子","京都大学",45,51,27,47,170]
[50,"d",3,"中原 雅樹","大阪産業大学",49,39,50,23,161]
[51,"b",7,"高原 雄太","大阪大学",46,32,46,33,157]
[52,"f",3,"中川 祐介","大阪大学",43,30,44,36,153]
[53,"b",5,"岸田 浩平","甲南大学",0,0,0,0,0]
[53,"g",7,"東 賢明","大阪大学",0,0,0,0,0,"D.N.S"]
[null,null,null,null,null,null,null,null,null,{"$f":"IF($D56=\"\",\"\",SUM(F56:I56))","v":""}]
[null,null,null,null,null,null,null,null,null,""]
[null,null,null,null,null,null,null,null,null,""]
[null,null,null,null,null,null,null,null,null,""]
[null,null,null,null,null,null,null,null,null,""]
[null,null,null,null,null,null,null,null,null,""]
[null,null,null,null,null,null,null,null,null,""]
[null,null,null,null,null,null,null,null,null,""]
[null,null,null,null,null,null,null,null,null,""]
[null,null,null,null,null,null,null,null,null,""]
[null,null,null,null,null,null,null,null,null,{"$f":"IF($D66=\"\",\"\",SUM(F66:I66))","v":""}]
[null,null,null,null,null,null,null,null,null,""]
[null,null,null,null,null,null,null,null,null,""]
[null,null,null,null,null,null,null,null,null,""]
[null,null,null,null,null,null,null,null,null,""]
[null,null,null,null,null,null,null,null,null,""]
[null,null,null,null,null,null,null,null,null,""]
[null,null,null,null,null,null,null,null,null,""]
[null,null,null,null,null,null,null,null,null,""]
[null,null,null,null,null,null,null,null,null,""]
[null,null,null,null,null,null,null,null,null,""]
[null,null,null,null,null,null,null,null,null,""]
[null,null,null,null,null,null,null,null,null,""]
[null,null,null,null,null,null,null,null,null,""]
[null,null,null,null,null,null,null,null,null,""]
[null,null,null,null,null,null,null,null,null,""]
[null,null,null,null,null,null,null,null,null,""]
[null,null,null,null,null,null,null,null,null,""]
[null,null,null,null,null,null,null,null,null,""]
[null,null,null,null,null,null,null,null,null,""]
[null,null,null,null,null,null,null,null,null,""]
[null,null,null,null,null,null,null,null,null,""]
[null,null,null,null,null,null,null,null,null,""]
[null,null,null,null,null,null,null,null,null,""]
[null,null,null,null,null,null,null,null,null,""]
[null,null,null,null,null,null,null,null,null,""]
[null,null,null,null,null,null,null,null,null,""]
[null,null,null,null,null,null,null,null,null,""]
[null,null,null,null,null,null,null,null,null,""]
[null,null,null,null,null,null,null,null,null,""]
[null,null,null,null,null,null,null,null,null,""]
[null,null,null,null,null,null,null,null,null,""]
[null,null,null,null,null,null,null,null,null,""]
[null,null,null,null,null,null,null,null,null,""]
[null,null,null,null,null,null,null,null,null,""]
[null,null,null,null,null,null,null,null,null,""]
[null,null,null,null,null,null,null,null,null,""]
[null,null,null,null,null,null,null,null,null,""]
[null,null,null,null,null,null,null,null,null,""]
[null,null,null,null,null,null,null,null,null,""]
[null,null,null,null,null,null,null,null,null,""]
[null,null,null,null,null,null,null,null,null,""]
[null,null,null,null,null,null,null,null,null,""]
[null,null,null,null,null,null,null,null,null,""]
[null,null,null,null,null,null,null,null,null,""]
[null,null,null,null,null,null,null,null,null,""]
[null,null,null,null,null,null,null,null,null,""]
[null,null,null,null,null,null,null,null,null,""]
[null,null,null,null,null,null,null,null,null,""]
[null,null,null,null,null,null,null,null,null,""]
[null,null,null,null,null,null,null,null,null,""]
[null,null,null,null,null,null,null,null,null,""]
[null,null,null,null,null,null,null,null,null,""]
[null,null,null,null,null,null,null,null,null,""]
[null,null,null,null,null,null,null,null,null,""]
[null,null,null,null,null,null,null,null,null,""]
[null,null,null,null,null,null,null,null,null,""]
[null,null,null,null,null,null,null,null,null,""]
[null,null,null,null,null,null,null,null,null,""]
[null,null,null,null,null,null,null,null,null,""]
[null,null,null,null,null,null,null,null,null,""]
[null,null,null,null,null,null,null,null,null,""]
[null,null,null,null,null,null,null,null,null,""]
[null,null,null,null,null,null,null,null,null,""]
[null,null,null,null,null,null,null,null,null,{"$f":"IF($D130=\"\",\"\",SUM(F130:I130))","v":""}]
[null,null,null,null,null,null,null,null,null,""]
[null,null,null,null,null,null,null,null,null,""]
[null,null,null,null,null,null,null,null,null,""]
[null,null,null,null,null,null,null,null,null,""]
[null,null,null,null,null,null,null,null,null,""]
[null,null,null,null,null,null,null,null,null,""]
[null,null,null,null,null,null,null,null,null,""]
[null,null,null,null,null,null,null,null,null,""]
[null,null,null,null,null,null,null,null,null,""]
[null,null,null,null,null,null,null,null,null,""]
[null,null,null,null,null,null,null,null,null,""]
[null,null,null,null,null,null,null,null,null,""]
[null,null,null,null,null,null,null,null,null,""]
[null,null,null,null,null,null,null,null,null,""]
[null,null,null,null,null,null,null,null,null,""]
[null,null,null,null,null,null,null,null,null,""]
[null,null,null,null,null,null,null,null,null,""]
[null,null,null,null,null,null,null,null,null,""]
[null,null,null,null,null,null,null,null,null,""]
[null,null,null,null,null,null,null,null,null,""]
[null,null,null,null,null,null,null,null,null,""]
[null,null,null,null,null,null,null,null,null,""]
[null,null,null,null,null,null,null,null,null,""]
[null,null,null,null,null,null,null,null,null,""]
[null,null,null,null,null,null,null,null,null,""]
[null,null,null,null,null,null,null,null,null,""]
[null,null,null,null,null,null,null,null,null,""]
[null,null,null,null,null,null,null,null,null,""]
[null,null,null,null,null,null,null,null,null,""]
[null,null,null,null,null,null,null,null,null,""]
[null,null,null,null,null,null,null,null,null,""]
[null,null,null,null,null,null,null,null,null,""]
[null,null,null,null,null,null,null,null,null,""]
[null,null,null,null,null,null,null,null,null,""]
[null,null,null,null,null,null,null,null,null,""]
[null,null,null,null,null,null,null,null,null,""]
[null,null,null,null,null,null,null,null,null,""]
[null,null,null,null,null,null,null,null,null,""]
[null,null,null,null,null,null,null,null,null,""]
[null,null,null,null,null,null,null,null,null,""]
[null,null,null,null,null,null,null,null,null,""]
[null,null,null,null,null,null,null,null,null,""]
[null,null,null,null,null,null,null,null,null,""]
[null,null,null,null,null,null,null,null,null,""]
[null,null,null,null,null,null,null,null,null,""]
[null,null,null,null,null,null,null,null,null,""]
[null,null,null,null,null,null,null,null,null,""]
[null,null,null,null,null,null,null,null,null,""]
[null,null,null,null,null,null,null,null,null,""]
[null,null,null,null,null,null,null,null,null,""]
[null,null,null,null,null,null,null,null,null,""]
[null,null,null,null,null,null,null,null,null,""]
[null,null,null,null,null,null,null,null,null,""]
[null,null,null,null,null,null,null,null,null,""]
[null,null,null,null,null,null,null,null,null,""]
[null,null,null,null,null,null,null,null,null,""]
[null,null,null,null,null,null,null,null,null,""]
[null,null,null,null,null,null,null,null,null,""]
[null,null,null,null,null,null,null,null,null,""]
[null,null,null,null,null,null,null,null,null,""]
[null,null,null,null,null,null,null,null,null,""]
[null,null,null,null,null,null,null,null,null,""]
[null,null,null,null,null,null,null,null,null,""]
[null,null,null,null,null,null,null,null,null,{"$f":"IF($D194=\"\",\"\",SUM(F194:I194))","v":""}]
[null,null,null,null,null,null,null,null,null,""]
[null,null,null,null,null,null,null,null,null,""]
[null,null,null,null,null,null,null,null,null,""]
[null,null,null,null,null,null,null,null,null,""]
[null,null,null,null,null,null,null,null,null,""]
[null,null,null,null,null,null,null,null,null,""]
[null,null,null,null,null,null,null,null,null,""]
[null,null,null,null,null,null,null,null,null,""]
[null,null,null,null,null,null,null,null,null,""]
[null,null,null,null,null,null,null,null,null,""]
[null,null,null,null,null,null,null,null,null,""]
[null,null,null,null,null,null,null,null,null,""]
[null,null,null,null,null,null,null,null,null,""]
[null,null,null,null,null,null,null,null,null,""]
[null,null,null,null,null,null,null,null,null,""]
[null,null,null,null,null,null,null,null,null,""]
[null,null,null,null,null,null,null,null,null,""]
[null,null,null,null,null,null,null,null,null,""]
[null,null,null,null,null,null,null,null,null,""]
[null,null,null,null,null,null,null,null,null,""]
[null,null,null,null,null,null,null,null,null,""]
[null,null,null,null,null,null,null,null,null,""]
[null,null,null,null,null,null,null,null,null,""]
[null,null,null,null,null,null,null,null,null,""]
[null,null,null,null,null,null,null,null,null,""]
[null,null,null,null,null,null,null,null,null,""]
[null,null,null,null,null,null,null,null,null,""]
[null,null,null,null,null,null,null,null,null,""]
[null,null,null,null,null,null,null,null,null,""]
[null,null,null,null,null,null,null,null,null,""]
[null,null,null,null,null,null,null,null,null,""]
[null,null,null,null,null,null,null,null,null,""]
[null,null,null,null,null,null,null,null,null,""]
[null,null,null,null,null,null,null,null,null,""]
[null,null,null,null,null,null,null,null,null,""]
[null,null,null,null,null,null,null,null,null,""]
[null,null,null,null,null,null,null,null,null,""]
[null,null,null,null,null,null,null,null,null,""]

{"sheet":"10mP60MW 入力発表","index":6,"n_rows":251,"n_cols":14,"rows_kept":251,"cut":false,"hidden":false,"merged":[]}
["順位","射群","射座","名　前","学校名","P1","P2","P3","P4","P5","P6","合 計","X","備考"]
[1,"β",9,"西田 寛","甲南大学",105.6,103.9,103.3,104.2,103.7,104.6,625.30000000000007,47]
[2,"β",16,"大友 健郎","京都大学",103.3,104.3,104.1,104.2,103.2,103.5,622.6,48]
[3,"α",19,"森 雪彦","関西大学",101.9,103.8,103.4,105,104.3,103.4,621.79999999999995,47,"X=47"]
[4,"β",4,"藤本 花音","京都大学",103.9,100.4,103.3,105.9,104,104.3,621.79999999999995,45,"X=45"]
[5,"α",3,"菅原 康之","京都大学",103.2,103.3,103,104.9,103.5,102.3,620.19999999999993,40]
[6,"α",26,"中田 大介","京都大学",103.6,105.2,102.5,102.4,100.8,104.3,618.79999999999995,39]
[7,"α",8,"石川 大地","関西学院大学",103.9,101.2,103.4,102.8,102.1,104.2,617.6,38]
[8,"β",10,"青山 綾希","京都大学",102.7,101.5,103.1,103.2,103.3,103,616.79999999999995,41]
[9,"α",25,"松田 真吾","京都産業大学",102.5,103.1,103,102.4,101.4,103.9,616.29999999999995,39]
[10,"β",29,"村上 桃子","京都大学",103.6,103.3,102.2,98.4,101.7,106.1,615.29999999999995,36]
[11,"α",12,"大谷 秀","甲南大学",101.1,103.5,102.8,99.9,103.3,103.7,614.29999999999995,37]
[12,"β",22,"景山 拓朗","関西学院大学",100.7,102.1,100.1,101.3,105,103.4,612.6,34]
[13,"β",26,"福田 哲史","京都大学",101.8,99.5,101.8,103.4,101.9,102.3,610.69999999999993,39]
[14,"β",19,"徳廣 愛","関西大学",102.7,92.5,103.7,105.5,101.8,103.5,609.70000000000005,42]
[15,"β",30,"奥村 哲弘","立命館大学",101.1,104.8,103.5,93.6,101.5,104.3,608.79999999999995,40]
[16,"β",13,"大澤 貴弘","京都大学",104.2,101.1,101.8,98.1,102.2,101.1,608.5,29]
[17,"β",8,"日野 祐允","関西学院大学",100.5,100.4,100.8,101.9,100.8,102.3,606.70000000000005,29]
[18,"β",14,"西田 康祐","近畿大学",90.8,103.2,102.1,104.9,104.6,100.9,606.5,40]
[19,"β",7,"村田 彩貴","京都大学",100.8,100.9,102.4,99.7,101.9,100.7,606.40000000000009,31]
[20,"α",15,"川崎 麻衣","甲南大学",102.7,102.9,99,99.9,100.6,100,605.1,25]
[21,"β",27,"高見 裕紀","甲南大学",102.6,100.1,101.3,102.2,98.8,99.9,604.9,32]
[22,"β",6,"小林 舜典","大阪大学",99.2,99.7,99.9,101.3,102.4,100.1,602.6,29]
[23,"β",25,"加茂 克基","京都産業大学",101.6,101.2,100.7,96.5,102,100.1,602.1,27]
[24,"β",21,"高橋 孝介","甲南大学",100.4,99.8,99,98.5,100.4,102.4,600.5,27]
[25,"β",28,"前田 慧","近畿大学",100,98.8,99.6,100.2,101.4,99.9,599.9,24]
[26,"α",4,"長尾 侑馬","近畿大学",101.2,101.7,100.3,95.8,97.9,100.2,597.1,23]
[27,"α",9,"小笠原 慎一朗","甲南大学",99.9,98.3,102,96.2,98.9,101.2,596.5,21]
[28,"α",21,"大西 杏奈","甲南大学",99.1,100,101.6,97.6,98.8,98.9,596,23]
[29,"β",18,"副島 隆志","甲南大学",97.6,96.3,97.4,102.3,101.4,100.9,595.9,21]
[30,"α",24,"山本 佳奈","甲南大学",95,100.6,101.7,99,97.1,102,595.4,19]
[31,"α",7,"有本 樹","京都大学",97.7,95.6,98.5,101,99.4,100,592.20000000000005,16]
[32,"α",14,"藤 優輝","近畿大学",98.3,92.6,99.7,99.2,100.9,99.2,589.9,19]
[33,"α",18,"山田 詩日奈","甲南女子大学",96.3,98.1,94.3,102.8,93.1,99.2,583.80000000000007,22]
[34,"β",15,"栗岡 亮太","甲南大学",97.3,100.8,99.8,95.1,90.8,97.6,581.4,16]
[35,"α",10,"大林 秀行","京都大学",99.5,98.7,90.9,94.1,96.2,98.3,577.70000000000005,16]
[36,"α",6,"楢橋 広基","大阪大学",94.1,92.9,95.3,97.1,97.9,96,573.29999999999995,13]
[37,"α",16,"比舍 昌志","京都大学",98.6,94.7,97.6,97.2,93.4,91.3,572.79999999999995,12]
[38,"α",27,"森元 裕太","甲南大学",93.7,100.2,98.3,96.3,96.1,87.4,572,14]
[39,"α",13,"後藤 陸","京都大学",94,92.6,83.9,91.5,92.2,93.2,547.4,12]
[40,"β",12,"川村 勇太","甲南大学",96,89.4,85.4,89.4,90.4,91.8,542.4,7]
[41,"β",24,"秋山 優美","甲南大学",89.1,85.5,87.3,96.4,86.1,92.4,536.79999999999995,7]
[42,"α",20,"渡邉 武之","京都大学",0,0,0,0,0,0,0,0,"D.N.S"]
[42,"β",20,"沖元 俊樹","京都大学",0,0,0,0,0,0,0,0,"D.N.S"]
[null,null,null,null,null,null,null,null,null,null,null,{"$f":"IF($D45=\"\",\"\",SUM(F45,G45,H45,I45,J45,K45))","v":""},{"$f":"IF($D45=\"\",\"\",SUM(#REF!,#REF!,#REF!,#REF!,#REF!,#REF!))","v":""}]
[null,null,null,null,null,null,null,null,null,null,null,"",{"$f":"IF($D46=\"\",\"\",SUM(#REF!,#REF!,#REF!,#REF!,#REF!,#REF!))","v":""}]
[null,null,null,null,null,null,null,null,null,null,null,"",{"$f":"IF($D47=\"\",\"\",SUM(#REF!,#REF!,#REF!,#REF!,#REF!,#REF!))","v":""}]
[null,null,null,null,null,null,null,null,null,null,null,"",{"$f":"IF($D48=\"\",\"\",SUM(#REF!,#REF!,#REF!,#REF!,#REF!,#REF!))","v":""}]
[null,null,null,null,null,null,null,null,null,null,null,"",{"$f":"IF($D49=\"\",\"\",SUM(#REF!,#REF!,#REF!,#REF!,#REF!,#REF!))","v":""}]
[null,null,null,null,null,null,null,null,null,null,null,"",{"$f":"IF($D50=\"\",\"\",SUM(#REF!,#REF!,#REF!,#REF!,#REF!,#REF!))","v":""}]
[null,null,null,null,null,null,null,null,null,null,null,"",{"$f":"IF($D51=\"\",\"\",SUM(#REF!,#REF!,#REF!,#REF!,#REF!,#REF!))","v":""}]
[null,null,null,null,null,null,null,null,null,null,null,"",{"$f":"IF($D52=\"\",\"\",SUM(#REF!,#REF!,#REF!,#REF!,#REF!,#REF!))","v":""}]
[null,null,null,null,null,null,null,null,null,null,null,"",{"$f":"IF($D53=\"\",\"\",SUM(#REF!,#REF!,#REF!,#REF!,#REF!,#REF!))","v":""}]
[null,null,null,null,null,null,null,null,null,null,null,"",{"$f":"IF($D54=\"\",\"\",SUM(#REF!,#REF!,#REF!,#REF!,#REF!,#REF!))","v":""}]
[null,null,null,null,null,null,null,null,null,null,null,"",{"$f":"IF($D55=\"\",\"\",SUM(#REF!,#REF!,#REF!,#REF!,#REF!,#REF!))","v":""}]
[null,null,null,null,null,null,null,null,null,null,null,"",{"$f":"IF($D56=\"\",\"\",SUM(#REF!,#REF!,#REF!,#REF!,#REF!,#REF!))","v":""}]
[null,null,null,null,null,null,null,null,null,null,null,"",{"$f":"IF($D57=\"\",\"\",SUM(#REF!,#REF!,#REF!,#REF!,#REF!,#REF!))","v":""}]
[null,null,null,null,null,null,null,null,null,null,null,"",{"$f":"IF($D58=\"\",\"\",SUM(#REF!,#REF!,#REF!,#REF!,#REF!,#REF!))","v":""}]
[null,null,null,null,null,null,null,null,null,null,null,"",{"$f":"IF($D59=\"\",\"\",SUM(#REF!,#REF!,#REF!,#REF!,#REF!,#REF!))","v":""}]
[null,null,null,null,null,null,null,null,null,null,null,"",{"$f":"IF($D60=\"\",\"\",SUM(#REF!,#REF!,#REF!,#REF!,#REF!,#REF!))","v":""}]
[null,null,null,null,null,null,null,null,null,null,null,"",{"$f":"IF($D61=\"\",\"\",SUM(#REF!,#REF!,#REF!,#REF!,#REF!,#REF!))","v":""}]
[null,null,null,null,null,null,null,null,null,null,null,"",{"$f":"IF($D62=\"\",\"\",SUM(#REF!,#REF!,#REF!,#REF!,#REF!,#REF!))","v":""}]
[null,null,null,null,null,null,null,null,null,null,null,"",{"$f":"IF($D63=\"\",\"\",SUM(#REF!,#REF!,#REF!,#REF!,#REF!,#REF!))","v":""}]
[null,null,null,null,null,null,null,null,null,null,null,"",{"$f":"IF($D64=\"\",\"\",SUM(#REF!,#REF!,#REF!,#REF!,#REF!,#REF!))","v":""}]
[null,null,null,null,null,null,null,null,null,null,null,"",{"$f":"IF($D65=\"\",\"\",SUM(#REF!,#REF!,#REF!,#REF!,#REF!,#REF!))","v":""}]
[null,null,null,null,null,null,null,null,null,null,null,"",{"$f":"IF($D66=\"\",\"\",SUM(#REF!,#REF!,#REF!,#REF!,#REF!,#REF!))","v":""}]
[null,null,null,null,null,null,null,null,null,null,null,"",{"$f":"IF($D67=\"\",\"\",SUM(#REF!,#REF!,#REF!,#REF!,#REF!,#REF!))","v":""}]
[null,null,null,null,null,null,null,null,null,null,null,"",{"$f":"IF($D68=\"\",\"\",SUM(#REF!,#REF!,#REF!,#REF!,#REF!,#REF!))","v":""}]
[null,null,null,null,null,null,null,null,null,null,null,"",{"$f":"IF($D69=\"\",\"\",SUM(#REF!,#REF!,#REF!,#REF!,#REF!,#REF!))","v":""}]
[null,null,null,null,null,null,null,null,null,null,null,"",{"$f":"IF($D70=\"\",\"\",SUM(#REF!,#REF!,#REF!,#REF!,#REF!,#REF!))","v":""}]
[null,null,null,null,null,null,null,null,null,null,null,"",{"$f":"IF($D71=\"\",\"\",SUM(#REF!,#REF!,#REF!,#REF!,#REF!,#REF!))","v":""}]
[null,null,null,null,null,null,null,null,null,null,null,"",{"$f":"IF($D72=\"\",\"\",SUM(#REF!,#REF!,#REF!,#REF!,#REF!,#REF!))","v":""}]
[null,null,null,null,null,null,null,null,null,null,null,"",{"$f":"IF($D73=\"\",\"\",SUM(#REF!,#REF!,#REF!,#REF!,#REF!,#REF!))","v":""}]
[null,null,null,null,null,null,null,null,null,null,null,"",{"$f":"IF($D74=\"\",\"\",SUM(#REF!,#REF!,#REF!,#REF!,#REF!,#REF!))","v":""}]
[null,null,null,null,null,null,null,null,null,null,null,"",{"$f":"IF($D75=\"\",\"\",SUM(#REF!,#REF!,#REF!,#REF!,#REF!,#REF!))","v":""}]
[null,null,null,null,null,null,null,null,null,null,null,"",{"$f":"IF($D76=\"\",\"\",SUM(#REF!,#REF!,#REF!,#REF!,#REF!,#REF!))","v":""}]
[null,null,null,null,null,null,null,null,null,null,null,"",{"$f":"IF($D77=\"\",\"\",SUM(#REF!,#REF!,#REF!,#REF!,#REF!,#REF!))","v":""}]
[null,null,null,null,null,null,null,null,null,null,null,"",{"$f":"IF($D78=\"\",\"\",SUM(#REF!,#REF!,#REF!,#REF!,#REF!,#REF!))","v":""}]
[null,null,null,null,null,null,null,null,null,null,null,"",{"$f":"IF($D79=\"\",\"\",SUM(#REF!,#REF!,#REF!,#REF!,#REF!,#REF!))","v":""}]
[null,null,null,null,null,null,null,null,null,null,null,"",{"$f":"IF($D80=\"\",\"\",SUM(#REF!,#REF!,#REF!,#REF!,#REF!,#REF!))","v":""}]
[null,null,null,null,null,null,null,null,null,null,null,"",{"$f":"IF($D81=\"\",\"\",SUM(#REF!,#REF!,#REF!,#REF!,#REF!,#REF!))","v":""}]
[null,null,null,null,null,null,null,null,null,null,null,"",{"$f":"IF($D82=\"\",\"\",SUM(#REF!,#REF!,#REF!,#REF!,#REF!,#REF!))","v":""}]
[null,null,null,null,null,null,null,null,null,null,null,"",{"$f":"IF($D83=\"\",\"\",SUM(#REF!,#REF!,#REF!,#REF!,#REF!,#REF!))","v":""}]
[null,null,null,null,null,null,null,null,null,null,null,"",{"$f":"IF($D84=\"\",\"\",SUM(#REF!,#REF!,#REF!,#REF!,#REF!,#REF!))","v":""}]
[null,null,null,null,null,null,null,null,null,null,null,"",{"$f":"IF($D85=\"\",\"\",SUM(#REF!,#REF!,#REF!,#REF!,#REF!,#REF!))","v":""}]
[null,null,null,null,null,null,null,null,null,null,null,"",{"$f":"IF($D86=\"\",\"\",SUM(#REF!,#REF!,#REF!,#REF!,#REF!,#REF!))","v":""}]
[null,null,null,null,null,null,null,null,null,null,null,"",{"$f":"IF($D87=\"\",\"\",SUM(#REF!,#REF!,#REF!,#REF!,#REF!,#REF!))","v":""}]
[null,null,null,null,null,null,null,null,null,null,null,"",{"$f":"IF($D88=\"\",\"\",SUM(#REF!,#REF!,#REF!,#REF!,#REF!,#REF!))","v":""}]
[null,null,null,null,null,null,null,null,null,null,null,"",{"$f":"IF($D89=\"\",\"\",SUM(#REF!,#REF!,#REF!,#REF!,#REF!,#REF!))","v":""}]
[null,null,null,null,null,null,null,null,null,null,null,"",{"$f":"IF($D90=\"\",\"\",SUM(#REF!,#REF!,#REF!,#REF!,#REF!,#REF!))","v":""}]
[null,null,null,null,null,null,null,null,null,null,null,"",{"$f":"IF($D91=\"\",\"\",SUM(#REF!,#REF!,#REF!,#REF!,#REF!,#REF!))","v":""}]
[null,null,null,null,null,null,null,null,null,null,null,"",{"$f":"IF($D92=\"\",\"\",SUM(#REF!,#REF!,#REF!,#REF!,#REF!,#REF!))","v":""}]
[null,null,null,null,null,null,null,null,null,null,null,"",{"$f":"IF($D93=\"\",\"\",SUM(#REF!,#REF!,#REF!,#REF!,#REF!,#REF!))","v":""}]
[null,null,null,null,null,null,null,null,null,null,null,"",{"$f":"IF($D94=\"\",\"\",SUM(#REF!,#REF!,#REF!,#REF!,#REF!,#REF!))","v":""}]
[null,null,null,null,null,null,null,null,null,null,null,"",{"$f":"IF($D95=\"\",\"\",SUM(#REF!,#REF!,#REF!,#REF!,#REF!,#REF!))","v":""}]
[null,null,null,null,null,null,null,null,null,null,null,"",{"$f":"IF($D96=\"\",\"\",SUM(#REF!,#REF!,#REF!,#REF!,#REF!,#REF!))","v":""}]
[null,null,null,null,null,null,null,null,null,null,null,"",{"$f":"IF($D97=\"\",\"\",SUM(#REF!,#REF!,#REF!,#REF!,#REF!,#REF!))","v":""}]
[null,null,null,null,null,null,null,null,null,null,null,"",{"$f":"IF($D98=\"\",\"\",SUM(#REF!,#REF!,#REF!,#REF!,#REF!,#REF!))","v":""}]
[null,null,null,null,null,null,null,null,null,null,null,"",{"$f":"IF($D99=\"\",\"\",SUM(#REF!,#REF!,#REF!,#REF!,#REF!,#REF!))","v":""}]
[null,null,null,null,null,null,null,null,null,null,null,"",{"$f":"IF($D100=\"\",\"\",SUM(#REF!,#REF!,#REF!,#REF!,#REF!,#REF!))","v":""}]
[null,null,null,null,null,null,null,null,null,null,null,"",{"$f":"IF($D101=\"\",\"\",SUM(#REF!,#REF!,#REF!,#REF!,#REF!,#REF!))","v":""}]
[null,null,null,null,null,null,null,null,null,null,null,"",{"$f":"IF($D102=\"\",\"\",SUM(#REF!,#REF!,#REF!,#REF!,#REF!,#REF!))","v":""}]
[null,null,null,null,null,null,null,null,null,null,null,"",{"$f":"IF($D103=\"\",\"\",SUM(#REF!,#REF!,#REF!,#REF!,#REF!,#REF!))","v":""}]
[null,null,null,null,null,null,null,null,null,null,null,"",{"$f":"IF($D104=\"\",\"\",SUM(#REF!,#REF!,#REF!,#REF!,#REF!,#REF!))","v":""}]
[null,null,null,null,null,null,null,null,null,null,null,"",{"$f":"IF($D105=\"\",\"\",SUM(#REF!,#REF!,#REF!,#REF!,#REF!,#REF!))","v":""}]
[null,null,null,null,null,null,null,null,null,null,null,"",{"$f":"IF($D106=\"\",\"\",SUM(#REF!,#REF!,#REF!,#REF!,#REF!,#REF!))","v":""}]
[null,null,null,null,null,null,null,null,null,null,null,"",{"$f":"IF($D107=\"\",\"\",SUM(#REF!,#REF!,#REF!,#REF!,#REF!,#REF!))","v":""}]
[null,null,null,null,null,null,null,null,null,null,null,"",{"$f":"IF($D108=\"\",\"\",SUM(#REF!,#REF!,#REF!,#REF!,#REF!,#REF!))","v":""}]
[null,null,null,null,null,null,null,null,null,null,null,{"$f":"IF($D109=\"\",\"\",SUM(F109,G109,H109,I109,J109,K109))","v":""},{"$f":"IF($D109=\"\",\"\",SUM(#REF!,#REF!,#REF!,#REF!,#REF!,#REF!))","v":""}]
[null,null,null,null,null,null,null,null,null,null,null,"",{"$f":"IF($D110=\"\",\"\",SUM(#REF!,#REF!,#REF!,#REF!,#REF!,#REF!))","v":""}]
[null,null,null,null,null,null,null,null,null,null,null,"",{"$f":"IF($D111=\"\",\"\",SUM(#REF!,#REF!,#REF!,#REF!,#REF!,#REF!))","v":""}]
[null,null,null,null,null,null,null,null,null,null,null,"",{"$f":"IF($D112=\"\",\"\",SUM(#REF!,#REF!,#REF!,#REF!,#REF!,#REF!))","v":""}]
[null,null,null,null,null,null,null,null,null,null,null,"",{"$f":"IF($D113=\"\",\"\",SUM(#REF!,#REF!,#REF!,#REF!,#REF!,#REF!))","v":""}]
[null,null,null,null,null,null,null,null,null,null,null,"",{"$f":"IF($D114=\"\",\"\",SUM(#REF!,#REF!,#REF!,#REF!,#REF!,#REF!))","v":""}]
[null,null,null,null,null,null,null,null,null,null,null,"",{"$f":"IF($D115=\"\",\"\",SUM(#REF!,#REF!,#REF!,#REF!,#REF!,#REF!))","v":""}]
[null,null,null,null,null,null,null,null,null,null,null,"",{"$f":"IF($D116=\"\",\"\",SUM(#REF!,#REF!,#REF!,#REF!,#REF!,#REF!))","v":""}]
[null,null,null,null,null,null,null,null,null,null,null,"",{"$f":"IF($D117=\"\",\"\",SUM(#REF!,#REF!,#REF!,#REF!,#REF!,#REF!))","v":""}]
[null,null,null,null,null,null,null,null,null,null,null,"",{"$f":"IF($D118=\"\",\"\",SUM(#REF!,#REF!,#REF!,#REF!,#REF!,#REF!))","v":""}]
[null,null,null,null,null,null,null,null,null,null,null,"",{"$f":"IF($D119=\"\",\"\",SUM(#REF!,#REF!,#REF!,#REF!,#REF!,#REF!))","v":""}]
[null,null,null,null,null,null,null,null,null,null,null,"",{"$f":"IF($D120=\"\",\"\",SUM(#REF!,#REF!,#REF!,#REF!,#REF!,#REF!))","v":""}]
[null,null,null,null,null,null,null,null,null,null,null,"",{"$f":"IF($D121=\"\",\"\",SUM(#REF!,#REF!,#REF!,#REF!,#REF!,#REF!))","v":""}]
[null,null,null,null,null,null,null,null,null,null,null,"",{"$f":"IF($D122=\"\",\"\",SUM(#REF!,#REF!,#REF!,#REF!,#REF!,#REF!))","v":""}]
[null,null,null,null,null,null,null,null,null,null,null,"",{"$f":"IF($D123=\"\",\"\",SUM(#REF!,#REF!,#REF!,#REF!,#REF!,#REF!))","v":""}]
[null,null,null,null,null,null,null,null,null,null,null,"",{"$f":"IF($D124=\"\",\"\",SUM(#REF!,#REF!,#REF!,#REF!,#REF!,#REF!))","v":""}]
[null,null,null,null,null,null,null,null,null,null,null,"",{"$f":"IF($D125=\"\",\"\",SUM(#REF!,#REF!,#REF!,#REF!,#REF!,#REF!))","v":""}]
[null,null,null,null,null,null,null,null,null,null,null,"",{"$f":"IF($D126=\"\",\"\",SUM(#REF!,#REF!,#REF!,#REF!,#REF!,#REF!))","v":""}]
[null,null,null,null,null,null,null,null,null,null,null,"",{"$f":"IF($D127=\"\",\"\",SUM(#REF!,#REF!,#REF!,#REF!,#REF!,#REF!))","v":""}]
[null,null,null,null,null,null,null,null,null,null,null,"",{"$f":"IF($D128=\"\",\"\",SUM(#REF!,#REF!,#REF!,#REF!,#REF!,#REF!))","v":""}]
[null,null,null,null,null,null,null,null,null,null,null,"",{"$f":"IF($D129=\"\",\"\",SUM(#REF!,#REF!,#REF!,#REF!,#REF!,#REF!))","v":""}]
[null,null,null,null,null,null,null,null,null,null,null,"",{"$f":"IF($D130=\"\",\"\",SUM(#REF!,#REF!,#REF!,#REF!,#REF!,#REF!))","v":""}]
[null,null,null,null,null,null,null,null,null,null,null,"",{"$f":"IF($D131=\"\",\"\",SUM(#REF!,#REF!,#REF!,#REF!,#REF!,#REF!))","v":""}]
[null,null,null,null,null,null,null,null,null,null,null,"",{"$f":"IF($D132=\"\",\"\",SUM(#REF!,#REF!,#REF!,#REF!,#REF!,#REF!))","v":""}]
[null,null,null,null,null,null,null,null,null,null,null,"",{"$f":"IF($D133=\"\",\"\",SUM(#REF!,#REF!,#REF!,#REF!,#REF!,#REF!))","v":""}]
[null,null,null,null,null,null,null,null,null,null,null,"",{"$f":"IF($D134=\"\",\"\",SUM(#REF!,#REF!,#REF!,#REF!,#REF!,#REF!))","v":""}]
[null,null,null,null,null,null,null,null,null,null,null,"",{"$f":"IF($D135=\"\",\"\",SUM(#REF!,#REF!,#REF!,#REF!,#REF!,#REF!))","v":""}]
[null,null,null,null,null,null,null,null,null,null,null,"",{"$f":"IF($D136=\"\",\"\",SUM(#REF!,#REF!,#REF!,#REF!,#REF!,#REF!))","v":""}]
[null,null,null,null,null,null,null,null,null,null,null,"",{"$f":"IF($D137=\"\",\"\",SUM(#REF!,#REF!,#REF!,#REF!,#REF!,#REF!))","v":""}]
[null,null,null,null,null,null,null,null,null,null,null,"",{"$f":"IF($D138=\"\",\"\",SUM(#REF!,#REF!,#REF!,#REF!,#REF!,#REF!))","v":""}]
[null,null,null,null,null,null,null,null,null,null,null,"",{"$f":"IF($D139=\"\",\"\",SUM(#REF!,#REF!,#REF!,#REF!,#REF!,#REF!))","v":""}]
[null,null,null,null,null,null,null,null,null,null,null,"",{"$f":"IF($D140=\"\",\"\",SUM(#REF!,#REF!,#REF!,#REF!,#REF!,#REF!))","v":""}]
[null,null,null,null,null,null,null,null,null,null,null,"",{"$f":"IF($D141=\"\",\"\",SUM(#REF!,#REF!,#REF!,#REF!,#REF!,#REF!))","v":""}]
[null,null,null,null,null,null,null,null,null,null,null,"",{"$f":"IF($D142=\"\",\"\",SUM(#REF!,#REF!,#REF!,#REF!,#REF!,#REF!))","v":""}]
[null,null,null,null,null,null,null,null,null,null,null,"",{"$f":"IF($D143=\"\",\"\",SUM(#REF!,#REF!,#REF!,#REF!,#REF!,#REF!))","v":""}]
[null,null,null,null,null,null,null,null,null,null,null,"",{"$f":"IF($D144=\"\",\"\",SUM(#REF!,#REF!,#REF!,#REF!,#REF!,#REF!))","v":""}]
[null,null,null,null,null,null,null,null,null,null,null,"",{"$f":"IF($D145=\"\",\"\",SUM(#REF!,#REF!,#REF!,#REF!,#REF!,#REF!))","v":""}]
[null,null,null,null,null,null,null,null,null,null,null,"",{"$f":"IF($D146=\"\",\"\",SUM(#REF!,#REF!,#REF!,#REF!,#REF!,#REF!))","v":""}]
[null,null,null,null,null,null,null,null,null,null,null,"",{"$f":"IF($D147=\"\",\"\",SUM(#REF!,#REF!,#REF!,#REF!,#REF!,#REF!))","v":""}]
[null,null,null,null,null,null,null,null,null,null,null,"",{"$f":"IF($D148=\"\",\"\",SUM(#REF!,#REF!,#REF!,#REF!,#REF!,#REF!))","v":""}]
[null,null,null,null,null,null,null,null,null,null,null,"",{"$f":"IF($D149=\"\",\"\",SUM(#REF!,#REF!,#REF!,#REF!,#REF!,#REF!))","v":""}]
[null,null,null,null,null,null,null,null,null,null,null,"",{"$f":"IF($D150=\"\",\"\",SUM(#REF!,#REF!,#REF!,#REF!,#REF!,#REF!))","v":""}]
[null,null,null,null,null,null,null,null,null,null,null,"",{"$f":"IF($D151=\"\",\"\",SUM(#REF!,#REF!,#REF!,#REF!,#REF!,#REF!))","v":""}]
[null,null,null,null,null,null,null,null,null,null,null,"",{"$f":"IF($D152=\"\",\"\",SUM(#REF!,#REF!,#REF!,#REF!,#REF!,#REF!))","v":""}]
[null,null,null,null,null,null,null,null,null,null,null,"",{"$f":"IF($D153=\"\",\"\",SUM(#REF!,#REF!,#REF!,#REF!,#REF!,#REF!))","v":""}]
[null,null,null,null,null,null,null,null,null,null,null,"",{"$f":"IF($D154=\"\",\"\",SUM(#REF!,#REF!,#REF!,#REF!,#REF!,#REF!))","v":""}]
[null,null,null,null,null,null,null,null,null,null,null,"",{"$f":"IF($D155=\"\",\"\",SUM(#REF!,#REF!,#REF!,#REF!,#REF!,#REF!))","v":""}]
[null,null,null,null,null,null,null,null,null,null,null,"",{"$f":"IF($D156=\"\",\"\",SUM(#REF!,#REF!,#REF!,#REF!,#REF!,#REF!))","v":""}]
[null,null,null,null,null,null,null,null,null,null,null,"",{"$f":"IF($D157=\"\",\"\",SUM(#REF!,#REF!,#REF!,#REF!,#REF!,#REF!))","v":""}]
[null,null,null,null,null,null,null,null,null,null,null,"",{"$f":"IF($D158=\"\",\"\",SUM(#REF!,#REF!,#REF!,#REF!,#REF!,#REF!))","v":""}]
[null,null,null,null,null,null,null,null,null,null,null,"",{"$f":"IF($D159=\"\",\"\",SUM(#REF!,#REF!,#REF!,#REF!,#REF!,#REF!))","v":""}]
[null,null,null,null,null,null,null,null,null,null,null,"",{"$f":"IF($D160=\"\",\"\",SUM(#REF!,#REF!,#REF!,#REF!,#REF!,#REF!))","v":""}]
[null,null,null,null,null,null,null,null,null,null,null,"",{"$f":"IF($D161=\"\",\"\",SUM(#REF!,#REF!,#REF!,#REF!,#REF!,#REF!))","v":""}]
[null,null,null,null,null,null,null,null,null,null,null,"",{"$f":"IF($D162=\"\",\"\",SUM(#REF!,#REF!,#REF!,#REF!,#REF!,#REF!))","v":""}]
[null,null,null,null,null,null,null,null,null,null,null,"",{"$f":"IF($D163=\"\",\"\",SUM(#REF!,#REF!,#REF!,#REF!,#REF!,#REF!))","v":""}]
[null,null,null,null,null,null,null,null,null,null,null,"",{"$f":"IF($D164=\"\",\"\",SUM(#REF!,#REF!,#REF!,#REF!,#REF!,#REF!))","v":""}]
[null,null,null,null,null,null,null,null,null,null,null,"",{"$f":"IF($D165=\"\",\"\",SUM(#REF!,#REF!,#REF!,#REF!,#REF!,#REF!))","v":""}]
[null,null,null,null,null,null,null,null,null,null,null,"",{"$f":"IF($D166=\"\",\"\",SUM(#REF!,#REF!,#REF!,#REF!,#REF!,#REF!))","v":""}]
[null,null,null,null,null,null,null,null,null,null,null,"",{"$f":"IF($D167=\"\",\"\",SUM(#REF!,#REF!,#REF!,#REF!,#REF!,#REF!))","v":""}]
[null,null,null,null,null,null,null,null,null,null,null,"",{"$f":"IF($D168=\"\",\"\",SUM(#REF!,#REF!,#REF!,#REF!,#REF!,#REF!))","v":""}]
[null,null,null,null,null,null,null,null,null,null,null,"",{"$f":"IF($D169=\"\",\"\",SUM(#REF!,#REF!,#REF!,#REF!,#REF!,#REF!))","v":""}]
[null,null,null,null,null,null,null,null,null,null,null,"",{"$f":"IF($D170=\"\",\"\",SUM(#REF!,#REF!,#REF!,#REF!,#REF!,#REF!))","v":""}]
[null,null,null,null,null,null,null,null,null,null,null,"",{"$f":"IF($D171=\"\",\"\",SUM(#REF!,#REF!,#REF!,#REF!,#REF!,#REF!))","v":""}]
[null,null,null,null,null,null,null,null,null,null,null,"",{"$f":"IF($D172=\"\",\"\",SUM(#REF!,#REF!,#REF!,#REF!,#REF!,#REF!))","v":""}]
[null,null,null,null,null,null,null,null,null,null,null,{"$f":"IF($D173=\"\",\"\",SUM(F173,G173,H173,I173,J173,K173))","v":""},{"$f":"IF($D173=\"\",\"\",SUM(#REF!,#REF!,#REF!,#REF!,#REF!,#REF!))","v":""}]
[null,null,null,null,null,null,null,null,null,null,null,"",{"$f":"IF($D174=\"\",\"\",SUM(#REF!,#REF!,#REF!,#REF!,#REF!,#REF!))","v":""}]
[null,null,null,null,null,null,null,null,null,null,null,"",{"$f":"IF($D175=\"\",\"\",SUM(#REF!,#REF!,#REF!,#REF!,#REF!,#REF!))","v":""}]
[null,null,null,null,null,null,null,null,null,null,null,"",{"$f":"IF($D176=\"\",\"\",SUM(#REF!,#REF!,#REF!,#REF!,#REF!,#REF!))","v":""}]
[null,null,null,null,null,null,null,null,null,null,null,"",{"$f":"IF($D177=\"\",\"\",SUM(#REF!,#REF!,#REF!,#REF!,#REF!,#REF!))","v":""}]
[null,null,null,null,null,null,null,null,null,null,null,"",{"$f":"IF($D178=\"\",\"\",SUM(#REF!,#REF!,#REF!,#REF!,#REF!,#REF!))","v":""}]
[null,null,null,null,null,null,null,null,null,null,null,"",{"$f":"IF($D179=\"\",\"\",SUM(#REF!,#REF!,#REF!,#REF!,#REF!,#REF!))","v":""}]
[null,null,null,null,null,null,null,null,null,null,null,"",{"$f":"IF($D180=\"\",\"\",SUM(#REF!,#REF!,#REF!,#REF!,#REF!,#REF!))","v":""}]
[null,null,null,null,null,null,null,null,null,null,null,"",{"$f":"IF($D181=\"\",\"\",SUM(#REF!,#REF!,#REF!,#REF!,#REF!,#REF!))","v":""}]
[null,null,null,null,null,null,null,null,null,null,null,"",{"$f":"IF($D182=\"\",\"\",SUM(#REF!,#REF!,#REF!,#REF!,#REF!,#REF!))","v":""}]
[null,null,null,null,null,null,null,null,null,null,null,"",{"$f":"IF($D183=\"\",\"\",SUM(#REF!,#REF!,#REF!,#REF!,#REF!,#REF!))","v":""}]
[null,null,null,null,null,null,null,null,null,null,null,"",{"$f":"IF($D184=\"\",\"\",SUM(#REF!,#REF!,#REF!,#REF!,#REF!,#REF!))","v":""}]
[null,null,null,null,null,null,null,null,null,null,null,"",{"$f":"IF($D185=\"\",\"\",SUM(#REF!,#REF!,#REF!,#REF!,#REF!,#REF!))","v":""}]
[null,null,null,null,null,null,null,null,null,null,null,"",{"$f":"IF($D186=\"\",\"\",SUM(#REF!,#REF!,#REF!,#REF!,#REF!,#REF!))","v":""}]
[null,null,null,null,null,null,null,null,null,null,null,"",{"$f":"IF($D187=\"\",\"\",SUM(#REF!,#REF!,#REF!,#REF!,#REF!,#REF!))","v":""}]
[null,null,null,null,null,null,null,null,null,null,null,"",{"$f":"IF($D188=\"\",\"\",SUM(#REF!,#REF!,#REF!,#REF!,#REF!,#REF!))","v":""}]
[null,null,null,null,null,null,null,null,null,null,null,"",{"$f":"IF($D189=\"\",\"\",SUM(#REF!,#REF!,#REF!,#REF!,#REF!,#REF!))","v":""}]
[null,null,null,null,null,null,null,null,null,null,null,"",{"$f":"IF($D190=\"\",\"\",SUM(#REF!,#REF!,#REF!,#REF!,#REF!,#REF!))","v":""}]
[null,null,null,null,null,null,null,null,null,null,null,"",{"$f":"IF($D191=\"\",\"\",SUM(#REF!,#REF!,#REF!,#REF!,#REF!,#REF!))","v":""}]
[null,null,null,null,null,null,null,null,null,null,null,"",{"$f":"IF($D192=\"\",\"\",SUM(#REF!,#REF!,#REF!,#REF!,#REF!,#REF!))","v":""}]
[null,null,null,null,null,null,null,null,null,null,null,"",{"$f":"IF($D193=\"\",\"\",SUM(#REF!,#REF!,#REF!,#REF!,#REF!,#REF!))","v":""}]
[null,null,null,null,null,null,null,null,null,null,null,"",{"$f":"IF($D194=\"\",\"\",SUM(#REF!,#REF!,#REF!,#REF!,#REF!,#REF!))","v":""}]
[null,null,null,null,null,null,null,null,null,null,null,"",{"$f":"IF($D195=\"\",\"\",SUM(#REF!,#REF!,#REF!,#REF!,#REF!,#REF!))","v":""}]
[null,null,null,null,null,null,null,null,null,null,null,"",{"$f":"IF($D196=\"\",\"\",SUM(#REF!,#REF!,#REF!,#REF!,#REF!,#REF!))","v":""}]
[null,null,null,null,null,null,null,null,null,null,null,"",{"$f":"IF($D197=\"\",\"\",SUM(#REF!,#REF!,#REF!,#REF!,#REF!,#REF!))","v":""}]
[null,null,null,null,null,null,null,null,null,null,null,"",{"$f":"IF($D198=\"\",\"\",SUM(#REF!,#REF!,#REF!,#REF!,#REF!,#REF!))","v":""}]
[null,null,null,null,null,null,null,null,null,null,null,"",{"$f":"IF($D199=\"\",\"\",SUM(#REF!,#REF!,#REF!,#REF!,#REF!,#REF!))","v":""}]
[null,null,null,null,null,null,null,null,null,null,null,"",{"$f":"IF($D200=\"\",\"\",SUM(#REF!,#REF!,#REF!,#REF!,#REF!,#REF!))","v":""}]
[null,null,null,null,null,null,null,null,null,null,null,"",{"$f":"IF($D201=\"\",\"\",SUM(#REF!,#REF!,#REF!,#REF!,#REF!,#REF!))","v":""}]
[null,null,null,null,null,null,null,null,null,null,null,"",{"$f":"IF($D202=\"\",\"\",SUM(#REF!,#REF!,#REF!,#REF!,#REF!,#REF!))","v":""}]
[null,null,null,null,null,null,null,null,null,null,null,"",{"$f":"IF($D203=\"\",\"\",SUM(#REF!,#REF!,#REF!,#REF!,#REF!,#REF!))","v":""}]
[null,null,null,null,null,null,null,null,null,null,null,"",{"$f":"IF($D204=\"\",\"\",SUM(#REF!,#REF!,#REF!,#REF!,#REF!,#REF!))","v":""}]
[null,null,null,null,null,null,null,null,null,null,null,"",{"$f":"IF($D205=\"\",\"\",SUM(#REF!,#REF!,#REF!,#REF!,#REF!,#REF!))","v":""}]
[null,null,null,null,null,null,null,null,null,null,null,"",{"$f":"IF($D206=\"\",\"\",SUM(#REF!,#REF!,#REF!,#REF!,#REF!,#REF!))","v":""}]
[null,null,null,null,null,null,null,null,null,null,null,"",{"$f":"IF($D207=\"\",\"\",SUM(#REF!,#REF!,#REF!,#REF!,#REF!,#REF!))","v":""}]
[null,null,null,null,null,null,null,null,null,null,null,"",{"$f":"IF($D208=\"\",\"\",SUM(#REF!,#REF!,#REF!,#REF!,#REF!,#REF!))","v":""}]
[null,null,null,null,null,null,null,null,null,null,null,"",{"$f":"IF($D209=\"\",\"\",SUM(#REF!,#REF!,#REF!,#REF!,#REF!,#REF!))","v":""}]
[null,null,null,null,null,null,null,null,null,null,null,"",{"$f":"IF($D210=\"\",\"\",SUM(#REF!,#REF!,#REF!,#REF!,#REF!,#REF!))","v":""}]
[null,null,null,null,null,null,null,null,null,null,null,"",{"$f":"IF($D211=\"\",\"\",SUM(#REF!,#REF!,#REF!,#REF!,#REF!,#REF!))","v":""}]
[null,null,null,null,null,null,null,null,null,null,null,"",{"$f":"IF($D212=\"\",\"\",SUM(#REF!,#REF!,#REF!,#REF!,#REF!,#REF!))","v":""}]
[null,null,null,null,null,null,null,null,null,null,null,"",{"$f":"IF($D213=\"\",\"\",SUM(#REF!,#REF!,#REF!,#REF!,#REF!,#REF!))","v":""}]
[null,null,null,null,null,null,null,null,null,null,null,"",{"$f":"IF($D214=\"\",\"\",SUM(#REF!,#REF!,#REF!,#REF!,#REF!,#REF!))","v":""}]
[null,null,null,null,null,null,null,null,null,null,null,"",{"$f":"IF($D215=\"\",\"\",SUM(#REF!,#REF!,#REF!,#REF!,#REF!,#REF!))","v":""}]
[null,null,null,null,null,null,null,null,null,null,null,"",{"$f":"IF($D216=\"\",\"\",SUM(#REF!,#REF!,#REF!,#REF!,#REF!,#REF!))","v":""}]
[null,null,null,null,null,null,null,null,null,null,null,"",{"$f":"IF($D217=\"\",\"\",SUM(#REF!,#REF!,#REF!,#REF!,#REF!,#REF!))","v":""}]
[null,null,null,null,null,null,null,null,null,null,null,"",{"$f":"IF($D218=\"\",\"\",SUM(#REF!,#REF!,#REF!,#REF!,#REF!,#REF!))","v":""}]
[null,null,null,null,null,null,null,null,null,null,null,"",{"$f":"IF($D219=\"\",\"\",SUM(#REF!,#REF!,#REF!,#REF!,#REF!,#REF!))","v":""}]
[null,null,null,null,null,null,null,null,null,null,null,"",{"$f":"IF($D220=\"\",\"\",SUM(#REF!,#REF!,#REF!,#REF!,#REF!,#REF!))","v":""}]
[null,null,null,null,null,null,null,null,null,null,null,"",{"$f":"IF($D221=\"\",\"\",SUM(#REF!,#REF!,#REF!,#REF!,#REF!,#REF!))","v":""}]
[null,null,null,null,null,null,null,null,null,null,null,"",{"$f":"IF($D222=\"\",\"\",SUM(#REF!,#REF!,#REF!,#REF!,#REF!,#REF!))","v":""}]
[null,null,null,null,null,null,null,null,null,null,null,"",{"$f":"IF($D223=\"\",\"\",SUM(#REF!,#REF!,#REF!,#REF!,#REF!,#REF!))","v":""}]
[null,null,null,null,null,null,null,null,null,null,null,"",{"$f":"IF($D224=\"\",\"\",SUM(#REF!,#REF!,#REF!,#REF!,#REF!,#REF!))","v":""}]
[null,null,null,null,null,null,null,null,null,null,null,"",{"$f":"IF($D225=\"\",\"\",SUM(#REF!,#REF!,#REF!,#REF!,#REF!,#REF!))","v":""}]
[null,null,null,null,null,null,null,null,null,null,null,"",{"$f":"IF($D226=\"\",\"\",SUM(#REF!,#REF!,#REF!,#REF!,#REF!,#REF!))","v":""}]
[null,null,null,null,null,null,null,null,null,null,null,"",{"$f":"IF($D227=\"\",\"\",SUM(#REF!,#REF!,#REF!,#REF!,#REF!,#REF!))","v":""}]
[null,null,null,null,null,null,null,null,null,null,null,"",{"$f":"IF($D228=\"\",\"\",SUM(#REF!,#REF!,#REF!,#REF!,#REF!,#REF!))","v":""}]
[null,null,null,null,null,null,null,null,null,null,null,"",{"$f":"IF($D229=\"\",\"\",SUM(#REF!,#REF!,#REF!,#REF!,#REF!,#REF!))","v":""}]
[null,null,null,null,null,null,null,null,null,null,null,"",{"$f":"IF($D230=\"\",\"\",SUM(#REF!,#REF!,#REF!,#REF!,#REF!,#REF!))","v":""}]
[null,null,null,null,null,null,null,null,null,null,null,"",{"$f":"IF($D231=\"\",\"\",SUM(#REF!,#REF!,#REF!,#REF!,#REF!,#REF!))","v":""}]
[null,null,null,null,null,null,null,null,null,null,null,"",{"$f":"IF($D232=\"\",\"\",SUM(#REF!,#REF!,#REF!,#REF!,#REF!,#REF!))","v":""}]
[null,null,null,null,null,null,null,null,null,null,null,"",{"$f":"IF($D233=\"\",\"\",SUM(#REF!,#REF!,#REF!,#REF!,#REF!,#REF!))","v":""}]
[null,null,null,null,null,null,null,null,null,null,null,"",{"$f":"IF($D234=\"\",\"\",SUM(#REF!,#REF!,#REF!,#REF!,#REF!,#REF!))","v":""}]
[null,null,null,null,null,null,null,null,null,null,null,"",{"$f":"IF($D235=\"\",\"\",SUM(#REF!,#REF!,#REF!,#REF!,#REF!,#REF!))","v":""}]
[null,null,null,null,null,null,null,null,null,null,null,"",{"$f":"IF($D236=\"\",\"\",SUM(#REF!,#REF!,#REF!,#REF!,#REF!,#REF!))","v":""}]
[null,null,null,null,null,null,null,null,null,null,null,{"$f":"IF($D237=\"\",\"\",SUM(F237,G237,H237,I237,J237,K237))","v":""},{"$f":"IF($D237=\"\",\"\",SUM(#REF!,#REF!,#REF!,#REF!,#REF!,#REF!))","v":""}]
[null,null,null,null,null,null,null,null,null,null,null,"",{"$f":"IF($D238=\"\",\"\",SUM(#REF!,#REF!,#REF!,#REF!,#REF!,#REF!))","v":""}]
[null,null,null,null,null,null,null,null,null,null,null,"",{"$f":"IF($D239=\"\",\"\",SUM(#REF!,#REF!,#REF!,#REF!,#REF!,#REF!))","v":""}]
[null,null,null,null,null,null,null,null,null,null,null,"",{"$f":"IF($D240=\"\",\"\",SUM(#REF!,#REF!,#REF!,#REF!,#REF!,#REF!))","v":""}]
[null,null,null,null,null,null,null,null,null,null,null,"",{"$f":"IF($D241=\"\",\"\",SUM(#REF!,#REF!,#REF!,#REF!,#REF!,#REF!))","v":""}]
[null,null,null,null,null,null,null,null,null,null,null,"",{"$f":"IF($D242=\"\",\"\",SUM(#REF!,#REF!,#REF!,#REF!,#REF!,#REF!))","v":""}]
[null,null,null,null,null,null,null,null,null,null,null,"",{"$f":"IF($D243=\"\",\"\",SUM(#REF!,#REF!,#REF!,#REF!,#REF!,#REF!))","v":""}]
[null,null,null,null,null,null,null,null,null,null,null,"",{"$f":"IF($D244=\"\",\"\",SUM(#REF!,#REF!,#REF!,#REF!,#REF!,#REF!))","v":""}]
[null,null,null,null,null,null,null,null,null,null,null,"",{"$f":"IF($D245=\"\",\"\",SUM(#REF!,#REF!,#REF!,#REF!,#REF!,#REF!))","v":""}]
[null,null,null,null,null,null,null,null,null,null,null,"",{"$f":"IF($D246=\"\",\"\",SUM(#REF!,#REF!,#REF!,#REF!,#REF!,#REF!))","v":""}]
[null,null,null,null,null,null,null,null,null,null,null,"",{"$f":"IF($D247=\"\",\"\",SUM(#REF!,#REF!,#REF!,#REF!,#REF!,#REF!))","v":""}]
[null,null,null,null,null,null,null,null,null,null,null,"",{"$f":"IF($D248=\"\",\"\",SUM(#REF!,#REF!,#REF!,#REF!,#REF!,#REF!))","v":""}]
[null,null,null,null,null,null,null,null,null,null,null,"",{"$f":"IF($D249=\"\",\"\",SUM(#REF!,#REF!,#REF!,#REF!,#REF!,#REF!))","v":""}]
[null,null,null,null,null,null,null,null,null,null,null,"",{"$f":"IF($D250=\"\",\"\",SUM(#REF!,#REF!,#REF!,#REF!,#REF!,#REF!))","v":""}]
[null,null,null,null,null,null,null,null,null,null,null,"",{"$f":"IF($D251=\"\",\"\",SUM(#REF!,#REF!,#REF!,#REF!,#REF!,#REF!))","v":""}]